BEGIN:VCALENDAR
VERSION:2.0
PRODID:-//Boy Scout Troop 58 - Ashburn, VA - ECPv6.15.20//NONSGML v1.0//EN
CALSCALE:GREGORIAN
METHOD:PUBLISH
X-WR-CALNAME:Boy Scout Troop 58 - Ashburn, VA
X-ORIGINAL-URL:https://troop58ashburn.camp
X-WR-CALDESC:Events for Boy Scout Troop 58 - Ashburn, VA
REFRESH-INTERVAL;VALUE=DURATION:PT1H
X-Robots-Tag:noindex
X-PUBLISHED-TTL:PT1H
BEGIN:VTIMEZONE
TZID:America/New_York
BEGIN:DAYLIGHT
TZOFFSETFROM:-0500
TZOFFSETTO:-0400
TZNAME:EDT
DTSTART:20250309T070000
END:DAYLIGHT
BEGIN:STANDARD
TZOFFSETFROM:-0400
TZOFFSETTO:-0500
TZNAME:EST
DTSTART:20251102T060000
END:STANDARD
BEGIN:DAYLIGHT
TZOFFSETFROM:-0500
TZOFFSETTO:-0400
TZNAME:EDT
DTSTART:20260308T070000
END:DAYLIGHT
BEGIN:STANDARD
TZOFFSETFROM:-0400
TZOFFSETTO:-0500
TZNAME:EST
DTSTART:20261101T060000
END:STANDARD
BEGIN:DAYLIGHT
TZOFFSETFROM:-0500
TZOFFSETTO:-0400
TZNAME:EDT
DTSTART:20270314T070000
END:DAYLIGHT
BEGIN:STANDARD
TZOFFSETFROM:-0400
TZOFFSETTO:-0500
TZNAME:EST
DTSTART:20271107T060000
END:STANDARD
END:VTIMEZONE
BEGIN:VEVENT
DTSTART;TZID=America/New_York:20260106T193000
DTEND;TZID=America/New_York:20260106T204500
DTSTAMP:20260425T094340
CREATED:20250701T231502Z
LAST-MODIFIED:20250902T201516Z
UID:9444-1767727800-1767732300@troop58ashburn.camp
SUMMARY:Patrol Leader's Council (PLC)
DESCRIPTION:Monthly meeting of the Patrol Leader’s Council (Scouts who hold elected leadership positions).Uniforms not necessary.
URL:https://troop58ashburn.camp/event-2/patrol-leaders-council-plc-7/
LOCATION:Ashburn Volunteer Fire and Rescue Department\, 20688 Ashburn Rd\, Ashburn\, VA\, United States
END:VEVENT
BEGIN:VEVENT
DTSTART;TZID=America/New_York:20260114T193000
DTEND;TZID=America/New_York:20260114T203000
DTSTAMP:20260425T094340
CREATED:20240506T211804Z
LAST-MODIFIED:20250902T201516Z
UID:8186-1768419000-1768422600@troop58ashburn.camp
SUMMARY:Order of the Arrow meeting
DESCRIPTION:
URL:https://troop58ashburn.camp/event-2/order-of-the-arrow-meeting-88/
LOCATION:Leesburg United Methodist Church\, 107 W Market St\, Leesburg\, VA\, United States
END:VEVENT
BEGIN:VEVENT
DTSTART;TZID=America/New_York:20260114T193000
DTEND;TZID=America/New_York:20260114T210000
DTSTAMP:20260425T094340
CREATED:20240506T211804Z
LAST-MODIFIED:20250902T201517Z
UID:8187-1768419000-1768424400@troop58ashburn.camp
SUMMARY:Goose Creek District Roundtable
DESCRIPTION:See https://www.ncacbsa.org/goose-creek/roundtable/ for more info.
URL:https://troop58ashburn.camp/event-2/goose-creek-district-roundtable-86/
LOCATION:Leesburg United Methodist Church\, 107 W Market St\, Leesburg\, VA\, United States
END:VEVENT
BEGIN:VEVENT
DTSTART;TZID=America/New_York:20260116T000000
DTEND;TZID=America/New_York:20260119T220000
DTSTAMP:20260425T094341
CREATED:20250408T195438Z
LAST-MODIFIED:20250902T201517Z
UID:9266-1768521600-1768860000@troop58ashburn.camp
SUMMARY:Okpik
DESCRIPTION:Okpik Paceholder
URL:https://troop58ashburn.camp/event-2/okpik/
LOCATION:VA
END:VEVENT
BEGIN:VEVENT
DTSTART;TZID=America/New_York:20260123T173000
DTEND;TZID=America/New_York:20260125T110000
DTSTAMP:20260425T094341
CREATED:20250816T200001Z
LAST-MODIFIED:20250902T201517Z
UID:9634-1769189400-1769338800@troop58ashburn.camp
SUMMARY:Hold - Freeze-o-Ree
DESCRIPTION:Freeze-o-Ree dates
URL:https://troop58ashburn.camp/event-2/freeze-o-ree-2/
LOCATION:Camp Snyder
END:VEVENT
END:VCALENDAR