BEGIN:VCALENDAR
VERSION:2.0
PRODID:-//Boy Scout Troop 58 - Ashburn, VA - ECPv6.15.20//NONSGML v1.0//EN
CALSCALE:GREGORIAN
METHOD:PUBLISH
X-WR-CALNAME:Boy Scout Troop 58 - Ashburn, VA
X-ORIGINAL-URL:https://troop58ashburn.camp
X-WR-CALDESC:Events for Boy Scout Troop 58 - Ashburn, VA
REFRESH-INTERVAL;VALUE=DURATION:PT1H
X-Robots-Tag:noindex
X-PUBLISHED-TTL:PT1H
BEGIN:VTIMEZONE
TZID:America/New_York
BEGIN:DAYLIGHT
TZOFFSETFROM:-0500
TZOFFSETTO:-0400
TZNAME:EDT
DTSTART:20240310T070000
END:DAYLIGHT
BEGIN:STANDARD
TZOFFSETFROM:-0400
TZOFFSETTO:-0500
TZNAME:EST
DTSTART:20241103T060000
END:STANDARD
BEGIN:DAYLIGHT
TZOFFSETFROM:-0500
TZOFFSETTO:-0400
TZNAME:EDT
DTSTART:20250309T070000
END:DAYLIGHT
BEGIN:STANDARD
TZOFFSETFROM:-0400
TZOFFSETTO:-0500
TZNAME:EST
DTSTART:20251102T060000
END:STANDARD
BEGIN:DAYLIGHT
TZOFFSETFROM:-0500
TZOFFSETTO:-0400
TZNAME:EDT
DTSTART:20260308T070000
END:DAYLIGHT
BEGIN:STANDARD
TZOFFSETFROM:-0400
TZOFFSETTO:-0500
TZNAME:EST
DTSTART:20261101T060000
END:STANDARD
END:VTIMEZONE
BEGIN:VEVENT
DTSTART;TZID=America/New_York:20251202T193000
DTEND;TZID=America/New_York:20251202T204500
DTSTAMP:20260425T112300
CREATED:20250701T231502Z
LAST-MODIFIED:20250902T201515Z
UID:9443-1764703800-1764708300@troop58ashburn.camp
SUMMARY:Patrol Leader's Council (PLC)
DESCRIPTION:Monthly meeting of the Patrol Leader’s Council (Scouts who hold elected leadership positions).Uniforms not necessary.
URL:https://troop58ashburn.camp/event-2/patrol-leaders-council-plc-6/
LOCATION:Ashburn Volunteer Fire and Rescue Department\, 20688 Ashburn Rd\, Ashburn\, VA\, United States
END:VEVENT
BEGIN:VEVENT
DTSTART;TZID=America/New_York:20251209T193000
DTEND;TZID=America/New_York:20251209T204500
DTSTAMP:20260425T112300
CREATED:20250702T231514Z
LAST-MODIFIED:20250902T201515Z
UID:9506-1765308600-1765313100@troop58ashburn.camp
SUMMARY:Troop Meeting
DESCRIPTION:Troop 58 regular weekly Troop meeting.We meet every week on Tuesday except for the first Tuesday of the month with is reserved for the Patrol Leader’s Council (PLC) for Scouts with elected leadership positions.
URL:https://troop58ashburn.camp/event-2/troop-meeting-254/
LOCATION:Ashburn Volunteer Fire and Rescue Department\, 20688 Ashburn Rd\, Ashburn\, VA\, United States
END:VEVENT
BEGIN:VEVENT
DTSTART;TZID=America/New_York:20251210T193000
DTEND;TZID=America/New_York:20251210T203000
DTSTAMP:20260425T112300
CREATED:20240506T211803Z
LAST-MODIFIED:20250902T201516Z
UID:8184-1765395000-1765398600@troop58ashburn.camp
SUMMARY:Order of the Arrow meeting
DESCRIPTION:
URL:https://troop58ashburn.camp/event-2/order-of-the-arrow-meeting-87/
LOCATION:Leesburg United Methodist Church\, 107 W Market St\, Leesburg\, VA\, United States
END:VEVENT
BEGIN:VEVENT
DTSTART;TZID=America/New_York:20251210T193000
DTEND;TZID=America/New_York:20251210T210000
DTSTAMP:20260425T112300
CREATED:20240506T211804Z
LAST-MODIFIED:20250902T201516Z
UID:8185-1765395000-1765400400@troop58ashburn.camp
SUMMARY:Goose Creek District Roundtable
DESCRIPTION:See https://www.ncacbsa.org/goose-creek/roundtable/ for more info.
URL:https://troop58ashburn.camp/event-2/goose-creek-district-roundtable-85/
LOCATION:Leesburg United Methodist Church\, 107 W Market St\, Leesburg\, VA\, United States
END:VEVENT
BEGIN:VEVENT
DTSTART;TZID=America/New_York:20251216T193000
DTEND;TZID=America/New_York:20251216T204500
DTSTAMP:20260425T112300
CREATED:20250702T231514Z
LAST-MODIFIED:20250902T201516Z
UID:9507-1765913400-1765917900@troop58ashburn.camp
SUMMARY:Troop Meeting
DESCRIPTION:Troop 58 regular weekly Troop meeting.We meet every week on Tuesday except for the first Tuesday of the month with is reserved for the Patrol Leader’s Council (PLC) for Scouts with elected leadership positions.
URL:https://troop58ashburn.camp/event-2/troop-meeting-255/
LOCATION:Ashburn Volunteer Fire and Rescue Department\, 20688 Ashburn Rd\, Ashburn\, VA\, United States
END:VEVENT
BEGIN:VEVENT
DTSTART;TZID=America/New_York:20251226T173000
DTEND;TZID=America/New_York:20251230T113000
DTSTAMP:20260425T112300
CREATED:20250208T225328Z
LAST-MODIFIED:20250902T201516Z
UID:9127-1766770200-1767094200@troop58ashburn.camp
SUMMARY:Winter Quarters lock in
DESCRIPTION:
URL:https://troop58ashburn.camp/event-2/winter-quarters-lock-in/
LOCATION:VA
END:VEVENT
END:VCALENDAR