BEGIN:VCALENDAR
VERSION:2.0
PRODID:-//Boy Scout Troop 58 - Ashburn, VA - ECPv6.15.20//NONSGML v1.0//EN
CALSCALE:GREGORIAN
METHOD:PUBLISH
X-WR-CALNAME:Boy Scout Troop 58 - Ashburn, VA
X-ORIGINAL-URL:https://troop58ashburn.camp
X-WR-CALDESC:Events for Boy Scout Troop 58 - Ashburn, VA
REFRESH-INTERVAL;VALUE=DURATION:PT1H
X-Robots-Tag:noindex
X-PUBLISHED-TTL:PT1H
BEGIN:VTIMEZONE
TZID:America/New_York
BEGIN:DAYLIGHT
TZOFFSETFROM:-0500
TZOFFSETTO:-0400
TZNAME:EDT
DTSTART:20240310T070000
END:DAYLIGHT
BEGIN:STANDARD
TZOFFSETFROM:-0400
TZOFFSETTO:-0500
TZNAME:EST
DTSTART:20241103T060000
END:STANDARD
BEGIN:DAYLIGHT
TZOFFSETFROM:-0500
TZOFFSETTO:-0400
TZNAME:EDT
DTSTART:20250309T070000
END:DAYLIGHT
BEGIN:STANDARD
TZOFFSETFROM:-0400
TZOFFSETTO:-0500
TZNAME:EST
DTSTART:20251102T060000
END:STANDARD
BEGIN:DAYLIGHT
TZOFFSETFROM:-0500
TZOFFSETTO:-0400
TZNAME:EDT
DTSTART:20260308T070000
END:DAYLIGHT
BEGIN:STANDARD
TZOFFSETFROM:-0400
TZOFFSETTO:-0500
TZNAME:EST
DTSTART:20261101T060000
END:STANDARD
END:VTIMEZONE
BEGIN:VEVENT
DTSTART;TZID=America/New_York:20250527T193000
DTEND;TZID=America/New_York:20250527T203000
DTSTAMP:20260424T124230
CREATED:20250111T210539Z
LAST-MODIFIED:20250515T214658Z
UID:8987-1748374200-1748377800@troop58ashburn.camp
SUMMARY:Troop Meeting
DESCRIPTION:This is our Troop Meeting.  We meet every week except for the first Tuesday of each month\, which is when the PLC meets.  
URL:https://troop58ashburn.camp/event-2/troop-meeting-234/
LOCATION:Ashburn Volunteer Fire and Rescue Department\, 20688 Ashburn Rd\, Ashburn\, VA\, United States
END:VEVENT
BEGIN:VEVENT
DTSTART;TZID=America/New_York:20250527T193000
DTEND;TZID=America/New_York:20250527T203000
DTSTAMP:20260424T124230
CREATED:20240703T181520Z
LAST-MODIFIED:20250527T215957Z
UID:8467-1748374200-1748377800@troop58ashburn.camp
SUMMARY:Court of Honor
DESCRIPTION:Please join us for our Spring Court of Honor to recognize Scouts who have earned a new rank or merit badge(s) since our last Court of Honor. Families are encouraged to attend to support Scouts in their advancement journeys.PLC members should arrive at 7:00pm to help set up.The ceremony will begin at 7:30pm with refreshments immediately following.(Refreshments provided by the Troop – no need to bring anything.)Please wear full Class A (including MB sash if you have one).
URL:https://troop58ashburn.camp/event-2/court-of-honor-6/
LOCATION:St. David’s Episcopal Church\, 43600 Russel Branch Pkwy\, Ashburn\, VA\, 20147\, United States
END:VEVENT
BEGIN:VEVENT
DTSTART;TZID=America/New_York:20250527T190000
DTEND;TZID=America/New_York:20250527T200000
DTSTAMP:20260424T124230
CREATED:20250527T215950Z
LAST-MODIFIED:20250527T215957Z
UID:9346-1748372400-1748376000@troop58ashburn.camp
SUMMARY:New Parent Meeting - before Tuesday’s Court of Honor
DESCRIPTION:We will have a quick meeting for new scout parents before the Court of Honor at Saint David’s: 43600 Russell Branch Parkway\, Ashburn\, VA 20147We will meet in the Adult Education Room back the hallway past the restrooms.
URL:https://troop58ashburn.camp/event-2/new-parent-meeting-before-tuesdays-court-of-honor/
LOCATION:St. David’s Episcopal Church\, 43600 Russel Branch Pkwy\, Ashburn\, VA\, 20147\, United States
END:VEVENT
BEGIN:VEVENT
DTSTART;TZID=America/New_York:20250523T173000
DTEND;TZID=America/New_York:20250525T123000
DTSTAMP:20260424T124230
CREATED:20250502T210023Z
LAST-MODIFIED:20250524T220023Z
UID:9311-1748021400-1748176200@troop58ashburn.camp
SUMMARY:CANCELLED:  White Water Rafting Campout
DESCRIPTION:Please join Troop 58 for a White Water Rafting Adventure!The troop will be returning to Ohiopyle\, PA and rafting the famous Youghiogheny River (locals call it the “Yok”).  The Lower Yough is famous in the whitewater rafting community for its exciting rapids and beautiful scenery.  The Yough is a processional river used by olympians because of the consistent flow of the water. It’s one of the best white water rafting rivers in the country so I highly recommend you sign up.Check out this video compiled from prior year White Water Rafting trips:     This year we will be camping at OHIOPYLE STATE PARK\, PA.  This campsite is a past favorite and includes access to a bathhouse with showers.PA State Parks – OhiopyleDeparture will be 5:30 PM from Trailside MS.  Remember to bring your Friday dinner with you in hand.  This is a popular event for the Troop so we may need help from extra drivers who would enjoy camping with us.  On Saturday afternoon ( 1:00 PM) we will depart on a 7.5 mile white water rafting trip on the Lower Youghiogheny River.  The trip will take approximately 3 hours and include Class II-IV rapids.  The outfitter will provide a guide with each raft.  Towels and dry clothes can be left in cars at the outfitter for use on return.https://www.wilderness-voyageurs.comScouts and adults must RSVP for this trip by Sunday\, May 13th so that we can get final headcount to the raft company on Monday May 14th.Cost will be $125 including rafting\, campsite fees and food.In addition to the BSA Permission Form at the Troop Track link below\, all rafters must complete the Wilderness Voyagers  online waiver below prior to Trailside departure. LINK TO BE ADDEDIf you have any questions or concerns about this campout\, please do not hesitate to reach out to the scout lead – Peyton Khalili – or the adult lead – Mrs. Yuhas. 
URL:https://troop58ashburn.camp/event-2/white-water-rafting-campout-2/
LOCATION:Ohiopyle\, PA
END:VEVENT
BEGIN:VEVENT
DTSTART;TZID=America/New_York:20250520T193000
DTEND;TZID=America/New_York:20250520T203000
DTSTAMP:20260424T124230
CREATED:20250111T210538Z
LAST-MODIFIED:20250520T220025Z
UID:8986-1747769400-1747773000@troop58ashburn.camp
SUMMARY:Troop Meeting
DESCRIPTION:This is our Troop Meeting.  We meet every week except for the first Tuesday of each month\, which is when the PLC meets.  
URL:https://troop58ashburn.camp/event-2/troop-meeting-233/
LOCATION:Ashburn Volunteer Fire and Rescue Department\, 20688 Ashburn Rd\, Ashburn\, VA\, United States
END:VEVENT
BEGIN:VEVENT
DTSTART;TZID=America/New_York:20250516T180000
DTEND;TZID=America/New_York:20250518T100000
DTSTAMP:20260424T124230
CREATED:20250112T210501Z
LAST-MODIFIED:20250517T214551Z
UID:9025-1747418400-1747562400@troop58ashburn.camp
SUMMARY:OA Conclave
DESCRIPTION:OA Section ConclaveBroad Creek Memorial Scout Reservation1929 Susquehanna Hall Rd\, Whiteford\, MD 21160
URL:https://troop58ashburn.camp/event-2/oa-conclave/
LOCATION:Broad Creek Scout Reservation
END:VEVENT
BEGIN:VEVENT
DTSTART;TZID=America/New_York:20250514T193000
DTEND;TZID=America/New_York:20250514T210000
DTSTAMP:20260424T124230
CREATED:20240506T211800Z
LAST-MODIFIED:20250514T214700Z
UID:8171-1747251000-1747256400@troop58ashburn.camp
SUMMARY:Goose Creek District Roundtable
DESCRIPTION:See https://www.ncacbsa.org/goose-creek/roundtable/ for more info.
URL:https://troop58ashburn.camp/event-2/goose-creek-district-roundtable-78/
LOCATION:Belmont Ridge Middle School
END:VEVENT
BEGIN:VEVENT
DTSTART;TZID=America/New_York:20250514T193000
DTEND;TZID=America/New_York:20250514T203000
DTSTAMP:20260424T124230
CREATED:20240506T211759Z
LAST-MODIFIED:20250514T214700Z
UID:8170-1747251000-1747254600@troop58ashburn.camp
SUMMARY:Order of the Arrow meeting
DESCRIPTION:
URL:https://troop58ashburn.camp/event-2/order-of-the-arrow-meeting-80/
LOCATION:Belmont Ridge Middle School
END:VEVENT
BEGIN:VEVENT
DTSTART;TZID=America/New_York:20250513T193000
DTEND;TZID=America/New_York:20250513T210000
DTSTAMP:20260424T124230
CREATED:20250311T175340Z
LAST-MODIFIED:20250513T214610Z
UID:9203-1747164600-1747170000@troop58ashburn.camp
SUMMARY:Pool - Swim Test & Water Rescue Req'ts
DESCRIPTION:Instead of our regular meeting at the firehouse\, we will meet at Claude Moore Recreation Center for aquatics requirements.Scouts and registered adults will take the annual swim test ahead of summer camp and aquatics campouts (kayaking and whitewater). Scouts also will work on aquatics rescue rank requirements for 2nd and 1st Class.Troop 58 is renting 2 lanes in the pool\, so Scouts do NOT need to pay the entry fee for the rec center.RSVPs here in TroopTrack will be helpful to ensuring we can move everyone through the test and requirements as efficiently as possible.
URL:https://troop58ashburn.camp/event-2/pool-swim-test-water-rescue-reqts-2/
LOCATION:Claude Moore Recreation Center
END:VEVENT
BEGIN:VEVENT
DTSTART;TZID=America/New_York:20250513T193000
DTEND;TZID=America/New_York:20250513T203000
DTSTAMP:20260424T124230
CREATED:20250111T210538Z
LAST-MODIFIED:20250310T174119Z
UID:8984-1747164600-1747168200@troop58ashburn.camp
SUMMARY:Troop Meeting
DESCRIPTION:This is our Troop Meeting.  We meet every week except for the first Tuesday of each month\, which is when the PLC meets.  
URL:https://troop58ashburn.camp/event-2/troop-meeting-232/
LOCATION:Ashburn Volunteer Fire and Rescue Department\, 20688 Ashburn Rd\, Ashburn\, VA\, United States
END:VEVENT
BEGIN:VEVENT
DTSTART;TZID=America/New_York:20250510T170000
DTEND;TZID=America/New_York:20250510T180000
DTSTAMP:20260424T124230
CREATED:20250424T203008Z
LAST-MODIFIED:20250510T214514Z
UID:9293-1746896400-1746900000@troop58ashburn.camp
SUMMARY:Pack 1158 Crossover
DESCRIPTION:Pack 1158 Crossover @ Ashburn Elementary
URL:https://troop58ashburn.camp/event-2/hold-pack-1158-crossover/
LOCATION:Ashburn Elementary
END:VEVENT
BEGIN:VEVENT
DTSTART;TZID=America/New_York:20250506T193000
DTEND;TZID=America/New_York:20250506T203000
DTSTAMP:20260424T124230
CREATED:20250111T210538Z
LAST-MODIFIED:20250506T210053Z
UID:8983-1746559800-1746563400@troop58ashburn.camp
SUMMARY:Troop Committee Meeting
DESCRIPTION:Zoom Committee MeetingDavid Weitzel is inviting you to a scheduled Zoom meeting.Topic: Troop CommitteeTime: Jan 7\, 2025 07:30 PM Eastern Time (US and Canada)Join Zoom Meetinghttps://us04web.zoom.us/j/75697728926?pwd=MhCE0s516wyJLMEiaMKkUpLmBVuO0v.1Meeting ID: 756 9772 8926Passcode: RRA2YSAgenda- Recharter & re-registration- Recruiting – crossover outreach- Service projects- Treasurer- Scoutmaster- Upcoming campouts- Summer camp- New Business 
URL:https://troop58ashburn.camp/event-2/troop-committee-meeting-7/
LOCATION:Ashburn Volunteer Fire and Rescue Department\, 20688 Ashburn Rd\, Ashburn\, VA\, United States
END:VEVENT
BEGIN:VEVENT
DTSTART;TZID=America/New_York:20250506T193000
DTEND;TZID=America/New_York:20250506T203000
DTSTAMP:20260424T124230
CREATED:20250111T210537Z
LAST-MODIFIED:20250506T210053Z
UID:8982-1746559800-1746563400@troop58ashburn.camp
SUMMARY:PLC Meeting
DESCRIPTION:PLC Meeting at AVRFD
URL:https://troop58ashburn.camp/event-2/plc-meeting-57/
LOCATION:Ashburn Volunteer Rescue and Fire Dept
END:VEVENT
BEGIN:VEVENT
DTSTART;TZID=America/New_York:20250503T070000
DTEND;TZID=America/New_York:20250504T120000
DTSTAMP:20260424T124230
CREATED:20250111T210537Z
LAST-MODIFIED:20250503T210037Z
UID:8981-1746255600-1746360000@troop58ashburn.camp
SUMMARY:IOLS - Seneca - Gaithersburg MD
DESCRIPTION:Registration – https://scoutingevent.com/082-94100IOLS – As you know\, the Scouts BSA program emphasizes outdoor skills and adventures. Whether it’s a weekend campout\, a challenging hike\, or a skills-based activity\, the outdoors is where Scouts learn\, grow\, and thrive. To lead these activities effectively\, adult leaders need a strong foundation in outdoor skills\, and that’s why we have Introduction to Outdoor Leader Skills or IOLS.Why take the training for IOLS?IOLS is the required training course for all Scouts BSA leaders. It’s a requirement for any adult leader to be considered fully trained for their role in a Scouts BSA troop. Without IOLS\, leaders cannot be officially recognized as trained\, which limits their ability to support the troop’s outdoor program fully.Skill Mastery: You’ll learn essential skills like knot tying\, campsite setup\, first aid\, and using a map and compass — all skills needed to help Scouts advance from Tenderfoot to First Class.Expert Guidance: The course is led by experienced instructors who bring years of Scouting knowledge and practical outdoor experience\, providing you with valuable tips and insights.Networking and Growth: IOLS is an incredible opportunity to meet fellow Scouters\, share stories\, and learn from others’ experiences. The connections you make can help you grow within the Scouting movement and provide support as you continue your leadership journey.What are the benefits for you and your Scout Troop?Full Leader Training: Completing IOLS requires full training as a Scout’s BSA leader\, which allows you to effectively support your troop’s program.Confidence in Outdoor Leadership: You’ll gain the confidence to lead Scouts in outdoor activities\, knowing you have the skills and knowledge to handle various situations.Community and Support: By attending IOLS\, you’ll join a network of Scouters who are passionate about the outdoors and eager to share their experiences and knowledge.Investing your time in IOLS is crucial for your personal growth and the success of your troop. It’s a requirement for being a fully trained leader and an amazing opportunity to learn new skills\, build lasting connections\, and become a more effective guide for our Scouts. Join us for IOLS\, and let’s work together to deliver an outstanding outdoor program that helps our Scouts reach their full potential.Registration and Other DetailsCost: $40 per BSA Registered ScouterEquipment: A list of camping equipment will be provided for registrants.Time: Starts on Saturday\, 14 March 2025\, at 8:00 AM; ends on Sunday\, 15 March 2025\, at 12:00 PMPrerequisitesUp-to-date Youth Protection TrainingUp to date Hazardous Weather Training (BSA course SCO_800)Safe Swim Defense (BSA course SCO_801)Safety Afloat (BSA course SCO_802)These training courses are all available online at my.scouting.org under the “My Training” tab.Participants must provide documentation about completing the online courses; this can be done by:Print the certificates provided by training.scouting.org upon course completion and provide a copy when registering for the training course’s start date.Provide the electronic certificates via e-mail to the course directorAll participants must complete the BSA-Medical-Form-A&B. Please include a copy of your medical insurance\, as required. A printed copy of the medical forms must be brought to the campout and be provided during registration.NO DOCUMENTATION = NO TRAINING
URL:https://troop58ashburn.camp/event-2/iols-western-shore/
LOCATION:Izaak Walton League – Gaithersburg\, MD
END:VEVENT
BEGIN:VEVENT
DTSTART;TZID=America/New_York:20250502T173000
DTEND;TZID=America/New_York:20250504T110000
DTSTAMP:20260424T124230
CREATED:20250208T225324Z
LAST-MODIFIED:20250503T210036Z
UID:9121-1746207000-1746356400@troop58ashburn.camp
SUMMARY:Kayaking Campout
DESCRIPTION:Join Troop 58 for a kayaking adventure!We will be kayaking for 3 hours in the amazing Pohick Bay. We will camp near the bay in Pohick Bay regional park. The campground also has hiking trails. The camping trip will be very fun because there is a lot of nature in Pohick Bay such as bald eagles. The camping trip offers stunning views of the Pohick Bay\, with tranquil waters and picturesque landscapes making it the perfect place for a peaceful outing. The sheltered waters of Pohick Bay are perfect for beginners\, offering a calm and safe environment to learn and practice kayaking without strong currents.Kayaking in Pohick Bay gives you the chance to explore areas near historic landmarks from a unique water perspective. There is going to be a professional guide from Capital City Kayak that can teach you how to kayak if you don’t already know. You need to pass the BSA Swim Test to come to the kayaking campground. If you are 11 years old or younger you have to kayak in a tandem (two person) kayak with an adult.Suggested packing List for the 2025 Kayaking CampoutSleeping bagSleeping padMess kitWater bottleTentChairBug SpraySun screenExtra clothingRain jacketSwim suitClosed-toed shoes It costs a total of $129 which includes the campground\, the kayaks\, the guide\, and the food.Muster:As per usual we will meet Friday night at Trailside Middle School (TMS).  No meal is planned for Friday night so either eat before arrival at TMS or bring a bag dinner for your Friday night meal.Medication:If you need to take medication during the trip please ensure medication is clearly labelled with Scout name and dosage and (IMPORTANT) provide a separate 3×5 index card with clearly written instructions.  This card is kept separately from the medication and is used to plan and track administration.Return:Return time is approximate Troop will provide an update ETA to TMS when leaving the campsite Sunday morning.
URL:https://troop58ashburn.camp/event-2/kayaking-campout/
LOCATION:Pohick Bay
END:VEVENT
BEGIN:VEVENT
DTSTART;TZID=America/New_York:20250429T193000
DTEND;TZID=America/New_York:20250429T203000
DTSTAMP:20260424T124230
CREATED:20250409T195356Z
LAST-MODIFIED:20250429T204806Z
UID:9268-1745955000-1745958600@troop58ashburn.camp
SUMMARY:Board of Review - E.Kandikonda - Star rank
DESCRIPTION:
URL:https://troop58ashburn.camp/event-2/board-of-review-e-kandikonda-star-rank/
LOCATION:Ashburn Volunteer Fire and Rescue Department\, 20688 Ashburn Rd\, Ashburn\, VA\, United States
END:VEVENT
BEGIN:VEVENT
DTSTART;TZID=America/New_York:20250429T193000
DTEND;TZID=America/New_York:20250429T203000
DTSTAMP:20260424T124230
CREATED:20250111T210537Z
LAST-MODIFIED:20250429T204806Z
UID:8980-1745955000-1745958600@troop58ashburn.camp
SUMMARY:Troop Meeting
DESCRIPTION:This is our Troop Meeting.  We meet every week except for the first Tuesday of each month\, which is when the PLC meets.  
URL:https://troop58ashburn.camp/event-2/troop-meeting-231/
LOCATION:Ashburn Volunteer Fire and Rescue Department\, 20688 Ashburn Rd\, Ashburn\, VA\, United States
END:VEVENT
BEGIN:VEVENT
DTSTART;TZID=America/New_York:20250429T000000
DTEND;TZID=America/New_York:20250429T010000
DTSTAMP:20260424T124230
CREATED:20250129T222302Z
LAST-MODIFIED:20250428T204752Z
UID:9095-1745884800-1745888400@troop58ashburn.camp
SUMMARY:PLC election
DESCRIPTION:
URL:https://troop58ashburn.camp/event-2/plc-election/
END:VEVENT
BEGIN:VEVENT
DTSTART;TZID=America/New_York:20250426T100000
DTEND;TZID=America/New_York:20250426T130000
DTSTAMP:20260424T124230
CREATED:20250423T203030Z
LAST-MODIFIED:20250425T203123Z
UID:9290-1745661600-1745672400@troop58ashburn.camp
SUMMARY:Trailer Clean-up
DESCRIPTION:Please join me and the PLC at St. David’s for a much needed trailer clean out / clean up.Patrol leaders in particular are needed to organize and re-label their patrol boxes with their new patrol names.This is a great opportunity to help the Troop and to make sure that we can ‘be prepared” for our next campout.
URL:https://troop58ashburn.camp/event-2/trailer-clean-up/
LOCATION:St. David’s Episcopal Church\, 43600 Russel Branch Pkwy\, Ashburn\, VA\, 20147\, United States
END:VEVENT
BEGIN:VEVENT
DTSTART;TZID=America/New_York:20250426T000000
DTEND;TZID=America/New_York:20250426T010000
DTSTAMP:20260424T124230
CREATED:20250425T203113Z
LAST-MODIFIED:20250425T203123Z
UID:9297-1745625600-1745629200@troop58ashburn.camp
SUMMARY:Service Hours Oppty (Conservation)
DESCRIPTION:Service hours oppty on Sat\, Apr 26! Reminder to current Star rank Scouts – req’t 4 states that 3 of your 6 service hours must be conservation-related\, so this is a great oppty to serve and fulfill that part of the requirement.  Not a Troop-sponsored event\, so parents need to approve their Scout’s participation.If you attend\, please contact Mrs. Quinn after the event to confirm your participation and how long you served.Tree-Planting Event April 26\, 2025: Members of the public are invited to participate in a tree-planting event for the River Bend Stream & Outfall Restoration Project Saturday\, April 26\, 2025\, 9:00 a.m. – 2:00 p.m. Loudoun County will be planting about 500 trees of native species. Volunteers are welcome to help plant the trees. Anyone who would like to help plant trees should dress appropriately (gloves and older clothes). Anyone who wants to get in the stream should wear waders or muck boots\,  Stream monitors will be conducting benthic surveys\, the process for identifying insects and organisms inhabiting the stream. There will also be opportunities for litter clean up as well as self-guided stream tours.Parking will be at the River Bend Middle School parking lot\, 46240 Algonkian Parkway in Sterling\, 20165. The tree planting will take place a short distance away.Link to Project Site
URL:https://troop58ashburn.camp/event-2/service-hours-oppty-conservation/
LOCATION:River Bend Middle School 46240 Algonkian Parkway\, Sterling
END:VEVENT
BEGIN:VEVENT
DTSTART;TZID=America/New_York:20250425T180000
DTEND;TZID=America/New_York:20250427T100000
DTSTAMP:20260424T124230
CREATED:20250112T210500Z
LAST-MODIFIED:20250426T203711Z
UID:9017-1745604000-1745748000@troop58ashburn.camp
SUMMARY:OA Lodge Fellowship Weekend
DESCRIPTION:OA Lodge FellowshipRegistration – https://scoutingevent.com/082-93663Step on up! Spring Fellowship is an opportunity for Arrowmen from throughout the Lodge to come together for a weekend of fun\, outdoor activities\, and service to Camp Will B Snyder. This year\, we have an exciting program for all Arrowmen which includes tomahawk throwing\, branding\, carnivalgames\, and other fun activities! If you want to take advantage of the branding\, the lodge will have the totem for branding anything leather (belts\, wallets\, rounders\, etc.)\, baseball caps\, or wooden blocks. Please join us at Camp William B. Snyder April 25-27 for this great event!Please be reminded that the youth hold lodge level elections at Spring Fellowship. This is your opportunity to elect your lodge leadership team for the coming year and\, if so desired\, an opportunity to run for a leadership position.Spring Fellowship will be held at Camp William B. Snyder and we will be camping\, so bring your tent\, sleeping bag\, and other personal camping gear. Please eat your Friday dinner before you arrive\, since we will have only a cracker barrel that evening.Please note: If you are a Passport Holder\, you must register for Fellowship. There is a no-cost Passport Holder registrant type for you to select when registering. We typically get between 50 and 75% of Passport Holders that attend Fellowship\, so we need to know that you are coming to ensure we have sufficient food and other supplies.Registration This event is open to all members of Amangamek-Wipit Lodge.All registrations must be completed onlineGather this information before starting your registration:  BSA ID #\, OA chapter (your district)\, and Ordeal date (if you have been an Ordeal member for at least 6 months and are planning to become a Brotherhood member at this event)CostPassport HoldersNo additional charge\, but please complete the online registration process so we will know you are coming and select the no-charge Passport holder registration option.Members (Non-Passport Holders)$40 until Febuary 28\, 2025$45 starting March 1\, 2025New Arrowmen$30 – new Arrowmen (if you completed your Ordeal after August 1\, 2024) are eligible for this reduced fee! What to BringTent Sleeping bagScout uniformOA sashWork clothes and glovesFlashlightRain gearWater bottle with your name on itOther personal camping gear appropriate for the weatherBranding items (see above for potential items)Medications – All Scouts and Scouters are responsible for their own medications. No medications will be collected by event staff.Health Form – Download and complete the form for “All Scouting Events.” If you do not provide a completed medical form at check-in\, you will not be permitted to stay at this event.All meals will be in the Dining Hall\, so there is no need for a mess kitIf you need accommodations due to a medical condition that requires individual accommodations\, please contact Allison Black at apremo@yahoo.com.Brotherhood CandidatesA Brotherhood ceremony will be performed on Saturday. If you have been an Ordeal member for at least 6 months\, you are eligible to become a Brotherhood member. Check with your chapter chief or chapter adviser if you have any questions about your eligibility.If you have any questions\, feel free to email springfellowship@wipit470.org
URL:https://troop58ashburn.camp/event-2/oa-lodge-fellowship-weekend/
LOCATION:Camp Snyder
END:VEVENT
BEGIN:VEVENT
DTSTART;TZID=America/New_York:20250422T193000
DTEND;TZID=America/New_York:20250422T203000
DTSTAMP:20260424T124230
CREATED:20250318T182300Z
LAST-MODIFIED:20250422T203033Z
UID:9222-1745350200-1745353800@troop58ashburn.camp
SUMMARY:Board of Review - V.Natarajan - Life rank
DESCRIPTION:
URL:https://troop58ashburn.camp/event-2/board-of-review-v-natarajan-life-rank/
LOCATION:Ashburn Volunteer Fire and Rescue Department\, 20688 Ashburn Rd\, Ashburn\, VA\, United States
END:VEVENT
BEGIN:VEVENT
DTSTART;TZID=America/New_York:20250422T193000
DTEND;TZID=America/New_York:20250422T203000
DTSTAMP:20260424T124230
CREATED:20250111T210537Z
LAST-MODIFIED:20250422T203033Z
UID:8979-1745350200-1745353800@troop58ashburn.camp
SUMMARY:Troop Meeting
DESCRIPTION:This is our Troop Meeting.  We meet every week except for the first Tuesday of each month\, which is when the PLC meets.  
URL:https://troop58ashburn.camp/event-2/troop-meeting-230/
LOCATION:Ashburn Volunteer Fire and Rescue Department\, 20688 Ashburn Rd\, Ashburn\, VA\, United States
END:VEVENT
BEGIN:VEVENT
DTSTART;VALUE=DATE:20250412
DTEND;VALUE=DATE:20250421
DTSTAMP:20260424T124230
CREATED:20241203T173450Z
LAST-MODIFIED:20250420T201512Z
UID:8898-1744416000-1745193599@troop58ashburn.camp
SUMMARY:LCPS spring break
DESCRIPTION:
URL:https://troop58ashburn.camp/event-2/lcps-spring-break/
END:VEVENT
BEGIN:VEVENT
DTSTART;TZID=America/New_York:20250411T120000
DTEND;TZID=America/New_York:20250418T130000
DTSTAMP:20260424T124230
CREATED:20250208T225323Z
LAST-MODIFIED:20250417T200028Z
UID:9120-1744372800-1744981200@troop58ashburn.camp
SUMMARY:Sea Base
DESCRIPTION:
URL:https://troop58ashburn.camp/event-2/sea-base/
LOCATION:Sea Base\, FL
END:VEVENT
BEGIN:VEVENT
DTSTART;TZID=America/New_York:20250409T193000
DTEND;TZID=America/New_York:20250409T210000
DTSTAMP:20260424T124230
CREATED:20240506T211759Z
LAST-MODIFIED:20250409T195407Z
UID:8169-1744227000-1744232400@troop58ashburn.camp
SUMMARY:Goose Creek District Roundtable
DESCRIPTION:See https://www.ncacbsa.org/goose-creek/roundtable/ for more info.
URL:https://troop58ashburn.camp/event-2/goose-creek-district-roundtable-77/
LOCATION:Belmont Ridge Middle School
END:VEVENT
BEGIN:VEVENT
DTSTART;TZID=America/New_York:20250409T193000
DTEND;TZID=America/New_York:20250409T203000
DTSTAMP:20260424T124230
CREATED:20240506T211759Z
LAST-MODIFIED:20250409T195406Z
UID:8168-1744227000-1744230600@troop58ashburn.camp
SUMMARY:Order of the Arrow meeting
DESCRIPTION:
URL:https://troop58ashburn.camp/event-2/order-of-the-arrow-meeting-79/
LOCATION:Belmont Ridge Middle School
END:VEVENT
BEGIN:VEVENT
DTSTART;TZID=America/New_York:20250408T193000
DTEND;TZID=America/New_York:20250408T210000
DTSTAMP:20260424T124230
CREATED:20250311T175338Z
LAST-MODIFIED:20250408T195430Z
UID:9202-1744140600-1744146000@troop58ashburn.camp
SUMMARY:Pool - Swim Test & Water Rescue Req'ts
DESCRIPTION:Instead of our regular meeting at the firehouse\, we will meet at Claude Moore Recreation Center for aquatics requirements.Scouts and registered adults will take the annual swim test ahead of summer camp and aquatics campouts (kayaking and whitewater). Scouts also will work on aquatics rescue rank requirements for 2nd and 1st Class.Troop 58 is renting 2 lanes in the pool\, so Scouts do NOT need to pay the entry fee for the rec center.RSVPs here in TroopTrack will be helpful to ensuring we can move everyone through the test and requirements as efficiently as possible.
URL:https://troop58ashburn.camp/event-2/pool-swim-test-water-rescue-reqts/
LOCATION:Claude Moore Recreation Center
END:VEVENT
BEGIN:VEVENT
DTSTART;TZID=America/New_York:20250408T193000
DTEND;TZID=America/New_York:20250408T203000
DTSTAMP:20260424T124230
CREATED:20250111T210537Z
LAST-MODIFIED:20250310T174117Z
UID:8978-1744140600-1744144200@troop58ashburn.camp
SUMMARY:Troop Meeting
DESCRIPTION:This is our Troop Meeting.  We meet every week except for the first Tuesday of each month\, which is when the PLC meets.  
URL:https://troop58ashburn.camp/event-2/troop-meeting-229/
LOCATION:Ashburn Volunteer Fire and Rescue Department\, 20688 Ashburn Rd\, Ashburn\, VA\, United States
END:VEVENT
BEGIN:VEVENT
DTSTART;TZID=America/New_York:20250405T100000
DTEND;TZID=America/New_York:20250405T110000
DTSTAMP:20260424T124230
CREATED:20250113T210702Z
LAST-MODIFIED:20250307T172318Z
UID:9045-1743847200-1743850800@troop58ashburn.camp
SUMMARY:New Scout Campout
DESCRIPTION:
URL:https://troop58ashburn.camp/event-2/new-scout-campout-2/
END:VEVENT
END:VCALENDAR