BEGIN:VCALENDAR
VERSION:2.0
PRODID:-//Boy Scout Troop 58 - Ashburn, VA - ECPv6.15.20//NONSGML v1.0//EN
CALSCALE:GREGORIAN
METHOD:PUBLISH
X-WR-CALNAME:Boy Scout Troop 58 - Ashburn, VA
X-ORIGINAL-URL:https://troop58ashburn.camp
X-WR-CALDESC:Events for Boy Scout Troop 58 - Ashburn, VA
REFRESH-INTERVAL;VALUE=DURATION:PT1H
X-Robots-Tag:noindex
X-PUBLISHED-TTL:PT1H
BEGIN:VTIMEZONE
TZID:America/New_York
BEGIN:DAYLIGHT
TZOFFSETFROM:-0500
TZOFFSETTO:-0400
TZNAME:EDT
DTSTART:20240310T070000
END:DAYLIGHT
BEGIN:STANDARD
TZOFFSETFROM:-0400
TZOFFSETTO:-0500
TZNAME:EST
DTSTART:20241103T060000
END:STANDARD
BEGIN:DAYLIGHT
TZOFFSETFROM:-0500
TZOFFSETTO:-0400
TZNAME:EDT
DTSTART:20250309T070000
END:DAYLIGHT
BEGIN:STANDARD
TZOFFSETFROM:-0400
TZOFFSETTO:-0500
TZNAME:EST
DTSTART:20251102T060000
END:STANDARD
BEGIN:DAYLIGHT
TZOFFSETFROM:-0500
TZOFFSETTO:-0400
TZNAME:EDT
DTSTART:20260308T070000
END:DAYLIGHT
BEGIN:STANDARD
TZOFFSETFROM:-0400
TZOFFSETTO:-0500
TZNAME:EST
DTSTART:20261101T060000
END:STANDARD
END:VTIMEZONE
BEGIN:VEVENT
DTSTART;TZID=America/New_York:20250722T193000
DTEND;TZID=America/New_York:20250722T203000
DTSTAMP:20260423T155849
CREATED:20250717T174649Z
LAST-MODIFIED:20250722T180137Z
UID:9552-1753212600-1753216200@troop58ashburn.camp
SUMMARY:ASPL Election
DESCRIPTION:Our semi-annual election for ASPL scheduled for this day.  If you plan on running for ASPL\, please notify Sam Wall\, Velan Natarajan\, and SM Grabins\, and also come prepared with a speech.
URL:https://troop58ashburn.camp/event-2/aspl-election-4/
LOCATION:Ashburn Volunteer Fire and Rescue Department\, 20688 Ashburn Rd\, Ashburn\, VA\, United States
END:VEVENT
BEGIN:VEVENT
DTSTART;TZID=America/New_York:20250722T193000
DTEND;TZID=America/New_York:20250722T203000
DTSTAMP:20260423T155849
CREATED:20250618T224936Z
LAST-MODIFIED:20250722T180137Z
UID:9394-1753212600-1753216200@troop58ashburn.camp
SUMMARY:Board of Review - M.Liu - Star rank
DESCRIPTION:
URL:https://troop58ashburn.camp/event-2/board-of-review-m-liu-star-rank/
LOCATION:Ashburn Volunteer Fire and Rescue Department\, 20688 Ashburn Rd\, Ashburn\, VA\, United States
END:VEVENT
BEGIN:VEVENT
DTSTART;TZID=America/New_York:20250718T173000
DTEND;TZID=America/New_York:20250720T113000
DTSTAMP:20260423T155849
CREATED:20250208T225326Z
LAST-MODIFIED:20250719T180010Z
UID:9122-1752859800-1753011000@troop58ashburn.camp
SUMMARY:Ropes Course and White Water Rafting DOUBLE EVENT Campout
DESCRIPTION:Scouts!Since heavy rain and unsafe river conditions lead to canceling our May White Water Rafting trip the PLC has decided to DOUBLE UP in July!Troop 58 will do BOTH white water rafting and a ropes course during our July campout.We will be going to Historic Harpers Ferry and working with Harpers Ferry Adventure Center for Rafting\, Ropes and Camping.Read what HFAC has to say about their Ropes Course:Our professionally designed aerial ropes course delivers high adrenaline and thrills with over 60 obstacles on 3 levels and 2 auto belays! This two hour adventure ranges in heights from 10 to 40 feet off of the ground! This activity is great for families\, groups and adventure seekers! This trip begins within walking distance of our main building and our sister company\, Harpers Ferry Brewing! It is appropriate for ages 5 and 50 pounds and up. Each level does increase in difficulty! The higher you climb\, the more challenging the obstacles become! Closed toe shoes are required and no experience is necessary.Read what HFAC has to say about their Rafting Trip:Enjoy a fun and exciting ride on our Whitewater Rafting Trip\, which passes by historic Harpers Ferry and features Class I-III rapids on the Shenandoah and Potomac Rivers! This 2 to 3 hour guided tour offers beautiful views of three states and two mountain ranges!Permission and Waviers:Please complete the normal Troop Track permission slip and bring it to TMS on Friday.  Then also please complete this online waiver below:https://harpersferryadventurecenter.checkfront.com/reserve/document/?template_id=1&id=HQJR-040625Muster:As per usual we will meet Friday night at Trailside Middle School (TMS).  Please wear your Class A uniform shirt for travel to and from camp.  No meal is planned for Friday night so either eat before arrival at TMS or bring a bag dinner for your Friday night meal.Medication:If you need to take medication during the trip please ensure medication is clearly labelled with Scout name and dosage and (IMPORTANT) provide a separate 3×5 index card with clearly written instructions.  This card is kept separately from the medication and is used to plan and track administration.Return:Return time is approximate Troop will provide an update ETA to TMS when leaving the campsite Sunday morning.
URL:https://troop58ashburn.camp/event-2/ropes-course-campout/
LOCATION:Harpers Ferry Adventure Center – Purcellville\, VA
END:VEVENT
BEGIN:VEVENT
DTSTART;TZID=America/New_York:20250715T193000
DTEND;TZID=America/New_York:20250715T204500
DTSTAMP:20260423T155849
CREATED:20250702T231503Z
LAST-MODIFIED:20250715T173123Z
UID:9489-1752607800-1752612300@troop58ashburn.camp
SUMMARY:Troop Meeting
DESCRIPTION:Troop 58 regular weekly Troop meeting.We meet every week on Tuesday except for the first Tuesday of the month with is reserved for the Patrol Leader’s Council (PLC) for Scouts with elected leadership positions.
URL:https://troop58ashburn.camp/event-2/troop-meeting-238/
LOCATION:Ashburn Volunteer Fire and Rescue Department\, 20688 Ashburn Rd\, Ashburn\, VA\, United States
END:VEVENT
BEGIN:VEVENT
DTSTART;TZID=America/New_York:20250709T193000
DTEND;TZID=America/New_York:20250709T210000
DTSTAMP:20260423T155849
CREATED:20240506T211801Z
LAST-MODIFIED:20250709T173105Z
UID:8175-1752089400-1752094800@troop58ashburn.camp
SUMMARY:Goose Creek District Roundtable
DESCRIPTION:See https://www.ncacbsa.org/goose-creek/roundtable/ for more info.
URL:https://troop58ashburn.camp/event-2/goose-creek-district-roundtable-80/
LOCATION:Belmont Ridge Middle School
END:VEVENT
BEGIN:VEVENT
DTSTART;TZID=America/New_York:20250709T193000
DTEND;TZID=America/New_York:20250709T203000
DTSTAMP:20260423T155849
CREATED:20240506T211800Z
LAST-MODIFIED:20250709T173105Z
UID:8174-1752089400-1752093000@troop58ashburn.camp
SUMMARY:Order of the Arrow meeting
DESCRIPTION:
URL:https://troop58ashburn.camp/event-2/order-of-the-arrow-meeting-82/
LOCATION:Belmont Ridge Middle School
END:VEVENT
BEGIN:VEVENT
DTSTART;TZID=America/New_York:20250708T203000
DTEND;TZID=America/New_York:20250708T213000
DTSTAMP:20260423T155849
CREATED:20250707T171510Z
LAST-MODIFIED:20250708T171646Z
UID:9536-1752006600-1752010200@troop58ashburn.camp
SUMMARY:Board of Review - E.Winter - T'foot rank
DESCRIPTION:
URL:https://troop58ashburn.camp/event-2/board-of-review-e-winter-tfoot-rank/
LOCATION:Ashburn Volunteer Fire and Rescue Department\, 20688 Ashburn Rd\, Ashburn\, VA\, United States
END:VEVENT
BEGIN:VEVENT
DTSTART;TZID=America/New_York:20250708T193000
DTEND;TZID=America/New_York:20250708T204500
DTSTAMP:20260423T155849
CREATED:20250702T231502Z
LAST-MODIFIED:20250708T171645Z
UID:9488-1752003000-1752007500@troop58ashburn.camp
SUMMARY:Troop Meeting
DESCRIPTION:Troop 58 regular weekly Troop meeting.We meet every week on Tuesday except for the first Tuesday of the month with is reserved for the Patrol Leader’s Council (PLC) for Scouts with elected leadership positions.
URL:https://troop58ashburn.camp/event-2/troop-meeting-237/
LOCATION:Ashburn Volunteer Fire and Rescue Department\, 20688 Ashburn Rd\, Ashburn\, VA\, United States
END:VEVENT
BEGIN:VEVENT
DTSTART;TZID=America/New_York:20250708T193000
DTEND;TZID=America/New_York:20250708T203000
DTSTAMP:20260423T155849
CREATED:20250707T171509Z
LAST-MODIFIED:20250708T171645Z
UID:9535-1752003000-1752006600@troop58ashburn.camp
SUMMARY:Board of Review - L.Fry - T'foot rank
DESCRIPTION:
URL:https://troop58ashburn.camp/event-2/board-of-review-l-fry-tfoot-rank/
LOCATION:Ashburn Volunteer Fire and Rescue Department\, 20688 Ashburn Rd\, Ashburn\, VA\, United States
END:VEVENT
BEGIN:VEVENT
DTSTART;TZID=America/New_York:20250701T193000
DTEND;TZID=America/New_York:20250701T204500
DTSTAMP:20260423T155849
CREATED:20250701T231458Z
LAST-MODIFIED:20250701T231510Z
UID:9436-1751398200-1751402700@troop58ashburn.camp
SUMMARY:Patrol Leader's Council (PLC)
DESCRIPTION:Monthly meeting of the Patrol Leader’s Council (Scouts who hold elected leadership positions).Uniforms not necessary.
URL:https://troop58ashburn.camp/event-2/patrol-leaders-council-plc/
LOCATION:Ashburn Volunteer Fire and Rescue Department\, 20688 Ashburn Rd\, Ashburn\, VA\, United States
END:VEVENT
BEGIN:VEVENT
DTSTART;TZID=America/New_York:20250701T193000
DTEND;TZID=America/New_York:20250701T203000
DTSTAMP:20260423T155849
CREATED:20250629T231502Z
LAST-MODIFIED:20250701T231509Z
UID:9430-1751398200-1751401800@troop58ashburn.camp
SUMMARY:In-person Troop Committee Meeting
DESCRIPTION:Agenda: – Summer Camp review- Review New Scout campout @ Bears Den- Support for upcoming campouts -July – Ropes/whitewaterAugust – Lake (Codorus State Park or Pine Grove Furnace)September – Gettysburg- Support for PLC Annual Planning Meeting- High Adventure – 2026 Okpik2026 National Jamboree2027 Northern Tier?2028 Philmont?2028 World JamboreeAdvancement Report – Kathleen ranksSeptember COH & Pot LuckTreasurer’s Report – CharlesTroop Equipment –  trailer cleanup reportOA Report – Summer Ordeal- Chaplain’s  report  Service project planning New Business –Scoutmaster Report –  
URL:https://troop58ashburn.camp/event-2/in-person-troop-committee-meeting/
LOCATION:Ashburn Volunteer Fire and Rescue Department\, 20688 Ashburn Rd\, Ashburn\, VA\, United States
END:VEVENT
BEGIN:VEVENT
DTSTART;TZID=America/New_York:20250629T000000
DTEND;TZID=America/New_York:20250629T010000
DTSTAMP:20260423T155849
CREATED:20250619T225950Z
LAST-MODIFIED:20250628T231523Z
UID:9401-1751155200-1751158800@troop58ashburn.camp
SUMMARY:Due Sunday\, 6/29\, Order & pay $10 for “musket” for Gettysburg campout by June 29th
DESCRIPTION:Sunday\, 6/29\, is the last day to order & pay for “muskets”- If you intend on going on the September campout to Gettysburg and want a simulated ‘musket’ for the Saturday activities please accept this invite and Zelle $10 (Troop58.Zelle@gmail.com) to Troop 58 by June 29th. Only paid orders will be honored. To fulfill the orders\, we must submit the orders to the New Birth of Freedom Council at that time. We will pick up the “muskets” when we arrive at the campout in September.For those with woodworking skills\, you can craft your own musket. Templates and instructions for those who wish to make their own from scratch are available at the link below:    ◦    5′ replica template (https://newbirthoffreedom.org/wp-content/uploads/2025/02/Mock-Springfield-Rifle-5-Foot-Template.pdf)Note: The campout fee is likely to be $60 in addition to this $10 order. Sign up for the campout itself is a separate invite.
URL:https://troop58ashburn.camp/event-2/order-pay-10-for-musket-for-gettysburg-campout-by-june-29th/
LOCATION:Gettysburg
END:VEVENT
BEGIN:VEVENT
DTSTART;TZID=America/New_York:20250628T120000
DTEND;TZID=America/New_York:20250628T170000
DTSTAMP:20260423T155849
CREATED:20250620T225959Z
LAST-MODIFIED:20250627T231508Z
UID:9405-1751112000-1751130000@troop58ashburn.camp
SUMMARY:FULL: Waitlist Only - Radio Merit Badge with Loudoun Amateur Radio Group
DESCRIPTION:FULL – Waitlist Only – Saturday\, June 28 is HAM Radio Field Day. Field Day is an annual event where over 35\,000 HAM Radio operators set up simulated emergency locations across the United States and spend 24 hours making contacts and sending messages.The Loudoun Amateur Radio Group\, k4lrg.org\, is Loudoun County’s HAM radio club. They will be hosting a BSA Radio Merit Badge session from noon-5pm Saturday\, June 28\, in the Community Room at the Loudoun Sheriff’s Round Hill Station.  47 West Loudoun St.\, Round Hill\, VA\, 20141Attendees will be instructed on the Radio Merit Badge\, tour the site & equipment\, including satellite connections\, and have opportunities to operate HAM radio equipment to make contact with Field Day sites across the United States.Radio Merit Badge pamphlet – https://filestore.scouting.org/filestore/Merit_Badge_ReqandRes/Pamphlets/Radio_2025.pdf Radio Merit Badge workbook – http://usscouts.org/mb/worksheets/radio.pdfThis is not a Troop Event. You are a guest of the Loudoun Amateur Radio Group. Please follow the Oath & Law while their guest. Be respectful and safe around the equipment and the grounds of the Sheriff’s Station.Direct any questions to Mr. Weitzel\, call-sign KM4DLV
URL:https://troop58ashburn.camp/event-2/radio-merit-badge-with-loudoun-amateur-radio-group/
LOCATION:Loudoun Sheriff Round Hill Station\, 47 W Loudoun St\, Round Hill\, VA\, United States
END:VEVENT
BEGIN:VEVENT
DTSTART;TZID=America/New_York:20250624T193000
DTEND;TZID=America/New_York:20250624T210000
DTSTAMP:20260423T155849
CREATED:20250617T224550Z
LAST-MODIFIED:20250624T231525Z
UID:9389-1750793400-1750798800@troop58ashburn.camp
SUMMARY:Eagle Board of Review - Wyatt Blair
DESCRIPTION:
URL:https://troop58ashburn.camp/event-2/eagle-board-of-review-wyatt-blair/
LOCATION:St. David’s Episcopal Church\, 43600 Russel Branch Pkwy\, Ashburn\, VA\, 20147\, United States
END:VEVENT
BEGIN:VEVENT
DTSTART;TZID=America/New_York:20250622T103000
DTEND;TZID=America/New_York:20250622T113000
DTSTAMP:20260423T155849
CREATED:20250617T224549Z
LAST-MODIFIED:20250621T230011Z
UID:9388-1750588200-1750591800@troop58ashburn.camp
SUMMARY:Muster for Summer Camp
DESCRIPTION:Scouts\,Please gather at Trailside Middle School at 10:30am to depart for Summer Camp.  We plan to load gear into the trailer and depart by 11:00am.Please bring either a packed lunch or money to purchase lunch on the way.  The first meal available at camp will be Dinner Sunday night.Uniforms:Remember Troop 58 always wears Class A uniforms for travel.  You will also need your Class A for morning flags and for Dinner each evening.Medication:If you need to take medication during the trip please ensure medication is clearly labelled with Scout name and dosage and (IMPORTANT) provide a separate 3×5 index card with clearly written instructions.  This card is kept separately from the medication and is used to plan and track administration.
URL:https://troop58ashburn.camp/event-2/muster-for-summer-camp/
LOCATION:Trailside Middle School\, Ashburn\, VA\, 20147\, United States
END:VEVENT
BEGIN:VEVENT
DTSTART;TZID=America/New_York:20250622T100000
DTEND;TZID=America/New_York:20250628T110000
DTSTAMP:20260423T155849
CREATED:20250112T210503Z
LAST-MODIFIED:20250627T231508Z
UID:9032-1750586400-1751108400@troop58ashburn.camp
SUMMARY:Troop 58 Summer Camp @ T Brady Saunders Scout Camp
DESCRIPTION:We will be attending Summer Camp from June 22 to June 28 at the following location:Camp T. Brady Saunders1723 Maidens RdMaidens\, VA 231021) RSVP in Trooptrack 2) Fill out the registration form https://forms.gle/eagy2wX8j9xSx58X8 3) Pay your dues $490 per scout . You\ncan pay in one full payment or split it into two payments: ($250 now\, $240 by May 1)please complete your payment through Zelle (Troop58.Zelle@gmail.com) or by personal check.In either case put ‘Scout Name – Summer Camp 2025’ in memo line.  
URL:https://troop58ashburn.camp/event-2/hold-troop-58-summer-camp/
LOCATION:TBD\, 2560 King Arthur Boulevard\, Lewisville\, TX\, 75056\, United States
END:VEVENT
BEGIN:VEVENT
DTSTART;TZID=America/New_York:20250620T170000
DTEND;TZID=America/New_York:20250620T190000
DTSTAMP:20260423T155849
CREATED:20250606T221538Z
LAST-MODIFIED:20250620T230008Z
UID:9367-1750438800-1750446000@troop58ashburn.camp
SUMMARY:CANCELED Eagle Scout Court of Honor - Jerry Vazquez
DESCRIPTION:The Eagle Scout Court of Honor has been canceled.
URL:https://troop58ashburn.camp/event-2/eagle-scout-court-of-honor-jerry-vazquez/
LOCATION:St. David’s Episcopal Church\, 43600 Russel Branch Pkwy\, Ashburn\, VA\, 20147\, United States
END:VEVENT
BEGIN:VEVENT
DTSTART;TZID=America/New_York:20250618T100000
DTEND;TZID=America/New_York:20250618T120000
DTSTAMP:20260423T155849
CREATED:20250617T224549Z
LAST-MODIFIED:20250617T224558Z
UID:9387-1750240800-1750248000@troop58ashburn.camp
SUMMARY:Trailer Cleanup & Trailer Tour
DESCRIPTION:Team\,The heavy rain ending the New Scout Campout resulted in hasty packing and a quick exit.  So the Trailer could use some extra attention before our long trip to Summer Camp.Sam and Velan will be hosting a short trailer shake down and outfitting event this Wednesday at 10am in the St. David’s parking lot (where the trailer lives).Please stop by and lend a hand.Sam and Velan will also be offering a tour of the Trailer for any Scout who want to better understand the all that the trailer has to offer.
URL:https://troop58ashburn.camp/event-2/trailer-cleanup-trailer-tour/
LOCATION:St. David’s Episcopal Church\, 43600 Russel Branch Pkwy\, Ashburn\, VA\, 20147\, United States
END:VEVENT
BEGIN:VEVENT
DTSTART;TZID=America/New_York:20250617T193000
DTEND;TZID=America/New_York:20250617T203000
DTSTAMP:20260423T155849
CREATED:20250529T220002Z
LAST-MODIFIED:20250617T224558Z
UID:9354-1750188600-1750192200@troop58ashburn.camp
SUMMARY:Board of Review - E.Lubel - 1st Class rank
DESCRIPTION:
URL:https://troop58ashburn.camp/event-2/board-of-review-e-lubel-1st-class-rank/
LOCATION:Ashburn Volunteer Fire and Rescue Department\, 20688 Ashburn Rd\, Ashburn\, VA\, United States
END:VEVENT
BEGIN:VEVENT
DTSTART;TZID=America/New_York:20250617T193000
DTEND;TZID=America/New_York:20250617T203000
DTSTAMP:20260423T155849
CREATED:20250111T210540Z
LAST-MODIFIED:20250617T224557Z
UID:8992-1750188600-1750192200@troop58ashburn.camp
SUMMARY:Troop Meeting
DESCRIPTION:This is our Troop Meeting.  We meet every week except for the first Tuesday of each month\, which is when the PLC meets.  
URL:https://troop58ashburn.camp/event-2/troop-meeting-236/
LOCATION:Ashburn Volunteer Fire and Rescue Department\, 20688 Ashburn Rd\, Ashburn\, VA\, United States
END:VEVENT
BEGIN:VEVENT
DTSTART;TZID=America/New_York:20250615T070000
DTEND;TZID=America/New_York:20250620T170000
DTSTAMP:20260423T155849
CREATED:20250111T210540Z
LAST-MODIFIED:20250619T225949Z
UID:8991-1749970800-1750438800@troop58ashburn.camp
SUMMARY:Summer NYLT
DESCRIPTION:Summer NYLT Course 25-2 & Course 25-3https://scoutingevent.com/082-summer2025NYLTWHO SHOULD ATTEND?Scouts who have completed their unit’s introduction to leadership course\, have been practicing these skills\, and are ready for the next level of training should attend NYLT once they meet all Eligibility Requirements.NYLT ELIGIBILITY REQUIREMENTSScouts must:Complete their home Unit’s Introduction to Leadership Skills course*Receive approval from your Scoutmaster or Unit leaderBe at least 13 years of age by course start dateEarn First Class rank\, if registered in a TroopHave current BSA Health Form (Parts A\, B\, and C)Be comfortable camping and cooking outdoorsCommit to attending the entire six-day course* Introduction to Leadership Skills for Troops (ILST)\, Crews (ILSC)\, and Ships (ILSS) should be offered through a Scout’s home unit. Ask your Unit Leader how you can participate in this course.Course Directors25-2 Nick Maliszewskyj25-3 Liz Bullock25-4 Eric “Doc” Gilgenast25-5 Dave RockwellREFUND POLICYCancel within 3 days of making a registration and the entire amount is returned. After 3 days of making the registration but not within 14 of the event the customer is charged 15% of the registration cost being cancelled. Once within 14 days of the event the customer is charged 100% of the registration cost being cancelled.Fees cannot be credited toward another event. This policy is true for any event with fees over $25.00 per participant/registrant unless stated otherwise.WHAT NYLT IS (AND IS NOT)NYLT is not like summer camp and is not designed for rank advancement or earning merit badges.  NYLT is an intense and challenging hands-on leadership training program.  It is essential that NYLT participants be physically\, emotionally\, and mentally prepared to handle the demands of this advanced training. In order to get the most benefit from this unique experience\, participants must exhibit emotional maturity\, a positive attitude\, proficiency in basic camping and outdoor cooking\, and have an ambition to serve in leadership roles.Behavior at NYLT: Participants agree to conduct themselves in accordance with the Scout Oath and Law.Scholarship requests can be submitted at: https://247scouting.com/forms/082-FinancialSupport QUESTIONS?For information about specific courses\, contact the Course Director. General inquiries about the NYLT program may be directed to contact@myNYLT.org.You can follow NCAC NYLT Youth Training online on Facebook facebook.com/myNYLT Remember\, “Scouting is a game with a purpose.” — Baden-Powell
URL:https://troop58ashburn.camp/event-2/summer-nylt/
LOCATION:Summer NYLT
END:VEVENT
BEGIN:VEVENT
DTSTART;TZID=America/New_York:20250614T080000
DTEND;TZID=America/New_York:20250615T120000
DTSTAMP:20260423T155849
CREATED:20250111T210538Z
LAST-MODIFIED:20250614T224606Z
UID:8985-1749888000-1749988800@troop58ashburn.camp
SUMMARY:IOLS - Accotink
DESCRIPTION:IOLShttps://scoutingevent.com/?OrgKey=BSA082&calendarID=547259
URL:https://troop58ashburn.camp/event-2/iols-accotink/
LOCATION:Gunston Hall
END:VEVENT
BEGIN:VEVENT
DTSTART;TZID=America/New_York:20250613T000000
DTEND;TZID=America/New_York:20250613T010000
DTSTAMP:20260423T155849
CREATED:20241003T193450Z
LAST-MODIFIED:20250612T224527Z
UID:8726-1749772800-1749776400@troop58ashburn.camp
SUMMARY:LCPS Last Day of School
DESCRIPTION:
URL:https://troop58ashburn.camp/event-2/lcps-last-day-of-school/
LOCATION:VA
END:VEVENT
BEGIN:VEVENT
DTSTART;TZID=America/New_York:20250611T193000
DTEND;TZID=America/New_York:20250611T210000
DTSTAMP:20260423T155849
CREATED:20240506T211800Z
LAST-MODIFIED:20250611T224521Z
UID:8173-1749670200-1749675600@troop58ashburn.camp
SUMMARY:Goose Creek District Roundtable
DESCRIPTION:See https://www.ncacbsa.org/goose-creek/roundtable/ for more info.
URL:https://troop58ashburn.camp/event-2/goose-creek-district-roundtable-79/
LOCATION:Belmont Ridge Middle School
END:VEVENT
BEGIN:VEVENT
DTSTART;TZID=America/New_York:20250611T193000
DTEND;TZID=America/New_York:20250611T203000
DTSTAMP:20260423T155849
CREATED:20240506T211800Z
LAST-MODIFIED:20250611T224521Z
UID:8172-1749670200-1749673800@troop58ashburn.camp
SUMMARY:Order of the Arrow meeting
DESCRIPTION:
URL:https://troop58ashburn.camp/event-2/order-of-the-arrow-meeting-81/
LOCATION:Belmont Ridge Middle School
END:VEVENT
BEGIN:VEVENT
DTSTART;TZID=America/New_York:20250610T193000
DTEND;TZID=America/New_York:20250610T210000
DTSTAMP:20260423T155849
CREATED:20250528T220024Z
LAST-MODIFIED:20250610T224457Z
UID:9351-1749583800-1749589200@troop58ashburn.camp
SUMMARY:Special Event for All:  Annual Senior Farewell / Sendoff
DESCRIPTION:In lieu of\, our usual troop meeting\, you are all invited to Mr. Hall’s epic backyard for a final campfire with skits\, songs\, speeches\, and cake to celebrate the accomplishments of our fine scouts who are graduating this year and to wish them well on their next great adventure in life!  Please note that we may have some special visitors from years past! Please wear your class Bs and also bring a lawn chair\, bug spray\, headlamp\, and a water bottle.  Parents – you are welcome to stay\, or drop your son off and return. If you are going to stay\, please park on Windmill Drive (not on the private drive).See you there! 
URL:https://troop58ashburn.camp/event-2/special-event-for-all-annual-senior-farewell-sendoff/
LOCATION:Hall Family Residence (Backyard of 21226 Windmill Drive\, Ashburn)
END:VEVENT
BEGIN:VEVENT
DTSTART;TZID=America/New_York:20250610T193000
DTEND;TZID=America/New_York:20250610T203000
DTSTAMP:20260423T155849
CREATED:20250111T210539Z
LAST-MODIFIED:20250527T215958Z
UID:8989-1749583800-1749587400@troop58ashburn.camp
SUMMARY:Troop Meeting
DESCRIPTION:This is our Troop Meeting.  We meet every week except for the first Tuesday of each month\, which is when the PLC meets.  
URL:https://troop58ashburn.camp/event-2/troop-meeting-235/
LOCATION:Ashburn Volunteer Fire and Rescue Department\, 20688 Ashburn Rd\, Ashburn\, VA\, United States
END:VEVENT
BEGIN:VEVENT
DTSTART;TZID=America/New_York:20250610T190000
DTEND;TZID=America/New_York:20250610T193000
DTSTAMP:20260423T155849
CREATED:20250606T221536Z
LAST-MODIFIED:20250610T224457Z
UID:9366-1749582000-1749583800@troop58ashburn.camp
SUMMARY:Summer Camp Parents' Meeting
DESCRIPTION:If you are attending summer camp\, please make every attempt to attend this brief meeting before the weekly meeting at Mr. Hall’s – we will discuss logistics and answer any open questions. We have a few topics that we need to cover since summer camp is quickly approaching\, including our transportation plan for the week. Please RSVP so we know you have received this and we look forward to seeing you there! 
URL:https://troop58ashburn.camp/event-2/summer-camp-parents-meeting/
LOCATION:Mr. Hall’s Backyard\, 21226 Windmill Dr\, Ashburn\, VA\, United States
END:VEVENT
BEGIN:VEVENT
DTSTART;TZID=America/New_York:20250610T183000
DTEND;TZID=America/New_York:20250610T193000
DTSTAMP:20260423T155849
CREATED:20250516T214716Z
LAST-MODIFIED:20250610T224457Z
UID:9331-1749580200-1749583800@troop58ashburn.camp
SUMMARY:Eagle Alumni Gathering
DESCRIPTION:Annual gathering for our Eagle Scouts (only) – past & present.
URL:https://troop58ashburn.camp/event-2/eagle-alumni-gathering-2/
LOCATION:Mr. Hall’s deck @ 21226 Windmill Drive\, Ashburn\, VA\, United States
END:VEVENT
BEGIN:VEVENT
DTSTART;TZID=America/New_York:20250607T100000
DTEND;TZID=America/New_York:20250608T140000
DTSTAMP:20260423T155849
CREATED:20250408T195434Z
LAST-MODIFIED:20250607T221624Z
UID:9265-1749290400-1749391200@troop58ashburn.camp
SUMMARY:New Scout Campout
DESCRIPTION:This will be our cross-over Scouts’ first campout with Troop 58 – and without their parents!The weekend will be filled with scout skills training\, great camping food\, a big campfire\, etc. – everything our brand new Boy Scouts need to get off on the right foot in Troop 58!PLC members are expected to attend and camp for the night.REMEMBER – we travel to/from all campouts in class A uniform (without neckerchief).Location details – https://bearsdencenter.org/Please direct any questions to SPL Sam Wall\, the scout lead\, or to Eric Grabbins\, the Scoutmaster.  Gear List:https://docs.google.com/document/d/1GZ6Pjm5GWDeDfgTgCH7vwSICtFjkUcOhq09i5O9gF8Q/edit?usp=sharingMuster:We will meet at Trailside Middle School (TMS).  The Troop will load gera into the Trailer at TMS and then depart for the campground.Permissions slips and medication (if needed) will be collected at this time.  Please find the permissions slip in the “Details” section below.Medication:If you need to take medication during the trip please ensure medication is clearly labelled with Scout name and dosage and (IMPORTANT) provide a separate 3×5 index card with clearly written instructions.  This card is kept separately from the medication and is used to plan and track administration.Return:Return time is approximate Troop will provide an update ETA to TMS when leaving the campsite Sunday morning.
URL:https://troop58ashburn.camp/event-2/new-scout-campout-3/
LOCATION:Bear’s Den Campground
END:VEVENT
END:VCALENDAR