BEGIN:VCALENDAR
VERSION:2.0
PRODID:-//Boy Scout Troop 58 - Ashburn, VA - ECPv6.15.20//NONSGML v1.0//EN
CALSCALE:GREGORIAN
METHOD:PUBLISH
X-WR-CALNAME:Boy Scout Troop 58 - Ashburn, VA
X-ORIGINAL-URL:https://troop58ashburn.camp
X-WR-CALDESC:Events for Boy Scout Troop 58 - Ashburn, VA
REFRESH-INTERVAL;VALUE=DURATION:PT1H
X-Robots-Tag:noindex
X-PUBLISHED-TTL:PT1H
BEGIN:VTIMEZONE
TZID:America/New_York
BEGIN:DAYLIGHT
TZOFFSETFROM:-0500
TZOFFSETTO:-0400
TZNAME:EDT
DTSTART:20190310T070000
END:DAYLIGHT
BEGIN:STANDARD
TZOFFSETFROM:-0400
TZOFFSETTO:-0500
TZNAME:EST
DTSTART:20191103T060000
END:STANDARD
BEGIN:DAYLIGHT
TZOFFSETFROM:-0500
TZOFFSETTO:-0400
TZNAME:EDT
DTSTART:20200308T070000
END:DAYLIGHT
BEGIN:STANDARD
TZOFFSETFROM:-0400
TZOFFSETTO:-0500
TZNAME:EST
DTSTART:20201101T060000
END:STANDARD
BEGIN:DAYLIGHT
TZOFFSETFROM:-0500
TZOFFSETTO:-0400
TZNAME:EDT
DTSTART:20210314T070000
END:DAYLIGHT
BEGIN:STANDARD
TZOFFSETFROM:-0400
TZOFFSETTO:-0500
TZNAME:EST
DTSTART:20211107T060000
END:STANDARD
END:VTIMEZONE
BEGIN:VEVENT
DTSTART;TZID=America/New_York:20200606T120000
DTEND;TZID=America/New_York:20200606T150000
DTSTAMP:20260425T231312
CREATED:20200224T061457Z
LAST-MODIFIED:20200521T202930Z
UID:5018-1591444800-1591455600@troop58ashburn.camp
SUMMARY:Michael Boyd's Eagle Scout Ceremony
DESCRIPTION:This is an open date for when my Eagle Scout Ceremony might be. More details will be forthcoming. 
URL:https://troop58ashburn.camp/event-2/michael-boyds-eagle-scout-ceremony/
LOCATION:TBD\, 2560 King Arthur Boulevard\, Lewisville\, TX\, 75056\, United States
END:VEVENT
BEGIN:VEVENT
DTSTART;TZID=America/New_York:20200604T160000
DTEND;TZID=America/New_York:20200604T170000
DTSTAMP:20260425T231312
CREATED:20200525T204108Z
LAST-MODIFIED:20200603T224257Z
UID:5717-1591286400-1591290000@troop58ashburn.camp
SUMMARY:Fitness and Swimming Instructional Rank Class
DESCRIPTION:We will be having an Instructional Rank Class. All scouts that are not First Class yet are recommended to attend the class. \nTopic: Fitness and Swimming \nTeacher: Ali Anbar \nZoom link will be posted shortly before the class.
URL:https://troop58ashburn.camp/event-2/fitness-and-swimming-instructional-rank-class/
LOCATION:Virtual
END:VEVENT
BEGIN:VEVENT
DTSTART;TZID=America/New_York:20200603T183000
DTEND;TZID=America/New_York:20200603T193000
DTSTAMP:20260425T231312
CREATED:20200512T192250Z
LAST-MODIFIED:20200603T224257Z
UID:5617-1591209000-1591212600@troop58ashburn.camp
SUMMARY:Personal Fitness Merit Badge
DESCRIPTION:Hi Troop\, starting May 20th\, at 6:30pm\, I will be holding a virtual class for Personal Fitness Merit Badge.  If you would like to attend\, please RSVP in Troop Track and follow the link below to our meetings. \nIf you have any questions\, please let me now. \nJoin Zoom Meeting \nhttps://us02web.zoom.us/j/81727874819?pwd=b1hLdk1PRXErUjhVZWV5NTZhNUx2dz09 \nYiS\, \nMr. Anderson (eanderson@tollbrothers.com)
URL:https://troop58ashburn.camp/event-2/personal-fitness-merit-badge-3/
LOCATION:Virtual
END:VEVENT
BEGIN:VEVENT
DTSTART;TZID=America/New_York:20200602T190000
DTEND;TZID=America/New_York:20200602T203000
DTSTAMP:20260425T231312
CREATED:20190813T034019Z
LAST-MODIFIED:20200602T215559Z
UID:3344-1591124400-1591129800@troop58ashburn.camp
SUMMARY:Committee Meeting
DESCRIPTION:All parents\, adult leaders and merit badge counselors are welcome to come to the monthly Committee Meeting. \nMonthly Troop 58 Committee Meeting \nAgenda and Zoom details are below: \nTopic: June Committee Meeting \nhttps://us02web.zoom.us/j/86596927643?pwd=TEJSakN4YXJ4OW1WUktac08xVEpPUT09 \nMeeting ID: 865 9692 7643 \nPassword: 925223 \n———— \nRoles of the troop committee: \n\nsupports the Scoutmaster in delivering a quality troop program. Members ensure quality adult leadership is recruited and trained. \nhandles troop administration and is responsible for finances\, adequate funding\, and disbursements in line with the approved budget. \nobtains\, maintains\, and properly cares for troop property. \nensures the troop has an outdoor program with a minimum of 10 days and nights of camping per year.\nserve on boards of review and plan and conduct courts of honor. \nsupport the Scoutmaster in working with individual boys and handling problems that may affect the overall troop program. \nprovides for the special needs and assistance some boys may require and helps with the Friends of Scouting campaign. \nhandles charter renewal and advancement and ensures adults are current with Youth Protection training.\n\nJune_CommitteeMtg_Agenda.docx-2.pdf
URL:https://troop58ashburn.camp/event-2/committee-meeting-10/
LOCATION:Zoom
END:VEVENT
BEGIN:VEVENT
DTSTART;TZID=America/New_York:20200602T190000
DTEND;TZID=America/New_York:20200602T203000
DTSTAMP:20260425T231313
CREATED:20190813T034019Z
LAST-MODIFIED:20200525T204113Z
UID:3342-1591124400-1591129800@troop58ashburn.camp
SUMMARY:PLC meeting
DESCRIPTION:Monthly PLC meeting for the elected members of the Patrol Leaders Council
URL:https://troop58ashburn.camp/event-2/plc-meeting-9/
LOCATION:Ashburn Volunteer Fire and Rescue Department\, 20688 Ashburn Rd\, Ashburn\, VA\, United States
END:VEVENT
BEGIN:VEVENT
DTSTART;TZID=America/New_York:20200601T183000
DTEND;TZID=America/New_York:20200601T193000
DTSTAMP:20260425T231313
CREATED:20200529T212631Z
LAST-MODIFIED:20200601T214639Z
UID:5765-1591036200-1591039800@troop58ashburn.camp
SUMMARY:Camping Merit Badge
DESCRIPTION:June 1st will be our first Camping Merit Badge. \nFollow the link below to attend our first meeting.   \n6:30-7:30 \nJoin Zoom Meeting \nhttps://us02web.zoom.us/j/82085766610?pwd=T2NQbjNOM21wd1ZLVUFxb0JldCtmdz09 \nMeeting ID: 820 8576 6610 \nPassword: 479595 \nOne tap mobile \n+16465588656\,\,82085766610#\,\,1#\,479595# US (New York) \n+13017158592\,\,82085766610#\,\,1#\,479595# US (Germantown) \nDial by your location \n+1 646 558 8656 US (New York) \n+1 301 715 8592 US (Germantown) \n+1 312 626 6799 US (Chicago) \n+1 669 900 9128 US (San Jose) \n+1 253 215 8782 US (Tacoma) \n+1 346 248 7799 US (Houston) \nMeeting ID: 820 8576 6610 \nPassword: 479595 \nFind your local number: https://us02web.zoom.us/u/kPSxkLdaN
URL:https://troop58ashburn.camp/event-2/camping-merit-badge/
LOCATION:Virtual
END:VEVENT
BEGIN:VEVENT
DTSTART;TZID=America/New_York:20200601T170000
DTEND;TZID=America/New_York:20200601T180000
DTSTAMP:20260425T231313
CREATED:20200530T212255Z
LAST-MODIFIED:20200601T214638Z
UID:5772-1591030800-1591034400@troop58ashburn.camp
SUMMARY:Music MB class #5
DESCRIPTION:Our 5th and final Music MB class…we'll work on finishing up requirements 3-5. \nhttps://carfax.zoom.us/j/5712782079?pwd=QlR6SFNKT1htczNxUVBZME90OW9OQT09
URL:https://troop58ashburn.camp/event-2/music-mb-class-5/
LOCATION:Zoom
END:VEVENT
BEGIN:VEVENT
DTSTART;TZID=America/New_York:20200531T130000
DTEND;TZID=America/New_York:20200531T140000
DTSTAMP:20260425T231313
CREATED:20200529T212631Z
LAST-MODIFIED:20200530T212301Z
UID:5764-1590930000-1590933600@troop58ashburn.camp
SUMMARY:Personal Management Merit Badge
DESCRIPTION:Eric Anderson is inviting you to a scheduled Zoom meeting. \nJoin Zoom Meeting \nhttps://zoom.us/j/650221773?pwd=aUVoUkt2NU1GRVFZRnN5TDVQcXluUT09 \nMeeting ID: 650 221 773 \nPassword: 326533 \nOne tap mobile \n+16465588656\,\,650221773#\,\,#\,326533# US (New York) \n+13126266799\,\,650221773#\,\,#\,326533# US (Chicago) \nDial by your location \n        +1 646 558 8656 US (New York) \n        +1 312 626 6799 US (Chicago) \n        +1 669 900 9128 US (San Jose) \n        +1 253 215 8782 US \n        +1 301 715 8592 US \n        +1 346 248 7799 US (Houston) \nMeeting ID: 650 221 773 \nPassword: 326533 \nFind your local number: https://zoom.us/u/ac7EwuxDNH
URL:https://troop58ashburn.camp/event-2/personal-management-merit-badge/
LOCATION:Virtual
END:VEVENT
BEGIN:VEVENT
DTSTART;TZID=America/New_York:20200531T074500
DTEND;TZID=America/New_York:20200531T163000
DTSTAMP:20260425T231313
CREATED:20191130T021200Z
LAST-MODIFIED:20200530T212301Z
UID:4366-1590911100-1590942600@troop58ashburn.camp
SUMMARY:NT: Intermediate Canoe Training/Team Building
DESCRIPTION:NT Crew Members & Parents\, \nWe have confirmed that the canoe training scheduled for 5/31 is still on! \nIn an effort to uphold social distancing\, we are asking that 1 parent attend with their scout\, to both drive them there and also to have canoes be occupied by people who are within a family’s social circle.   \nThis session will be spent reviewing the basics learned at the first training session as well as learning more advanced maneuvering and safety skills\, and also portaging.   \nCost is $90/person.   \nLocation will be finalized this weekend\, but it will likely be at Antietam\, which is the same place as last time.   \nAlso\, a separate waiver will need to be completed\, which I will also post within the next few days. \nI know this is short notice\, but we are requesting RSVPs by Tuesday\, 5/26\, in order to confirm our reservation with the canoeing outfitter.   \nPlease contact me with any questions.   \nYiS\, \nMs. Khalili \n703-439-0230  
URL:https://troop58ashburn.camp/event-2/nt-intermediate-canoe-training-team-building/
LOCATION:TBD\, 2560 King Arthur Boulevard\, Lewisville\, TX\, 75056\, United States
END:VEVENT
BEGIN:VEVENT
DTSTART;TZID=America/New_York:20200530T130000
DTEND;TZID=America/New_York:20200530T133000
DTSTAMP:20260425T231313
CREATED:20200527T211050Z
LAST-MODIFIED:20200529T212636Z
UID:5744-1590843600-1590845400@troop58ashburn.camp
SUMMARY:Eagles Facetime Patrol Meet
DESCRIPTION:The Eagles Patrol will be having an online patrol meeting via Facetime on Saturday the 30th at 1pm. Please RSVP if you plan on attending. (From now on\, these meetings will be scheduled for every Saturday at this time)
URL:https://troop58ashburn.camp/event-2/eagles-facetime-patrol-meet/
END:VEVENT
BEGIN:VEVENT
DTSTART;TZID=America/New_York:20200529T160000
DTEND;TZID=America/New_York:20200529T163000
DTSTAMP:20260425T231313
CREATED:20200518T202630Z
LAST-MODIFIED:20200528T212200Z
UID:5676-1590768000-1590769800@troop58ashburn.camp
SUMMARY:Navigation and Hiking - Requirement Classes
DESCRIPTION:Siddharth will be teaching several Hiking and Navigation requirements from the Scout books. All scouts that are not First Class yet are recommended to attend the class. \n \nZoom link will be posted before the class.
URL:https://troop58ashburn.camp/event-2/navigation-and-hiking-requirement-classes/
END:VEVENT
BEGIN:VEVENT
DTSTART;TZID=America/New_York:20200529T153000
DTEND;TZID=America/New_York:20200529T163000
DTSTAMP:20260425T231313
CREATED:20200519T202425Z
LAST-MODIFIED:20200528T212200Z
UID:5682-1590766200-1590769800@troop58ashburn.camp
SUMMARY:Music MB Class #4
DESCRIPTION:Our 4th (and perhaps final!) Music MB class…we'll work on finishing up requirements 3-5. \nhttps://carfax.zoom.us/j/94749187980?pwd=eVNDOWk3NzJubnEycWducTNVYnJ6QT09
URL:https://troop58ashburn.camp/event-2/music-mb-class-4/
LOCATION:Zoom
END:VEVENT
BEGIN:VEVENT
DTSTART;TZID=America/New_York:20200529T143000
DTEND;TZID=America/New_York:20200529T153000
DTSTAMP:20260425T231313
CREATED:20200511T191132Z
LAST-MODIFIED:20200528T212200Z
UID:5597-1590762600-1590766200@troop58ashburn.camp
SUMMARY:Dog Care MB Session 6
DESCRIPTION:Dog Care MB Session 3.  Please check your google classroom for updates\, homework assignments\, and any additional info. \nHere is the link to google classroom https://classroom.google.com/u/0/c/OTIwNjYyNDM1ODFa \n \nBSA Troop58 is inviting you to a scheduled Zoom meeting. \nJoin Zoom Meeting \nhttps://us02web.zoom.us/j/83425368753?pwd=emtzVWlrV0pjV20zNkRaU2tEZFg2UT09 \nMeeting ID: 834 2536 8753 \nPassword: 076382
URL:https://troop58ashburn.camp/event-2/dog-care-mb-session-6/
LOCATION:Zoom
END:VEVENT
BEGIN:VEVENT
DTSTART;TZID=America/New_York:20200529T143000
DTEND;TZID=America/New_York:20200529T153000
DTSTAMP:20260425T231313
CREATED:20200511T191132Z
LAST-MODIFIED:20200511T191132Z
UID:5598-1590762600-1590766200@troop58ashburn.camp
SUMMARY:Dog Care MB Session 6
DESCRIPTION:Dog Care MB Session 3.  Please check your google classroom for updates\, homework assignments\, and any additional info. \nHere is the link to google classroom https://classroom.google.com/u/0/c/OTIwNjYyNDM1ODFa \n \nBSA Troop58 is inviting you to a scheduled Zoom meeting. \nJoin Zoom Meeting \nhttps://us02web.zoom.us/j/83425368753?pwd=emtzVWlrV0pjV20zNkRaU2tEZFg2UT09 \nMeeting ID: 834 2536 8753 \nPassword: 076382
URL:https://troop58ashburn.camp/event-2/dog-care-mb-session-6-2/
LOCATION:Zoom
END:VEVENT
BEGIN:VEVENT
DTSTART;TZID=America/New_York:20200527T183000
DTEND;TZID=America/New_York:20200527T193000
DTSTAMP:20260425T231313
CREATED:20200512T192249Z
LAST-MODIFIED:20200527T211056Z
UID:5616-1590604200-1590607800@troop58ashburn.camp
SUMMARY:Personal Fitness Merit Badge
DESCRIPTION:Hi Troop\, starting May 20th\, at 6:30pm\, I will be holding a virtual class for Personal Fitness Merit Badge.  If you would like to attend\, please RSVP in Troop Track and follow the link below to our meetings. \nIf you have any questions\, please let me now. \nYiS\, \nMr. Anderson (eanderson@tollbrothers.com)
URL:https://troop58ashburn.camp/event-2/personal-fitness-merit-badge-2/
LOCATION:Virtual
END:VEVENT
BEGIN:VEVENT
DTSTART;TZID=America/New_York:20200526T190000
DTEND;TZID=America/New_York:20200526T210000
DTSTAMP:20260425T231313
CREATED:20200211T044327Z
LAST-MODIFIED:20200526T205448Z
UID:4905-1590519600-1590526800@troop58ashburn.camp
SUMMARY:Virtual Court of Honor
DESCRIPTION:ZOOM for the Court of Honor – https://us02web.zoom.us/j/81045978465?pwd=bEpqNVY0bzZ2M2E0SDFlK3hOSVJFZz09 \n \nOur Spring Court of Honor will be held Tuesday\, May 26 at 7:00pm. \nThe MC for this COH will be Ishan Parikh. \nIf you want to earn Rank\, make sure to get your Scoutmaster Conferences done by May 12 and Boards of Review done by May 19. \nIf you have finished merit badges get your blue cards to Mr. Parikh. \nIf you have earned other awards let Ms. Bohrer know. \nThank you\, \nMs. Bohrer\, Advancement Chair \nMrs. Levine\, Committee Chair
URL:https://troop58ashburn.camp/event-2/court-of-honor/
LOCATION:Zoom
END:VEVENT
BEGIN:VEVENT
DTSTART;TZID=America/New_York:20200526T170000
DTEND;TZID=America/New_York:20200526T180000
DTSTAMP:20260425T231313
CREATED:20190813T034019Z
LAST-MODIFIED:20200510T190200Z
UID:3341-1590512400-1590516000@troop58ashburn.camp
SUMMARY:Virtual Troop meeting
DESCRIPTION:Monthly Troop meeting for all Scouts
URL:https://troop58ashburn.camp/event-2/troop-meeting-32/
LOCATION:Ashburn Volunteer Fire and Rescue Department\, 20688 Ashburn Rd\, Ashburn\, VA\, United States
END:VEVENT
BEGIN:VEVENT
DTSTART;TZID=America/New_York:20200525T140000
DTEND;TZID=America/New_York:20200525T144500
DTSTAMP:20260425T231313
CREATED:20200504T174704Z
LAST-MODIFIED:20200524T203800Z
UID:5525-1590415200-1590417900@troop58ashburn.camp
SUMMARY:Virtual PLC huddle
DESCRIPTION:Weekly virtual PLC huddles for the time-being. \n \nJoin Zoom Meeting \nhttps://us04web.zoom.us/j/5265677173 \n \nMeeting ID: 526 567 7173
URL:https://troop58ashburn.camp/event-2/virtual-plc-huddle-15/
LOCATION:Virtual
END:VEVENT
BEGIN:VEVENT
DTSTART;TZID=America/New_York:20200525T140000
DTEND;TZID=America/New_York:20200525T144500
DTSTAMP:20260425T231313
CREATED:20200427T143427Z
LAST-MODIFIED:20200503T172640Z
UID:5468-1590415200-1590417900@troop58ashburn.camp
SUMMARY:Virtual PLC huddle
DESCRIPTION:Weekly virtual PLC huddles for the time-being. \nhttps://zoom.us/j/213339459?pwd=L3lzSU1SblBmVU41SFo5QWo3aWd1QT09  
URL:https://troop58ashburn.camp/event-2/virtual-plc-huddle-11/
LOCATION:Virtual
END:VEVENT
BEGIN:VEVENT
DTSTART;TZID=America/New_York:20200523T150000
DTEND;TZID=America/New_York:20200523T160000
DTSTAMP:20260425T231313
CREATED:20200512T192249Z
LAST-MODIFIED:20200522T203616Z
UID:5615-1590246000-1590249600@troop58ashburn.camp
SUMMARY:NCAC Virtual Campout Knife/Axe/Saw/Totin Chip class
DESCRIPTION:
URL:https://troop58ashburn.camp/event-2/ncac-virtual-campout-knife-axe-saw-totin-chip-class/
LOCATION:Zoom
END:VEVENT
BEGIN:VEVENT
DTSTART;TZID=America/New_York:20200523T080000
DTEND;TZID=America/New_York:20200524T120000
DTSTAMP:20260425T231313
CREATED:20200501T155729Z
LAST-MODIFIED:20200523T203626Z
UID:5501-1590220800-1590321600@troop58ashburn.camp
SUMMARY:NCAC virtual camp-out
DESCRIPTION:Join NCAC Memorial Day Weekend\, May 23-24\, for our first ever digital camping experience. Perfect for the Scouting family\, this event will feature live webinars\, downloadable at-your-own-pace content\, activity prompts\, online games\, and more. From Venturers to Cubs and Scouts BSA\, Scouts (and Scouters) of all ages will discover something fun\, engaging\, and even helpful on the path to advancement. So grab your cooking gear\, fire pit\, internet connection\, and sleeping bag because we want you out of your bed and in a camp!\n\n\n\n\n https://www.ncacbsa.org/campin/
URL:https://troop58ashburn.camp/event-2/ncac-virtual-camp-out/
END:VEVENT
BEGIN:VEVENT
DTSTART;TZID=America/New_York:20200522T170000
DTEND;TZID=America/New_York:20200522T173000
DTSTAMP:20260425T231313
CREATED:20200521T202928Z
LAST-MODIFIED:20200522T203616Z
UID:5695-1590166800-1590168600@troop58ashburn.camp
SUMMARY:Eagles Patrol Outing
DESCRIPTION:Th Eagles patrol will be having a patrol outing this Friday via FaceTime. We will just chat and do whatever. Please RSVP if you are planning on joining.
URL:https://troop58ashburn.camp/event-2/eagles-patrol-outing-2/
END:VEVENT
BEGIN:VEVENT
DTSTART;TZID=America/New_York:20200522T160000
DTEND;TZID=America/New_York:20200522T163000
DTSTAMP:20260425T231313
CREATED:20200510T190152Z
LAST-MODIFIED:20200521T202929Z
UID:5578-1590163200-1590165000@troop58ashburn.camp
SUMMARY:Tools - Rank Instructional Class
DESCRIPTION:We will have a short Instructional Rank Class on the tool requirements using zoom.  The class will be taught by Ben Levine\, but there will be other PLC members to help out. \n \nThe Zoom link will be posted sometime before the class begins\, all scouts who have not reached the rank of first class are recommended to attend the virtual classes.  \n \n \nhttps://us02web.zoom.us/j/85209042796?pwd=aTM5RkFLbXpheURIR2pXUzZYanM1QT09
URL:https://troop58ashburn.camp/event-2/tools-rank-instructional-class-2/
LOCATION:?
END:VEVENT
BEGIN:VEVENT
DTSTART;TZID=America/New_York:20200522T143000
DTEND;TZID=America/New_York:20200522T153000
DTSTAMP:20260425T231313
CREATED:20200511T191131Z
LAST-MODIFIED:20200521T202928Z
UID:5595-1590157800-1590161400@troop58ashburn.camp
SUMMARY:Dog Care MB Session 5
DESCRIPTION:Dog Care MB Session 5.  Please check your google classroom for updates\, homework assignments\, and any additional info. \nHere is the link to google classroom https://classroom.google.com/u/0/c/OTIwNjYyNDM1ODFa \n \nBSA Troop58 is inviting you to a scheduled Zoom meeting. \nJoin Zoom Meeting \nhttps://us02web.zoom.us/j/83425368753?pwd=emtzVWlrV0pjV20zNkRaU2tEZFg2UT09 \nMeeting ID: 834 2536 8753 \nPassword: 076382
URL:https://troop58ashburn.camp/event-2/dog-care-mb-session-5-2/
LOCATION:Zoom
END:VEVENT
BEGIN:VEVENT
DTSTART;TZID=America/New_York:20200522T143000
DTEND;TZID=America/New_York:20200522T153000
DTSTAMP:20260425T231313
CREATED:20200511T191131Z
LAST-MODIFIED:20200511T191131Z
UID:5596-1590157800-1590161400@troop58ashburn.camp
SUMMARY:Dog Care MB Session 5
DESCRIPTION:Dog Care MB Session 5.  Please check your google classroom for updates\, homework assignments\, and any additional info. \nHere is the link to google classroom https://classroom.google.com/u/0/c/OTIwNjYyNDM1ODFa \n \nBSA Troop58 is inviting you to a scheduled Zoom meeting. \nJoin Zoom Meeting \nhttps://us02web.zoom.us/j/83425368753?pwd=emtzVWlrV0pjV20zNkRaU2tEZFg2UT09 \nMeeting ID: 834 2536 8753 \nPassword: 076382
URL:https://troop58ashburn.camp/event-2/dog-care-mb-session-5/
LOCATION:Zoom
END:VEVENT
BEGIN:VEVENT
DTSTART;TZID=America/New_York:20200521T193000
DTEND;TZID=America/New_York:20200521T203000
DTSTAMP:20260425T231313
CREATED:20190813T034019Z
LAST-MODIFIED:20200521T202928Z
UID:3340-1590089400-1590093000@troop58ashburn.camp
SUMMARY:ASM meeting
DESCRIPTION:Monthly planning/coordination meeting for the Scoutmaster and ASMs; all Committee Members and other adults are welcome as well.  Location rotates each month. \nhttps://carfax.zoom.us/j/94319430345?pwd=a0pKZndFRVlBTDVMMGNaUmhRNzd6Zz09 \nAgenda available @ https://docs.google.com/document/d/1Wk6dPv2gd5FX8YP1FeIUJFWlZN30l0SoQogBynqs_fU/edit?usp=sharing
URL:https://troop58ashburn.camp/event-2/asm-meeting-10/
LOCATION:Zoom
END:VEVENT
BEGIN:VEVENT
DTSTART;TZID=America/New_York:20200520T183000
DTEND;TZID=America/New_York:20200520T193000
DTSTAMP:20260425T231313
CREATED:20200512T192249Z
LAST-MODIFIED:20200520T202156Z
UID:5614-1589999400-1590003000@troop58ashburn.camp
SUMMARY:Personal Fitness Merit Badge
DESCRIPTION:Hi Troop\, starting May 20th\, at 6:30pm\, I will be holding a virtual class for Personal Fitness Merit Badge.  If you would like to attend\, please RSVP in Troop Track and follow the link below to our meetings. \nhttps://us02web.zoom.us/j/6704242013?pwd=a1JMUlRsRWJ1YTBwazk4T2ZmR0Nudz09 \nIf you have any questions\, please let me now. \nYiS\, \nMr. Anderson (eanderson@tollbrothers.com)
URL:https://troop58ashburn.camp/event-2/personal-fitness-merit-badge/
LOCATION:Virtual
END:VEVENT
BEGIN:VEVENT
DTSTART;TZID=America/New_York:20200520T140000
DTEND;TZID=America/New_York:20200520T150000
DTSTAMP:20260425T231313
CREATED:20200519T202424Z
LAST-MODIFIED:20200519T202432Z
UID:5681-1589983200-1589986800@troop58ashburn.camp
SUMMARY:Watchdogs Virtual Patrol Meeting
DESCRIPTION:Hi Watchdogs\, please follow the link below and join me at 2:00 for a virtual patrol meeting. \nJack \nJoin Zoom Meeting \nhttps://us02web.zoom.us/j/87348248917?pwd=Szg1eTF0UFlSckFaZzFwZGNsRjNkZz09 \n \nMeeting ID: 873 4824 8917 \nPassword: 164356 \nOne tap mobile \n+16465588656\,\,87348248917#\,\,1#\,164356# US (New York) \n+13017158592\,\,87348248917#\,\,1#\,164356# US (Germantown) \n \nDial by your location \n+1 646 558 8656 US (New York) \n+1 301 715 8592 US (Germantown) \n+1 312 626 6799 US (Chicago) \n+1 669 900 9128 US (San Jose) \n+1 253 215 8782 US (Tacoma) \n+1 346 248 7799 US (Houston) \nMeeting ID: 873 4824 8917 \nPassword: 164356 \nFind your local number: https://us02web.zoom.us/u/kcXC4kL6CV
URL:https://troop58ashburn.camp/event-2/watchdogs-virtual-patrol-meeting/
LOCATION:Virtual
END:VEVENT
BEGIN:VEVENT
DTSTART;TZID=America/New_York:20200519T193000
DTEND;TZID=America/New_York:20200519T210000
DTSTAMP:20260425T231313
CREATED:20190813T034018Z
LAST-MODIFIED:20200225T062626Z
UID:3339-1589916600-1589922000@troop58ashburn.camp
SUMMARY:Troop meeting
DESCRIPTION:Monthly Troop meeting for all Scouts
URL:https://troop58ashburn.camp/event-2/troop-meeting-31/
LOCATION:Ashburn Volunteer Fire and Rescue Department\,20688 Ashburn Road\,Ashburn\,VA\,20147\, United States
END:VEVENT
BEGIN:VEVENT
DTSTART;TZID=America/New_York:20200519T170000
DTEND;TZID=America/New_York:20200519T174500
DTSTAMP:20260425T231313
CREATED:20200512T192248Z
LAST-MODIFIED:20200519T202432Z
UID:5613-1589907600-1589910300@troop58ashburn.camp
SUMMARY:Gardening Merit Badge - Class #3
DESCRIPTION:Gardening Merit Badge – Class #3 \nScouts\, Great progress on requirement #2 with seeds and seedlings in the ground!  Remember to water and protect your plants especially during the cold nights!  If you missed Class #2 please feel free to email me so we can connect to get you up to speed. \nHomework – Please complete requirement #3 & #6 prior to the class.  Also\, please finalize your plans for requirement #8. \nParents\, Thanks to those parents who have dialed into class #1 & #2 to ensure that we were YPT compliant.  Others feel free to join as well.  \nThanks. Mr. Makitka \nJoin Zoom Meeting \nhttps://us02web.zoom.us/j/84206763896?pwd=cXRGRU9rTjdENDByOEcwVEczbStFUT09 \nMeeting ID: 842 0676 3896 \nPassword: 937746
URL:https://troop58ashburn.camp/event-2/gardening-merit-badge-class-3/
LOCATION:Zoom info attached
END:VEVENT
END:VCALENDAR