BEGIN:VCALENDAR
VERSION:2.0
PRODID:-//Boy Scout Troop 58 - Ashburn, VA - ECPv6.15.20//NONSGML v1.0//EN
CALSCALE:GREGORIAN
METHOD:PUBLISH
X-WR-CALNAME:Boy Scout Troop 58 - Ashburn, VA
X-ORIGINAL-URL:https://troop58ashburn.camp
X-WR-CALDESC:Events for Boy Scout Troop 58 - Ashburn, VA
REFRESH-INTERVAL;VALUE=DURATION:PT1H
X-Robots-Tag:noindex
X-PUBLISHED-TTL:PT1H
BEGIN:VTIMEZONE
TZID:America/New_York
BEGIN:DAYLIGHT
TZOFFSETFROM:-0500
TZOFFSETTO:-0400
TZNAME:EDT
DTSTART:20190310T070000
END:DAYLIGHT
BEGIN:STANDARD
TZOFFSETFROM:-0400
TZOFFSETTO:-0500
TZNAME:EST
DTSTART:20191103T060000
END:STANDARD
BEGIN:DAYLIGHT
TZOFFSETFROM:-0500
TZOFFSETTO:-0400
TZNAME:EDT
DTSTART:20200308T070000
END:DAYLIGHT
BEGIN:STANDARD
TZOFFSETFROM:-0400
TZOFFSETTO:-0500
TZNAME:EST
DTSTART:20201101T060000
END:STANDARD
BEGIN:DAYLIGHT
TZOFFSETFROM:-0500
TZOFFSETTO:-0400
TZNAME:EDT
DTSTART:20210314T070000
END:DAYLIGHT
BEGIN:STANDARD
TZOFFSETFROM:-0400
TZOFFSETTO:-0500
TZNAME:EST
DTSTART:20211107T060000
END:STANDARD
END:VTIMEZONE
BEGIN:VEVENT
DTSTART;TZID=America/New_York:20200712T083000
DTEND;TZID=America/New_York:20200712T163000
DTSTAMP:20260426T001923
CREATED:20200704T045406Z
LAST-MODIFIED:20200712T063308Z
UID:5952-1594542600-1594571400@troop58ashburn.camp
SUMMARY:Jack Lawrence's Eagle Scout Project
DESCRIPTION:Hello Everybody\, \nI will be creating a labyrinth for my Eagle Scout project at Crossroads Methodist Church\, meeting next to the play ground on Sunday \, July 12th at 8am. The project will take about 5-8 hours and I will need about 12-15 scouts to help. The bathroom and water fountains will not be available in the church due to COVID-19 concerns\, so it is best advised to go to the bathroom before coming and to bring a water bottle. There will be a water source to refill your bottles and there will be food for scouts during the project \, but please let me know about any dietary restrictions ahead of time. Under Virginia State Law\, it is required that all scouts wear a face mask and attempt to keep a distance of 6 feet away from one another. \nI would recommend bringing gardening gloves for this project because we will be dealing with mulch\, rocks\, and wood\, but it is not mandatory. \nIf anybody has anybody has any rakes or shovels that they can bring to use for the project that would be great. \n \nThank you\, \n \n \nJack Lawrence
URL:https://troop58ashburn.camp/event-2/jack-lawrences-eagle-scout-project/
LOCATION:43454 Crossroads Drive\, Ashburn\, VA\, United States
END:VEVENT
BEGIN:VEVENT
DTSTART;TZID=America/New_York:20200711T130000
DTEND;TZID=America/New_York:20200711T133000
DTSTAMP:20260426T001923
CREATED:20200711T062317Z
LAST-MODIFIED:20200711T062317Z
UID:5975-1594472400-1594474200@troop58ashburn.camp
SUMMARY:Eagles Facetime
DESCRIPTION:The Eagles Patrol will be having an online patrol meeting via Facetime this Saturday at 1 pm. Please RSVP if you plan on attending.
URL:https://troop58ashburn.camp/event-2/eagles-facetime-2/
END:VEVENT
BEGIN:VEVENT
DTSTART;TZID=America/New_York:20200709T180000
DTEND;TZID=America/New_York:20200709T190000
DTSTAMP:20260426T001923
CREATED:20200626T033712Z
LAST-MODIFIED:20200709T053620Z
UID:5919-1594317600-1594321200@troop58ashburn.camp
SUMMARY:Digital Technology MB
DESCRIPTION:ASM Eric Wall will be hosting a MB class for Digital Technology MB \n \nVirtual meeting details: \nBSA Troop58 is inviting you to a scheduled Zoom meeting. \n \nTopic: BSA Troop58's Personal Meeting Room \n \nJoin Zoom Meeting \nhttps://us02web.zoom.us/j/9107369914?pwd=VlQ5aG4rM1NnQmlJSzFUWGIySVEyZz09 \n \nMeeting ID: 910 736 9914 \nPassword: 879318
URL:https://troop58ashburn.camp/event-2/digital-technology-mb-18/
LOCATION:Virtual
END:VEVENT
BEGIN:VEVENT
DTSTART;TZID=America/New_York:20200709T180000
DTEND;TZID=America/New_York:20200709T190000
DTSTAMP:20260426T001923
CREATED:20200618T020043Z
LAST-MODIFIED:20200625T032710Z
UID:5886-1594317600-1594321200@troop58ashburn.camp
SUMMARY:Digital Technology MB
DESCRIPTION:ASM Eric Wall will be hosting a MB class for Digital Technology MB
URL:https://troop58ashburn.camp/event-2/digital-technology-mb-12/
LOCATION:Virtual
END:VEVENT
BEGIN:VEVENT
DTSTART;TZID=America/New_York:20200709T180000
DTEND;TZID=America/New_York:20200709T190000
DTSTAMP:20260426T001923
CREATED:20200613T004308Z
LAST-MODIFIED:20200617T014403Z
UID:5860-1594317600-1594321200@troop58ashburn.camp
SUMMARY:Digital Technology MB
DESCRIPTION:ASM Eric Wall will be hosting a MB class for Digital Technology MB
URL:https://troop58ashburn.camp/event-2/digital-technology-mb-4/
LOCATION:Virtual
END:VEVENT
BEGIN:VEVENT
DTSTART;TZID=America/New_York:20200709T140000
DTEND;TZID=America/New_York:20200709T150000
DTSTAMP:20260426T001923
CREATED:20200605T231229Z
LAST-MODIFIED:20200709T053620Z
UID:5811-1594303200-1594306800@troop58ashburn.camp
SUMMARY:Northern Tier Crew Meeting: Team Building
DESCRIPTION:Northern Tier Crew\, \nWe will be doing team building activities. \nLet me know if you have any questions. \nYiS\, \nCameron
URL:https://troop58ashburn.camp/event-2/northern-tier-crew-meeting-team-building-3/
END:VEVENT
BEGIN:VEVENT
DTSTART;TZID=America/New_York:20200709T140000
DTEND;TZID=America/New_York:20200709T143000
DTSTAMP:20260426T001923
CREATED:20200707T051046Z
LAST-MODIFIED:20200709T053620Z
UID:5964-1594303200-1594305000@troop58ashburn.camp
SUMMARY:Hiking Instructional Rank Class
DESCRIPTION:We will be having an Instructional Rank Class on Hiking. Everyone is recommended to attend the class and bring a pocket knife to practice on. \nTeacher: Grant Khalili \nZoom link – https://us02web.zoom.us/j/83472551440?pwd=OVd0Rk10YktLNTlPT3RQMGZxdEJ3dz09
URL:https://troop58ashburn.camp/event-2/hiking-instructional-rank-class/
END:VEVENT
BEGIN:VEVENT
DTSTART;TZID=America/New_York:20200708T190000
DTEND;TZID=America/New_York:20200708T200000
DTSTAMP:20260426T001923
CREATED:20200512T192252Z
LAST-MODIFIED:20200619T020724Z
UID:5622-1594234800-1594238400@troop58ashburn.camp
SUMMARY:Personal Fitness Merit Badge
DESCRIPTION:Hi Troop\, starting May 20th\, at 6:30pm\, I will be holding a virtual class for Personal Fitness Merit Badge.  If you would like to attend\, please RSVP in Troop Track and follow the link below to our meetings. \nIf you have any questions\, please let me now. \nYiS\, \nMr. Anderson (eanderson@tollbrothers.com)
URL:https://troop58ashburn.camp/event-2/personal-fitness-merit-badge-8/
LOCATION:Virtual
END:VEVENT
BEGIN:VEVENT
DTSTART;TZID=America/New_York:20200706T190000
DTEND;TZID=America/New_York:20200706T200000
DTSTAMP:20260426T001923
CREATED:20200611T000825Z
LAST-MODIFIED:20200706T050941Z
UID:5837-1594062000-1594065600@troop58ashburn.camp
SUMMARY:Camping Merit Badge
DESCRIPTION:Please join the meeting 5 minutes early\, so we can start on time. \n7:00 – 8::00\, Monday’s (Until we are done) \n \nEric Anderson is inviting you to a scheduled Zoom meeting. \n \nJoin Zoom Meeting \nhttps://us02web.zoom.us/j/82085766610?pwd=T2NQbjNOM21wd1ZLVUFxb0JldCtmdz09 \n \nMeeting ID: 820 8576 6610 \nPassword: 479595 \nOne tap mobile \n+16465588656\,\,82085766610#\,\,1#\,479595# US (New York) \n+13017158592\,\,82085766610#\,\,1#\,479595# US (Germantown) \n \nDial by your location \n+1 646 558 8656 US (New York) \n+1 301 715 8592 US (Germantown) \n+1 312 626 6799 US (Chicago) \n+1 669 900 9128 US (San Jose) \n+1 253 215 8782 US (Tacoma) \n+1 346 248 7799 US (Houston) \nMeeting ID: 820 8576 6610 \nPassword: 479595 \nFind your local number: https://us02web.zoom.us/u/kPSxkLdaN
URL:https://troop58ashburn.camp/event-2/camping-merit-badge-6/
LOCATION:Virtual
END:VEVENT
BEGIN:VEVENT
DTSTART;TZID=America/New_York:20200706T140000
DTEND;TZID=America/New_York:20200706T144500
DTSTAMP:20260426T001923
CREATED:20200525T204110Z
LAST-MODIFIED:20200706T050941Z
UID:5726-1594044000-1594046700@troop58ashburn.camp
SUMMARY:Virtual PLC huddle
DESCRIPTION:Weekly virtual PLC huddles for the time-being. \n \nJoin Zoom Meeting \nhttps://us04web.zoom.us/j/5265677173?pwd=OTFmQnJpTmJHK0hUcGJ2U0w0ampaZz09 \n \nMeeting ID: 526 567 7173 \nPassword: 1BktwG
URL:https://troop58ashburn.camp/event-2/virtual-plc-huddle-19/
LOCATION:Virtual
END:VEVENT
BEGIN:VEVENT
DTSTART;TZID=America/New_York:20200702T180000
DTEND;TZID=America/New_York:20200702T190000
DTSTAMP:20260426T001923
CREATED:20200626T033711Z
LAST-MODIFIED:20200702T044410Z
UID:5917-1593712800-1593716400@troop58ashburn.camp
SUMMARY:Digital Technology MB
DESCRIPTION:ASM Eric Wall will be hosting a MB class for Digital Technology MB \n \nVirtual meeting details: \nBSA Troop58 is inviting you to a scheduled Zoom meeting. \n \nTopic: BSA Troop58’s Personal Meeting Room \n \nJoin Zoom Meeting \nhttps://us02web.zoom.us/j/9107369914?pwd=VlQ5aG4rM1NnQmlJSzFUWGIySVEyZz09 \n \nMeeting ID: 910 736 9914 \nPassword: 879318
URL:https://troop58ashburn.camp/event-2/digital-technology-mb-17/
LOCATION:Virtual
END:VEVENT
BEGIN:VEVENT
DTSTART;TZID=America/New_York:20200702T180000
DTEND;TZID=America/New_York:20200702T190000
DTSTAMP:20260426T001923
CREATED:20200618T020043Z
LAST-MODIFIED:20200625T032709Z
UID:5885-1593712800-1593716400@troop58ashburn.camp
SUMMARY:Digital Technology MB
DESCRIPTION:ASM Eric Wall will be hosting a MB class for Digital Technology MB
URL:https://troop58ashburn.camp/event-2/digital-technology-mb-11/
LOCATION:Virtual
END:VEVENT
BEGIN:VEVENT
DTSTART;TZID=America/New_York:20200702T180000
DTEND;TZID=America/New_York:20200702T190000
DTSTAMP:20260426T001923
CREATED:20200613T004307Z
LAST-MODIFIED:20200617T014403Z
UID:5859-1593712800-1593716400@troop58ashburn.camp
SUMMARY:Digital Technology MB
DESCRIPTION:ASM Eric Wall will be hosting a MB class for Digital Technology MB
URL:https://troop58ashburn.camp/event-2/digital-technology-mb-3/
LOCATION:Virtual
END:VEVENT
BEGIN:VEVENT
DTSTART;TZID=America/New_York:20200701T190000
DTEND;TZID=America/New_York:20200701T200000
DTSTAMP:20260426T001923
CREATED:20200512T192251Z
LAST-MODIFIED:20200619T020724Z
UID:5621-1593630000-1593633600@troop58ashburn.camp
SUMMARY:Personal Fitness Merit Badge
DESCRIPTION:Hi Troop\, starting May 20th\, at 6:30pm\, I will be holding a virtual class for Personal Fitness Merit Badge.  If you would like to attend\, please RSVP in Troop Track and follow the link below to our meetings. \nIf you have any questions\, please let me now. \nJoin Zoom Meeting \nhttps://us02web.zoom.us/j/81727874819?pwd=b1hLdk1PRXErUjhVZWV5NTZhNUx2dz09 \nYiS\, \nMr. Anderson (eanderson@tollbrothers.com)
URL:https://troop58ashburn.camp/event-2/personal-fitness-merit-badge-7/
LOCATION:Virtual
END:VEVENT
BEGIN:VEVENT
DTSTART;TZID=America/New_York:20200629T190000
DTEND;TZID=America/New_York:20200629T200000
DTSTAMP:20260426T001923
CREATED:20200611T000825Z
LAST-MODIFIED:20200625T032709Z
UID:5836-1593457200-1593460800@troop58ashburn.camp
SUMMARY:Camping Merit Badge
DESCRIPTION:Please join the meeting 5 minutes early\, so we can start on time. \n7:00 – 8::00\, Monday’s (Until we are done) \n \nEric Anderson is inviting you to a scheduled Zoom meeting. \n \nJoin Zoom Meeting \nhttps://us02web.zoom.us/j/82085766610?pwd=T2NQbjNOM21wd1ZLVUFxb0JldCtmdz09 \n \nMeeting ID: 820 8576 6610 \nPassword: 479595 \nOne tap mobile \n+16465588656\,\,82085766610#\,\,1#\,479595# US (New York) \n+13017158592\,\,82085766610#\,\,1#\,479595# US (Germantown) \n \nDial by your location \n+1 646 558 8656 US (New York) \n+1 301 715 8592 US (Germantown) \n+1 312 626 6799 US (Chicago) \n+1 669 900 9128 US (San Jose) \n+1 253 215 8782 US (Tacoma) \n+1 346 248 7799 US (Houston) \nMeeting ID: 820 8576 6610 \nPassword: 479595 \nFind your local number: https://us02web.zoom.us/u/kPSxkLdaN
URL:https://troop58ashburn.camp/event-2/camping-merit-badge-5/
LOCATION:Virtual
END:VEVENT
BEGIN:VEVENT
DTSTART;TZID=America/New_York:20200629T140000
DTEND;TZID=America/New_York:20200629T144500
DTSTAMP:20260426T001923
CREATED:20200525T204109Z
LAST-MODIFIED:20200525T204115Z
UID:5724-1593439200-1593441900@troop58ashburn.camp
SUMMARY:Virtual PLC huddle
DESCRIPTION:Weekly virtual PLC huddles for the time-being. \n \nJoin Zoom Meeting \nhttps://us04web.zoom.us/j/5265677173?pwd=OTFmQnJpTmJHK0hUcGJ2U0w0ampaZz09 \n \nMeeting ID: 526 567 7173 \nPassword: 1BktwG
URL:https://troop58ashburn.camp/event-2/virtual-plc-huddle-18/
LOCATION:Virtual
END:VEVENT
BEGIN:VEVENT
DTSTART;TZID=America/New_York:20200628T073000
DTEND;TZID=America/New_York:20200704T120000
DTSTAMP:20260426T001923
CREATED:20200507T185127Z
LAST-MODIFIED:20200704T045405Z
UID:5559-1593329400-1593864000@troop58ashburn.camp
SUMMARY:Summer Camp - Finalized Update Camp Summit Bechtel Research WV
DESCRIPTION:Camp dates have been rescheduled and finalize to June 28th – July 4th\n\n\n\nHi Troop 58\, after all of the back and forth\, we are now officially ready to attend summer Camp the week of 6/28 – 7/4\, at the Summit Bechtel Reserve and the James C Justice National Scout Camp (https://www.summitbsa.org/programs/scout-camp/).  \n \nWhen you visit the site\, please note that you will not see the week of the 28th as an option. This week is specifically reserved for the Troops from Virginia that were not able to attend camp at their regularly scheduled week.  \n \nUnfortunately we do not have a lot of time and need quickly determine who plans to attend and get them registered. There are no limitations on Troop size.  \nBy Tuesday\, May 26th we need to know the following: Please RSVP through the following link if you Scout is planning on attending \nhttps://docs.google.com/forms/d/e/1FAIpQLSfqFdEvet7cAX3WlW4EB4bvmhefqoYWZ-4Ph1Z6k3pJ5KNG1g/viewform?usp=sf_link  \n \nWe need at least four parent volunteers to attend\, please follow the following link if you can attend  \n \nOnce we are registered we will follow back up to coordinate transportation\, merit badges\, and medical forms. Thank you for your quick response. If you have any questions\, please let me now. Eric Andersoneanderson@tollbrothers.com \n\n\n \n\n\n\n\n\n\nLeaving:  Sunday – June 28th – Meet at Trailside7:30am (please be on time since we need help packing)\, pack cars\, and leave at 8:00am for arrival/drop-off at 1:30pm at camp. We will be stopping for lunch along the way so please bring money for lunch. \n\n\nGoing Home:  Saturday – July 4th – Checkout will begin at 8:30am that may take an hour.  Estimate time of arrival back to Trailside will be Noon.  We will text updates along the way.   \n Actions needed from you: \n(1) TroopTrack – please set 'Yes' you will be attending for the event. \n(2) Fill out Google Form asap (deadline Tuesday 6/28) \nhttps://docs.google.com/forms/d/e/1FAIpQLSfqFdEvet7cAX3WlW4EB4bvmhefqoYWZ-4Ph1Z6k3pJ5KNG1g/viewform?usp=sf_link \nIf anyone has any questions\, please feel free to ASMs Ken Currie kencurrie@gmail.com or Eric Anderson at eanderson@tollbrothers.com. \nThe camp is located outside Jean\, WV – https://www.summitbsa.org/programs/scout-camp/  \n\n\n\n \n \n\n\nDetails\n\n\n\nStarts At\nJune 28th\, 2020 at 07:30 am\nEnds At\nJuly 4th\, 2020 at 12:30 pm\nLocation\nCamp Summit\nAttendance Requirements\nYouth Fee: $0.00\nAdult Fee: $0.00\nA signed permission form is required for this activity. Fill out and print\nA current medical form is required\nTour Plan\nNot required\nCamping Nights\n6\nCoordinators\nContact Eric Anderson for more information.\nScheduled by\nEric Anderson\n\n\n\n\n\nRSVP Notes
URL:https://troop58ashburn.camp/event-2/summer-camp-3/
LOCATION:Camp Summit – WV
END:VEVENT
BEGIN:VEVENT
DTSTART;TZID=America/New_York:20200625T180000
DTEND;TZID=America/New_York:20200625T190000
DTSTAMP:20260426T001923
CREATED:20200618T020042Z
LAST-MODIFIED:20200625T032709Z
UID:5884-1593108000-1593111600@troop58ashburn.camp
SUMMARY:Digital Technology MB
DESCRIPTION:ASM Eric Wall will be hosting a MB class for Digital Technology MB
URL:https://troop58ashburn.camp/event-2/digital-technology-mb-10/
LOCATION:Virtual
END:VEVENT
BEGIN:VEVENT
DTSTART;TZID=America/New_York:20200625T180000
DTEND;TZID=America/New_York:20200625T190000
DTSTAMP:20260426T001923
CREATED:20200613T004307Z
LAST-MODIFIED:20200617T014402Z
UID:5858-1593108000-1593111600@troop58ashburn.camp
SUMMARY:Digital Technology MB
DESCRIPTION:ASM Eric Wall will be hosting a MB class for Digital Technology MB
URL:https://troop58ashburn.camp/event-2/digital-technology-mb-2/
LOCATION:Virtual
END:VEVENT
BEGIN:VEVENT
DTSTART;TZID=America/New_York:20200625T163000
DTEND;TZID=America/New_York:20200625T173000
DTSTAMP:20260426T001923
CREATED:20200623T030923Z
LAST-MODIFIED:20200625T032709Z
UID:5910-1593102600-1593106200@troop58ashburn.camp
SUMMARY:Cooking MB class
DESCRIPTION:BSA Troop58 is inviting you to a scheduled Zoom meeting. \n \nTopic: Cooking MB class \nTime: Jun 25\, 2020 04:30 PM Eastern Time (US and Canada) \n \nJoin Zoom Meeting \nhttps://us02web.zoom.us/j/89359065283?pwd=LzdpWHE5VG45NHBZQ0l0aWNKZVRWZz09 \n \nMeeting ID: 893 5906 5283 \nPassword: 719634 \nOne tap mobile \n+19292056099\,\,89359065283#\,\,\,\,0#\,\,719634# US (New York) \n+13017158592\,\,89359065283#\,\,\,\,0#\,\,719634# US (Germantown) \n \nDial by your location \n        +1 929 205 6099 US (New York) \n        +1 301 715 8592 US (Germantown) \n        +1 312 626 6799 US (Chicago) \n        +1 669 900 6833 US (San Jose) \n        +1 253 215 8782 US (Tacoma) \n        +1 346 248 7799 US (Houston) \nMeeting ID: 893 5906 5283 \nPassword: 719634 \nFind your local number: https://us02web.zoom.us/u/kcCQHgau1O
URL:https://troop58ashburn.camp/event-2/cooking-mb-class-2/
LOCATION:Zoom
END:VEVENT
BEGIN:VEVENT
DTSTART;TZID=America/New_York:20200625T160000
DTEND;TZID=America/New_York:20200625T170000
DTSTAMP:20260426T001923
CREATED:20200608T234250Z
LAST-MODIFIED:20200625T032709Z
UID:5819-1593100800-1593104400@troop58ashburn.camp
SUMMARY:Camping and Outdoor Ethics - Instructional Rank Class
DESCRIPTION:Grant Khalili will be teaching an instructional class on Camping and Outdoor Ethics. All scouts under the rank of first-class are recommended to join. \n \nZoom link will be posted shortly before the class.
URL:https://troop58ashburn.camp/event-2/camping-and-outdoor-ethics-instructional-rank-class-2/
END:VEVENT
BEGIN:VEVENT
DTSTART;TZID=America/New_York:20200625T160000
DTEND;TZID=America/New_York:20200625T170000
DTSTAMP:20260426T001923
CREATED:20200525T204109Z
LAST-MODIFIED:20200611T000825Z
UID:5723-1593100800-1593104400@troop58ashburn.camp
SUMMARY:Instructional Rank Class
DESCRIPTION:We will be having an Instructional Rank Class. All scouts that are not First Class yet are recommended to attend the class. \nTopic: TBD \nTeacher: TBD \nZoom link will be posted shortly before the class.
URL:https://troop58ashburn.camp/event-2/instructional-rank-class-3/
LOCATION:Virtual
END:VEVENT
BEGIN:VEVENT
DTSTART;TZID=America/New_York:20200624T190000
DTEND;TZID=America/New_York:20200624T200000
DTSTAMP:20260426T001923
CREATED:20200512T192251Z
LAST-MODIFIED:20200619T020723Z
UID:5620-1593025200-1593028800@troop58ashburn.camp
SUMMARY:Personal Fitness Merit Badge
DESCRIPTION:Hi Troop\, starting May 20th\, at 6:30pm\, I will be holding a virtual class for Personal Fitness Merit Badge.  If you would like to attend\, please RSVP in Troop Track and follow the link below to our meetings. \nIf you have any questions\, please let me now. \nJoin Zoom Meeting \nhttps://us02web.zoom.us/j/81727874819?pwd=b1hLdk1PRXErUjhVZWV5NTZhNUx2dz09 \nYiS\, \nMr. Anderson (eanderson@tollbrothers.com)
URL:https://troop58ashburn.camp/event-2/personal-fitness-merit-badge-6/
LOCATION:Virtual
END:VEVENT
BEGIN:VEVENT
DTSTART;TZID=America/New_York:20200623T180000
DTEND;TZID=America/New_York:20200623T193000
DTSTAMP:20260426T001923
CREATED:20200605T231227Z
LAST-MODIFIED:20200622T030019Z
UID:5810-1592935200-1592940600@troop58ashburn.camp
SUMMARY:Northern Tier Crew Meeting: Team Building
DESCRIPTION:Northern Tier Crew\, \nWe will be doing team building activities. \nLet me know if you have any questions. \nYiS\, \nCameron
URL:https://troop58ashburn.camp/event-2/northern-tier-crew-meeting-team-building-2/
END:VEVENT
BEGIN:VEVENT
DTSTART;TZID=America/New_York:20200622T190000
DTEND;TZID=America/New_York:20200622T200000
DTSTAMP:20260426T001923
CREATED:20200611T000824Z
LAST-MODIFIED:20200622T030019Z
UID:5835-1592852400-1592856000@troop58ashburn.camp
SUMMARY:Camping Merit Badge
DESCRIPTION:Please join the meeting 5 minutes early\, so we can start on time. \n7:00 – 8::00\, Monday’s (Until we are done) \n \nEric Anderson is inviting you to a scheduled Zoom meeting. \n \nJoin Zoom Meeting \nhttps://us02web.zoom.us/j/82085766610?pwd=T2NQbjNOM21wd1ZLVUFxb0JldCtmdz09 \n \nMeeting ID: 820 8576 6610 \nPassword: 479595 \nOne tap mobile \n+16465588656\,\,82085766610#\,\,1#\,479595# US (New York) \n+13017158592\,\,82085766610#\,\,1#\,479595# US (Germantown) \n \nDial by your location \n+1 646 558 8656 US (New York) \n+1 301 715 8592 US (Germantown) \n+1 312 626 6799 US (Chicago) \n+1 669 900 9128 US (San Jose) \n+1 253 215 8782 US (Tacoma) \n+1 346 248 7799 US (Houston) \nMeeting ID: 820 8576 6610 \nPassword: 479595 \nFind your local number: https://us02web.zoom.us/u/kPSxkLdaN
URL:https://troop58ashburn.camp/event-2/camping-merit-badge-4/
LOCATION:Virtual
END:VEVENT
BEGIN:VEVENT
DTSTART;TZID=America/New_York:20200622T140000
DTEND;TZID=America/New_York:20200622T144500
DTSTAMP:20260426T001923
CREATED:20200525T204109Z
LAST-MODIFIED:20200622T030018Z
UID:5722-1592834400-1592837100@troop58ashburn.camp
SUMMARY:Virtual PLC huddle
DESCRIPTION:Weekly virtual PLC huddles for the time-being. \n \nJoin Zoom Meeting \nhttps://us04web.zoom.us/j/5265677173?pwd=OTFmQnJpTmJHK0hUcGJ2U0w0ampaZz09 \n \nMeeting ID: 526 567 7173 \nPassword: 1BktwG
URL:https://troop58ashburn.camp/event-2/virtual-plc-huddle-17/
LOCATION:Virtual
END:VEVENT
BEGIN:VEVENT
DTSTART;TZID=America/New_York:20200620T130000
DTEND;TZID=America/New_York:20200620T133000
DTSTAMP:20260426T001923
CREATED:20200619T020722Z
LAST-MODIFIED:20200619T020722Z
UID:5892-1592658000-1592659800@troop58ashburn.camp
SUMMARY:Eagles Facetime
DESCRIPTION:The Eagles Patrol will be having an online patrol meeting via Facetime this Saturday at 1 pm. Please RSVP if you plan on attending.
URL:https://troop58ashburn.camp/event-2/eagles-facetime/
END:VEVENT
BEGIN:VEVENT
DTSTART;TZID=America/New_York:20200620T084500
DTEND;TZID=America/New_York:20200620T180000
DTSTAMP:20260426T001923
CREATED:20200528T212155Z
LAST-MODIFIED:20200620T020750Z
UID:5755-1592642700-1592676000@troop58ashburn.camp
SUMMARY:Troop-wide Canoeing Outing
DESCRIPTION:We are excited to have our first outdoor Troop outing in some time – a day trip to Antietam Creek for an 8-mile guided canoe trek! \nPreliminary details are as follows: \n\nMeeting time/location: 8:30am @ Trailside MS for an 8:45am departure \nActivity start time:  10am at Devil's Backbone Park\nActivity end time:  2:30pm-3pm with an estimated return time to Trailside of 3:30pm – 4pm\nCost:  $60 per person.  Payments can be made via Zelle; check sent/dropped off with Wilson Chua\, 43284 John Danforth Court\, Ashburn VA\, 20147; or check brought to the trip departure.\nAll canoeing levels welcome\nHow to dress:  Be prepared to get wet (shorts\, t-shirt and water shoes that stay on feet\, so no flip-flops).  \nWhat to bring:  Towel\, change of clothing\, hat\, sunscreen\, water bottle\, snacks\, and packed lunch\nWaiver:  All attendees must complete a waiver (attached below)\n\nWAIVERANDRELEASEOFLIABILITY.pdf \n\nRSVP by 6/12/20\n\nPlease note that masks will be required to be worn in cars.  However\, once outdoors and on the water\, they will be optional. \nPlease contact Eric Miller or Michelle Khalili with any questions.
URL:https://troop58ashburn.camp/event-2/troop-wide-canoeing-outing/
LOCATION:Devil’s Backbone Park\, 19005 Lappans Rd\, Fairplay\, MD\, United States
END:VEVENT
BEGIN:VEVENT
DTSTART;TZID=America/New_York:20200619T150000
DTEND;TZID=America/New_York:20200619T170000
DTSTAMP:20260426T001923
CREATED:20200613T004306Z
LAST-MODIFIED:20200619T020722Z
UID:5857-1592578800-1592586000@troop58ashburn.camp
SUMMARY:Swim Test for Summer Camp & Northern Tier on 6/19
DESCRIPTION:Summer Campers & Northern Tier Trekkers\, \nBSA requires that participants must pass a swim test.  For NT\, swim tests must be done prior to arrival.  For Summer Camp\, Summit has strongly encouraged us to do the test prior to arrival\, otherwise the test will be in a lake far away from the campground\, and wait times may potentially be hours.   \nThe McClellands have graciously offered use of their pool to facilitate the test.  For social distancing and also basic crowd-management purposes\, we will be conducting tests 5 people at a time every 20 minutes.   \nTo RSVP\, please do the following: \n1)  Review the times (3pm\, 3:20pm\, 3:40pm\, 4pm\, 4:20pm) \n2)  Review the comments of people who have already RSVPd to make sure there are not already 5 others who have claimed the time slot you want \n3)  RSVP and comment what time you will take the test.  RSVPs are due by NOON on 6/18. \nPLEASE ARRIVE AT LEAST 10 MINUTES BEFORE YOUR TEST.  DO NOT BE LATE\, OR YOU WILL NEED TO WAIT UNTIL THE VERY END.   \n \nSwimmers pass this test: \nJump feet first into water over the head in depth. Level off and swim 75 yards in a strong manner using one or more of the following strokes: sidestroke\, breaststroke\, trudgen\, or crawl; then swim 25 yards using an easy resting backstroke. The 100 yards must be completed in one swim without stops and must include at least one sharp turn. After completing the swim\, rest by floating. \nBeginners pass this test: \nJump feet first into water over the head in depth\, level off\, and swim 25 feet on the surface. Stop\, turn sharply\, resume swimming and return to the starting place. Anyone who has not completed either the beginner or swimmer tests is classified as a nonswimmer. \nIf you cannot make it to the swim test on 6/19\, please contact me ASAP. \n \nYiS\, \nMs. Khalili \n703-439-0230
URL:https://troop58ashburn.camp/event-2/swim-test-for-summer-camp-northern-tier-on-6-19/
LOCATION:The McClelland’s Pool (backyard)\, 21982 Hyde Park Drive\, Ashburn
END:VEVENT
BEGIN:VEVENT
DTSTART;TZID=America/New_York:20200618T193000
DTEND;TZID=America/New_York:20200618T203000
DTSTAMP:20260426T001923
CREATED:20200603T224258Z
LAST-MODIFIED:20200618T020042Z
UID:5795-1592508600-1592512200@troop58ashburn.camp
SUMMARY:ASM meeting
DESCRIPTION:Monthly ASM meeting…open to all registered adult leaders or those who want to be one! \nhttps://us02web.zoom.us/j/81446274550?pwd=dXdTNFJNdVVScnFwUmV6WjEwM25JZz09
URL:https://troop58ashburn.camp/event-2/asm-meeting-42/
LOCATION:Zoom
END:VEVENT
END:VCALENDAR