BEGIN:VCALENDAR
VERSION:2.0
PRODID:-//Boy Scout Troop 58 - Ashburn, VA - ECPv6.15.20//NONSGML v1.0//EN
CALSCALE:GREGORIAN
METHOD:PUBLISH
X-WR-CALNAME:Boy Scout Troop 58 - Ashburn, VA
X-ORIGINAL-URL:https://troop58ashburn.camp
X-WR-CALDESC:Events for Boy Scout Troop 58 - Ashburn, VA
REFRESH-INTERVAL;VALUE=DURATION:PT1H
X-Robots-Tag:noindex
X-PUBLISHED-TTL:PT1H
BEGIN:VTIMEZONE
TZID:America/New_York
BEGIN:DAYLIGHT
TZOFFSETFROM:-0500
TZOFFSETTO:-0400
TZNAME:EDT
DTSTART:20190310T070000
END:DAYLIGHT
BEGIN:STANDARD
TZOFFSETFROM:-0400
TZOFFSETTO:-0500
TZNAME:EST
DTSTART:20191103T060000
END:STANDARD
BEGIN:DAYLIGHT
TZOFFSETFROM:-0500
TZOFFSETTO:-0400
TZNAME:EDT
DTSTART:20200308T070000
END:DAYLIGHT
BEGIN:STANDARD
TZOFFSETFROM:-0400
TZOFFSETTO:-0500
TZNAME:EST
DTSTART:20201101T060000
END:STANDARD
BEGIN:DAYLIGHT
TZOFFSETFROM:-0500
TZOFFSETTO:-0400
TZNAME:EDT
DTSTART:20210314T070000
END:DAYLIGHT
BEGIN:STANDARD
TZOFFSETFROM:-0400
TZOFFSETTO:-0500
TZNAME:EST
DTSTART:20211107T060000
END:STANDARD
END:VTIMEZONE
BEGIN:VEVENT
DTSTART;TZID=America/New_York:20200801T103000
DTEND;TZID=America/New_York:20200801T123000
DTSTAMP:20260426T001906
CREATED:20200717T075139Z
LAST-MODIFIED:20200801T115624Z
UID:6007-1596277800-1596285000@troop58ashburn.camp
SUMMARY:Trailer Cleanup/Organization
DESCRIPTION:Trailer Cleanup \nTasks:  \nScrub and clean outside of trailer and clean off rust. \nSweep and fix inside of trailer. \nRestock with supplies – axe/hatchet covers\, lighters\, coal chimney\, whetstone\, mallet\, new stoves\, dustpan\, plastic bin for flags\, facemasks\, tent stake puller\, and others. \nReplace bungee cords with wood – (supplies: plywood\, hinges\, screws\, latches) \nLet me know if you have any questions or concerns.
URL:https://troop58ashburn.camp/event-2/trailer-cleanup-organization/
LOCATION:43600 Russell Branch Pkwy\, Ashburn\, VA\, United States
END:VEVENT
BEGIN:VEVENT
DTSTART;TZID=America/New_York:20200730T180000
DTEND;TZID=America/New_York:20200730T190000
DTSTAMP:20260426T001906
CREATED:20200626T033713Z
LAST-MODIFIED:20200729T111200Z
UID:5922-1596132000-1596135600@troop58ashburn.camp
SUMMARY:Digital Technology MB
DESCRIPTION:ASM Eric Wall will be hosting a MB class for Digital Technology MB \n \nVirtual meeting details: \nBSA Troop58 is inviting you to a scheduled Zoom meeting. \n \nTopic: BSA Troop58's Personal Meeting Room \n \nJoin Zoom Meeting \nhttps://us02web.zoom.us/j/9107369914?pwd=VlQ5aG4rM1NnQmlJSzFUWGIySVEyZz09 \n \nMeeting ID: 910 736 9914 \nPassword: 879318
URL:https://troop58ashburn.camp/event-2/digital-technology-mb-21/
LOCATION:Virtual
END:VEVENT
BEGIN:VEVENT
DTSTART;TZID=America/New_York:20200730T180000
DTEND;TZID=America/New_York:20200730T190000
DTSTAMP:20260426T001906
CREATED:20200618T020045Z
LAST-MODIFIED:20200625T032712Z
UID:5889-1596132000-1596135600@troop58ashburn.camp
SUMMARY:Digital Technology MB
DESCRIPTION:ASM Eric Wall will be hosting a MB class for Digital Technology MB
URL:https://troop58ashburn.camp/event-2/digital-technology-mb-15/
LOCATION:Virtual
END:VEVENT
BEGIN:VEVENT
DTSTART;TZID=America/New_York:20200730T180000
DTEND;TZID=America/New_York:20200730T190000
DTSTAMP:20260426T001906
CREATED:20200613T004310Z
LAST-MODIFIED:20200617T014405Z
UID:5863-1596132000-1596135600@troop58ashburn.camp
SUMMARY:Digital Technology MB
DESCRIPTION:ASM Eric Wall will be hosting a MB class for Digital Technology MB
URL:https://troop58ashburn.camp/event-2/digital-technology-mb-7/
LOCATION:Virtual
END:VEVENT
BEGIN:VEVENT
DTSTART;TZID=America/New_York:20200729T190000
DTEND;TZID=America/New_York:20200729T200000
DTSTAMP:20260426T001906
CREATED:20200512T192253Z
LAST-MODIFIED:20200619T020726Z
UID:5625-1596049200-1596052800@troop58ashburn.camp
SUMMARY:Personal Fitness Merit Badge
DESCRIPTION:Hi Troop\, starting May 20th\, at 6:30pm\, I will be holding a virtual class for Personal Fitness Merit Badge.  If you would like to attend\, please RSVP in Troop Track and follow the link below to our meetings. \nIf you have any questions\, please let me now. \nJoin Zoom Meeting \nhttps://us02web.zoom.us/j/81727874819?pwd=b1hLdk1PRXErUjhVZWV5NTZhNUx2dz09 \nYiS\, \nMr. Anderson (eanderson@tollbrothers.com)
URL:https://troop58ashburn.camp/event-2/personal-fitness-merit-badge-11/
LOCATION:Virtual
END:VEVENT
BEGIN:VEVENT
DTSTART;TZID=America/New_York:20200727T190000
DTEND;TZID=America/New_York:20200727T200000
DTSTAMP:20260426T001906
CREATED:20200611T000828Z
LAST-MODIFIED:20200727T105808Z
UID:5840-1595876400-1595880000@troop58ashburn.camp
SUMMARY:Camping Merit Badge
DESCRIPTION:Please join the meeting 5 minutes early\, so we can start on time. \n7:00 – 8::00\, Monday's (Until we are done) \n \nEric Anderson is inviting you to a scheduled Zoom meeting. \n \nJoin Zoom Meeting \nhttps://us02web.zoom.us/j/82085766610?pwd=T2NQbjNOM21wd1ZLVUFxb0JldCtmdz09 \n \nMeeting ID: 820 8576 6610 \nPassword: 479595 \nOne tap mobile \n+16465588656\,\,82085766610#\,\,1#\,479595# US (New York) \n+13017158592\,\,82085766610#\,\,1#\,479595# US (Germantown) \n \nDial by your location \n+1 646 558 8656 US (New York) \n+1 301 715 8592 US (Germantown) \n+1 312 626 6799 US (Chicago) \n+1 669 900 9128 US (San Jose) \n+1 253 215 8782 US (Tacoma) \n+1 346 248 7799 US (Houston) \nMeeting ID: 820 8576 6610 \nPassword: 479595 \nFind your local number: https://us02web.zoom.us/u/kPSxkLdaN
URL:https://troop58ashburn.camp/event-2/camping-merit-badge-9/
LOCATION:Virtual
END:VEVENT
BEGIN:VEVENT
DTSTART;TZID=America/New_York:20200725T130000
DTEND;TZID=America/New_York:20200725T133000
DTSTAMP:20260426T001906
CREATED:20200724T103638Z
LAST-MODIFIED:20200725T104201Z
UID:6025-1595682000-1595683800@troop58ashburn.camp
SUMMARY:Eagles Facetime
DESCRIPTION:The Eagles Patrol will be having an online patrol meeting via Facetime this Saturday at 1 pm. Please RSVP if you plan on attending.
URL:https://troop58ashburn.camp/event-2/eagles-facetime-3/
END:VEVENT
BEGIN:VEVENT
DTSTART;TZID=America/New_York:20200723T180000
DTEND;TZID=America/New_York:20200723T190000
DTSTAMP:20260426T001906
CREATED:20200626T033713Z
LAST-MODIFIED:20200723T104002Z
UID:5921-1595527200-1595530800@troop58ashburn.camp
SUMMARY:Digital Technology MB
DESCRIPTION:ASM Eric Wall will be hosting a MB class for Digital Technology MB \n \nVirtual meeting details: \nBSA Troop58 is inviting you to a scheduled Zoom meeting. \n \nTopic: BSA Troop58's Personal Meeting Room \n \nJoin Zoom Meeting \nhttps://us02web.zoom.us/j/9107369914?pwd=VlQ5aG4rM1NnQmlJSzFUWGIySVEyZz09 \n \nMeeting ID: 910 736 9914 \nPassword: 879318
URL:https://troop58ashburn.camp/event-2/digital-technology-mb-20/
LOCATION:Virtual
END:VEVENT
BEGIN:VEVENT
DTSTART;TZID=America/New_York:20200723T180000
DTEND;TZID=America/New_York:20200723T190000
DTSTAMP:20260426T001906
CREATED:20200618T020045Z
LAST-MODIFIED:20200625T032711Z
UID:5888-1595527200-1595530800@troop58ashburn.camp
SUMMARY:Digital Technology MB
DESCRIPTION:ASM Eric Wall will be hosting a MB class for Digital Technology MB
URL:https://troop58ashburn.camp/event-2/digital-technology-mb-14/
LOCATION:Virtual
END:VEVENT
BEGIN:VEVENT
DTSTART;TZID=America/New_York:20200723T180000
DTEND;TZID=America/New_York:20200723T190000
DTSTAMP:20260426T001906
CREATED:20200613T004310Z
LAST-MODIFIED:20200617T014405Z
UID:5862-1595527200-1595530800@troop58ashburn.camp
SUMMARY:Digital Technology MB
DESCRIPTION:ASM Eric Wall will be hosting a MB class for Digital Technology MB
URL:https://troop58ashburn.camp/event-2/digital-technology-mb-6/
LOCATION:Virtual
END:VEVENT
BEGIN:VEVENT
DTSTART;TZID=America/New_York:20200723T140000
DTEND;TZID=America/New_York:20200723T143000
DTSTAMP:20260426T001906
CREATED:20200707T051047Z
LAST-MODIFIED:20200721T100911Z
UID:5967-1595512800-1595514600@troop58ashburn.camp
SUMMARY:Basic Totin' Chip Safety - Instructional Rank Class
DESCRIPTION:We will be having an Instructional Rank Class on Basic Totin' Chip Safety. Everyone is recommended to attend the class and bring a pocket knife to practice on. \nTeacher: TBD \nZoom link – TBD
URL:https://troop58ashburn.camp/event-2/basic-totin-chip-safety-instructional-rank-class/
END:VEVENT
BEGIN:VEVENT
DTSTART;TZID=America/New_York:20200722T190000
DTEND;TZID=America/New_York:20200722T200000
DTSTAMP:20260426T001906
CREATED:20200512T192252Z
LAST-MODIFIED:20200619T020726Z
UID:5624-1595444400-1595448000@troop58ashburn.camp
SUMMARY:Personal Fitness Merit Badge
DESCRIPTION:Hi Troop\, starting May 20th\, at 6:30pm\, I will be holding a virtual class for Personal Fitness Merit Badge.  If you would like to attend\, please RSVP in Troop Track and follow the link below to our meetings. \nIf you have any questions\, please let me now. \nYiS\, \nMr. Anderson (eanderson@tollbrothers.com)
URL:https://troop58ashburn.camp/event-2/personal-fitness-merit-badge-10/
LOCATION:Virtual
END:VEVENT
BEGIN:VEVENT
DTSTART;TZID=America/New_York:20200721T140000
DTEND;TZID=America/New_York:20200721T144500
DTSTAMP:20260426T001906
CREATED:20200721T100911Z
LAST-MODIFIED:20200721T100911Z
UID:6018-1595340000-1595342700@troop58ashburn.camp
SUMMARY:Virtual PLC
DESCRIPTION:Weekly virtual PLC huddles for the time-being.  \nWe will be having one on Tuesday\, instead of Monday only for this week. \n \nJoin Zoom Meeting \nhttps://us04web.zoom.us/j/5265677173?pwd=OTFmQnJpTmJHK0hUcGJ2U0w0ampaZz09 \n \nMeeting ID: 526 567 7173 \nPassword: 1BktwG
URL:https://troop58ashburn.camp/event-2/virtual-plc/
END:VEVENT
BEGIN:VEVENT
DTSTART;TZID=America/New_York:20200720T190000
DTEND;TZID=America/New_York:20200720T200000
DTSTAMP:20260426T001906
CREATED:20200611T000827Z
LAST-MODIFIED:20200716T074110Z
UID:5839-1595271600-1595275200@troop58ashburn.camp
SUMMARY:Camping Merit Badge
DESCRIPTION:Please join the meeting 5 minutes early\, so we can start on time. \n7:00 – 8::00\, Monday’s (Until we are done) \n \nEric Anderson is inviting you to a scheduled Zoom meeting. \n \nJoin Zoom Meeting \nhttps://us02web.zoom.us/j/82085766610?pwd=T2NQbjNOM21wd1ZLVUFxb0JldCtmdz09 \n \nMeeting ID: 820 8576 6610 \nPassword: 479595 \nOne tap mobile \n+16465588656\,\,82085766610#\,\,1#\,479595# US (New York) \n+13017158592\,\,82085766610#\,\,1#\,479595# US (Germantown) \n \nDial by your location \n+1 646 558 8656 US (New York) \n+1 301 715 8592 US (Germantown) \n+1 312 626 6799 US (Chicago) \n+1 669 900 9128 US (San Jose) \n+1 253 215 8782 US (Tacoma) \n+1 346 248 7799 US (Houston) \nMeeting ID: 820 8576 6610 \nPassword: 479595 \nFind your local number: https://us02web.zoom.us/u/kPSxkLdaN
URL:https://troop58ashburn.camp/event-2/camping-merit-badge-8/
LOCATION:Virtual
END:VEVENT
BEGIN:VEVENT
DTSTART;TZID=America/New_York:20200720T140000
DTEND;TZID=America/New_York:20200720T144500
DTSTAMP:20260426T001906
CREATED:20200525T204111Z
LAST-MODIFIED:20200713T064931Z
UID:5728-1595253600-1595256300@troop58ashburn.camp
SUMMARY:Virtual PLC huddle
DESCRIPTION:Weekly virtual PLC huddles for the time-being. \n \nJoin Zoom Meeting \nhttps://us04web.zoom.us/j/5265677173?pwd=OTFmQnJpTmJHK0hUcGJ2U0w0ampaZz09 \n \nMeeting ID: 526 567 7173 \nPassword: 1BktwG
URL:https://troop58ashburn.camp/event-2/virtual-plc-huddle-21/
LOCATION:Virtual
END:VEVENT
BEGIN:VEVENT
DTSTART;TZID=America/New_York:20200719T211500
DTEND;TZID=America/New_York:20200719T224500
DTSTAMP:20260426T001906
CREATED:20200718T090202Z
LAST-MODIFIED:20200719T092502Z
UID:6012-1595193300-1595198700@troop58ashburn.camp
SUMMARY:Comet Neowise Viewing party @One_Loudoun (5 min drive)
DESCRIPTION:(This will be an "Individual Event".  Each family will coordinate their own logisitics.) \n(Note the location change!   While the event is still at One Loudoun\,  it is back to the northern fields of the property.) \nhttps://goo.gl/maps/7St4WuficpdmVXqj7 \nYou’ve probably heard about the comet on the news. Well here’s another good reason (and good opportunity) to see it. \nCome join me\, our Troop 58 and local cubscout pack 1158 for the best chances to see the comet Neowise (a once in a lifetime event). I’ll bring some Astronomy knowledge and maybe even break out a game of “are-you-smarter-than-a-cubscout?”. If you have any background in Astronomy or have any astronomical humor\, please be prepared to\, er\, shine (shine like\, a celestial object of your choice)😊 \nPlease RSVP by texting me your name and a message like "Will attend the One Loudoun Comet Viewing" to my mobile phone.  That way I'll be able to give you event updates\, if there are any to provide.  -Graham Edwards (703-728-7406) \n \nThere are two venues and two dates! \n· First venue – The weather report looks most promising on Saturday @Bear’s_Den. \n· Second venue – The weather report looks pretty good (all things considered) on Sunday @One_Loudoun \n  \nIt’s going to be pretty late for some kiddos. I suggest they get a healthy nap!  I know I will. \n   \n \nSECOND VENUE – ONE LOUDON – This Sunday \nOne Loudoun (On the Northern side of the Campus "Freetown Blvd\, Ashburn\, VA 20147") \nWhile One Loudoun doesn’t have the natural beauty of the first venue\, it does have convenience! It’s right here in town (5-7 minute drive). Also the kids can get around a bit more. Even so\, they’ll need to keep 6 foot distance from non-family members.   \nWe were given special permission to use the campus for this event (per Lindsey Pfisterer – General Manager)  A few points about the agreement: In accordance with that agreement with RPAI:  We will pick up any litter we find (whether it's ours or not).  We will keep socially distant.  We will acknowledge that RPAI (owner of One Loudoun) is not responsible for any incident (e.g. sickness or damage to our persons or property).  Adult supervision will be present to ensure youth do not.  I'll have an activity consent to capture your agreement if you choose to participate.  The attendees will be limited 40 persons. \n \nBasic Details \n· This Sunday (7/19/2020) \n· 9:15-10:30ish pm \n· One Loudoun (On the Northern side of the Campus "Freetown Blvd\, Ashburn\, VA 20147" ) \n· Provincetown Dr\, Ashburn\, VA 20147 \n· 3 minute drive from Ashburn Elementary School (may want to get there 15 min early) \n· We’ll meet at 9:15pm to watch the sun go down and chill. You can drive up late if need be. \n \nYou should definitely bring: \n· Bug spray \n· A bit of water \n· A face covering \n· Class B uniform \n· Camp Chairs \n \nI’d suggest you also bring\, if you can: \n· Flashlight for each person in your family (with adequate batteries) \n· An evening snack (the local frozen custard shop is pretty good) \n· Binoculars \n· Camera (with tripod) (with telephoto lens) \n· A smartphone with an astronomy app like Starmap or SkyView (both are free) \n· A well rested scout (may I suggest\, again\, that youngsters have napped?)
URL:https://troop58ashburn.camp/event-2/comet-neowise-viewing-party-one_loudoun-5-min-drive/
LOCATION:Freetown Blvd\, Ashburn\, VA\, United States
END:VEVENT
BEGIN:VEVENT
DTSTART;TZID=America/New_York:20200718T210000
DTEND;TZID=America/New_York:20200718T224500
DTSTAMP:20260426T001906
CREATED:20200718T090202Z
LAST-MODIFIED:20200718T090202Z
UID:6010-1595106000-1595112300@troop58ashburn.camp
SUMMARY:Comet Neowise Viewing party (@Bear's Den - 30 min drive)
DESCRIPTION:(This will be an "Individual Event".  Each family will coordinate their own logisitics. Due to limited parking at Bear's Den\, this is limited to 10 families/cars.)  \nYou’ve probably heard about the comet on the news. Well here’s another good reason (and good opportunity) to see it. \nCome join me\, our Troop 58 and local cubscout pack 1158 for the best chances to see the comet Neowise (a once in a lifetime event). I’ll bring some Astronomy knowledge and maybe even break out a game of “are-you-smarter-than-a-cubscout?”. If you have any background in Astronomy or have astronomy-themed-humor\, please be prepared to\, er\, shine (shine like\, a celestial object of your choice)😊 \n \nThere are two venues and two dates! \n· First venue – The weather report looks most promising on Saturday @Bear’s_Den. \n· Second venue – The weather report looks pretty good (all things considered) on Sunday @One_Loudoun \n  \nIt’s going to be pretty late for some kiddos. I suggest they get a healthy nap!  I know I will. \n   \nFIRST VENUE – BEAR’S DEN – This Saturday \nBears Den (a mountain scenic overlook ~30 minutes from here) \nBear’s Den is a classy mountain scenic view with nice elevation. The attendants at Bear's Den have granted us special after-hours access to the site. Since it will be getting dark and we will be on boulders\, you’ll need to keep with your scout to ensure they are safe. We can’t have anyone rambunctious at this event. You’ll need to hike in about 200 yards from the parking lot to the scenic overlook. \n \nBasic Details \n· This Saturday (7/18/2020) \n· 9:00-10:30ish pm \n· Bears Den \n· 18393 Blue Ridge Mountain Rd\, Bluemont\, VA 20135 \n· 34 minute drive from Ashburn Elementary School (may want to get there 15 min early) \n· We’ll meet at 9:05pm to hike to the scenic overlook (near the boulders) \n \nYou should definitely bring: \n· Flashlight for each person in your family (with adequate batteries) \n· Bug spray \n· A bit of water \n· A signed activity consent (more will be available at the location). \n· A face covering \n· Class B uniform \n· A cushion/blanket to sit on (to soften the bolder) \n \n \n \nI’d suggest you also bring\, if you can: \n· An evening snack \n· Binoculars \n· Camera (with tripod) (with telephoto lense) \n· A smartphone with an astronomy app like Starmap or SkyView (both are free) \n· A well rested scout (may I suggest they have napped?)
URL:https://troop58ashburn.camp/event-2/comet-neowise-viewing-party-bears-den-30-min-drive/
LOCATION:18393 Blue Ridge Mountain Rd\, Bluemont\, VA\, United States
END:VEVENT
BEGIN:VEVENT
DTSTART;TZID=America/New_York:20200717T210000
DTEND;TZID=America/New_York:20200717T213000
DTSTAMP:20260426T001906
CREATED:20200716T074110Z
LAST-MODIFIED:20200717T075138Z
UID:6000-1595019600-1595021400@troop58ashburn.camp
SUMMARY:Northern Tier Crew Meeting
DESCRIPTION:Quick gear and equipment check for Northern Tier. \nZoom Link will be posted 15 minutes before meeting.
URL:https://troop58ashburn.camp/event-2/northern-tier-crew-meeting/
END:VEVENT
BEGIN:VEVENT
DTSTART;TZID=America/New_York:20200716T180000
DTEND;TZID=America/New_York:20200716T190000
DTSTAMP:20260426T001906
CREATED:20200626T033712Z
LAST-MODIFIED:20200716T074110Z
UID:5920-1594922400-1594926000@troop58ashburn.camp
SUMMARY:Canceled - Digital Technology MB
DESCRIPTION:Scouts I need to cancel this session only (7/16).
URL:https://troop58ashburn.camp/event-2/digital-technology-mb-19/
LOCATION:Virtual
END:VEVENT
BEGIN:VEVENT
DTSTART;TZID=America/New_York:20200716T180000
DTEND;TZID=America/New_York:20200716T190000
DTSTAMP:20260426T001906
CREATED:20200618T020044Z
LAST-MODIFIED:20200625T032711Z
UID:5887-1594922400-1594926000@troop58ashburn.camp
SUMMARY:Digital Technology MB
DESCRIPTION:ASM Eric Wall will be hosting a MB class for Digital Technology MB
URL:https://troop58ashburn.camp/event-2/digital-technology-mb-13/
LOCATION:Virtual
END:VEVENT
BEGIN:VEVENT
DTSTART;TZID=America/New_York:20200716T180000
DTEND;TZID=America/New_York:20200716T190000
DTSTAMP:20260426T001906
CREATED:20200613T004309Z
LAST-MODIFIED:20200617T014404Z
UID:5861-1594922400-1594926000@troop58ashburn.camp
SUMMARY:Digital Technology MB
DESCRIPTION:ASM Eric Wall will be hosting a MB class for Digital Technology MB
URL:https://troop58ashburn.camp/event-2/digital-technology-mb-5/
LOCATION:Virtual
END:VEVENT
BEGIN:VEVENT
DTSTART;TZID=America/New_York:20200715T190000
DTEND;TZID=America/New_York:20200715T200000
DTSTAMP:20260426T001906
CREATED:20200512T192252Z
LAST-MODIFIED:20200619T020725Z
UID:5623-1594839600-1594843200@troop58ashburn.camp
SUMMARY:Personal Fitness Merit Badge
DESCRIPTION:Hi Troop\, starting May 20th\, at 6:30pm\, I will be holding a virtual class for Personal Fitness Merit Badge.  If you would like to attend\, please RSVP in Troop Track and follow the link below to our meetings. \nIf you have any questions\, please let me now. \nYiS\, \nMr. Anderson (eanderson@tollbrothers.com)
URL:https://troop58ashburn.camp/event-2/personal-fitness-merit-badge-9/
LOCATION:Virtual
END:VEVENT
BEGIN:VEVENT
DTSTART;TZID=America/New_York:20200715T170000
DTEND;TZID=America/New_York:20200715T174500
DTSTAMP:20260426T001906
CREATED:20200706T050942Z
LAST-MODIFIED:20200715T072107Z
UID:5960-1594832400-1594835100@troop58ashburn.camp
SUMMARY:Gardening Merit Badge - Class #5 - Participating scouts please read asap
DESCRIPTION:Gardening Merit Badge – Class #5 \nScouts\, I hope you are doing well and your garden is enjoying is hot weather.  \nThis is our July class and please be prepared for the following discussions: \nRequirement #2 – How is your gardening growing? \nRequirement #3 – Please provide your information if you have not done so.  I've received it from Tommy\, Hunter\, Velan and Ayush to date. \nRequirement #7 – Any new "pest" that you want to give us updates on along with your creative solutions? \nRequirement #8 – Project updates as you should be approx 1/2 way through your observation period. \nI want to see photos of your garden/harvest on our facebook page. If you do you will be entered to win the "big tomato" award that the ASMs will vote on for the best garden – 2020!  Please get creative and have some fun here!!!! \nParents\, Thanks for all your support (& watering) and please plan to attend as well. \nJoin Zoom Meeting \nhttps://us02web.zoom.us/j/87985828820?pwd=KzF6U1lsTGF1aHBhYnQxaG1CQ1p5dz09 \nMeeting ID: 879 8582 8820 \nPassword: 212646 \nOne tap mobile \n+13126266799\,\,87985828820#\,\,\,\,0#\,\,212646# US (Chicago) \n+19292056099\,\,87985828820#\,\,\,\,0#\,\,212646# US (New York) \nThanks Mr. Makitka \n \n 
URL:https://troop58ashburn.camp/event-2/gardening-merit-badge-class-5-participating-scouts-please-read-asap/
END:VEVENT
BEGIN:VEVENT
DTSTART;TZID=America/New_York:20200713T190000
DTEND;TZID=America/New_York:20200713T200000
DTSTAMP:20260426T001906
CREATED:20200611T000826Z
LAST-MODIFIED:20200713T064931Z
UID:5838-1594666800-1594670400@troop58ashburn.camp
SUMMARY:Camping Merit Badge
DESCRIPTION:Please join the meeting 5 minutes early\, so we can start on time. \n7:00 – 8::00\, Monday’s (Until we are done) \n \nEric Anderson is inviting you to a scheduled Zoom meeting. \n \nJoin Zoom Meeting \nhttps://us02web.zoom.us/j/82085766610?pwd=T2NQbjNOM21wd1ZLVUFxb0JldCtmdz09 \n \nMeeting ID: 820 8576 6610 \nPassword: 479595 \nOne tap mobile \n+16465588656\,\,82085766610#\,\,1#\,479595# US (New York) \n+13017158592\,\,82085766610#\,\,1#\,479595# US (Germantown) \n \nDial by your location \n+1 646 558 8656 US (New York) \n+1 301 715 8592 US (Germantown) \n+1 312 626 6799 US (Chicago) \n+1 669 900 9128 US (San Jose) \n+1 253 215 8782 US (Tacoma) \n+1 346 248 7799 US (Houston) \nMeeting ID: 820 8576 6610 \nPassword: 479595 \nFind your local number: https://us02web.zoom.us/u/kPSxkLdaN
URL:https://troop58ashburn.camp/event-2/camping-merit-badge-7/
LOCATION:Virtual
END:VEVENT
BEGIN:VEVENT
DTSTART;TZID=America/New_York:20200713T140000
DTEND;TZID=America/New_York:20200713T144500
DTSTAMP:20260426T001906
CREATED:20200525T204110Z
LAST-MODIFIED:20200527T211059Z
UID:5727-1594648800-1594651500@troop58ashburn.camp
SUMMARY:Virtual PLC huddle
DESCRIPTION:Weekly virtual PLC huddles for the time-being. \n \nJoin Zoom Meeting \nhttps://us04web.zoom.us/j/5265677173?pwd=OTFmQnJpTmJHK0hUcGJ2U0w0ampaZz09 \n \nMeeting ID: 526 567 7173 \nPassword: 1BktwG
URL:https://troop58ashburn.camp/event-2/virtual-plc-huddle-20/
LOCATION:Virtual
END:VEVENT
BEGIN:VEVENT
DTSTART;TZID=America/New_York:20200712T190000
DTEND;TZID=America/New_York:20200712T203000
DTSTAMP:20260426T001906
CREATED:20200628T034310Z
LAST-MODIFIED:20200712T063308Z
UID:5933-1594580400-1594585800@troop58ashburn.camp
SUMMARY:Law MB Session 1
DESCRIPTION:Scouts: \nThe Law Merit Badge will Be offered beginning Sunday\, July 12. I am planning that we will meet on Zoom from 7pm – 8:30 on Sunday evenings. Details will be sent to participants in advance. I anticipate it will take 3-5 sessions including a Mock Trial\, that the Scouts will conduct. \nIf you are interested let me know. Class size is limited. Don’t forget to reach out to Mr. Hall in advance to get your Blue Card. \nThe Law Merit Badge requirements are available in this Workbook. http://usscouts.org/mb/worksheets/Law.pdf  \nUse of the Workbook is not required but to you must Be Prepared to engage in the guided discussion. \nThe sessions will be part tutorial and part guided discussions utilizing the Socratic Method prevalent in law school classes. Scouts are expected to Be Prepared in advance for each session. \nThe only requirements are those listed for the Merit Badge. Each Scout is expected to meet each requirement through their own preparation and work. No more\, no less. If you are confused\, read the requirement and do what the verb tells you to do (e.g. show\, discuss\, explain\, do). Watching a fellow Scout do this may be very informative\, but the requirements are for you to complete the requirement if you want your blue card signed. That said\, I’m also happy to work with any Scout to complete the requirements after the formal sessions have ended. \nSome of the sessions may add supplemental material and care as of discussion during the meeting time. These are additional information to help add context. They are not requirements for the Merit Badge. \nAlong the way we’ll have a Mock Trial that you must prepare for in advance. You may be called upon to work with other Scouts as part of the trial. I am trying to line up an experienced local attorney to act as the trial judge. \nAt all times we will be guided by the Scout Oath and Law. Any participant who cannot do so may be asked to leave the session.  \nIf you have any questions\, please reach out to me. Be sure to include a parent/guardian in any communication. I'll also be at Summer Camp all week. \nYours in Scouting\, \nDavid Weitzel\, M.S.\, J.D. \nLaw Merit BadgeCounselor
URL:https://troop58ashburn.camp/event-2/law-mb-session-1/
LOCATION:Zoom
END:VEVENT
BEGIN:VEVENT
DTSTART;TZID=America/New_York:20200712T083000
DTEND;TZID=America/New_York:20200712T163000
DTSTAMP:20260426T001906
CREATED:20200704T045406Z
LAST-MODIFIED:20200712T063308Z
UID:5952-1594542600-1594571400@troop58ashburn.camp
SUMMARY:Jack Lawrence's Eagle Scout Project
DESCRIPTION:Hello Everybody\, \nI will be creating a labyrinth for my Eagle Scout project at Crossroads Methodist Church\, meeting next to the play ground on Sunday \, July 12th at 8am. The project will take about 5-8 hours and I will need about 12-15 scouts to help. The bathroom and water fountains will not be available in the church due to COVID-19 concerns\, so it is best advised to go to the bathroom before coming and to bring a water bottle. There will be a water source to refill your bottles and there will be food for scouts during the project \, but please let me know about any dietary restrictions ahead of time. Under Virginia State Law\, it is required that all scouts wear a face mask and attempt to keep a distance of 6 feet away from one another. \nI would recommend bringing gardening gloves for this project because we will be dealing with mulch\, rocks\, and wood\, but it is not mandatory. \nIf anybody has anybody has any rakes or shovels that they can bring to use for the project that would be great. \n \nThank you\, \n \n \nJack Lawrence
URL:https://troop58ashburn.camp/event-2/jack-lawrences-eagle-scout-project/
LOCATION:43454 Crossroads Drive\, Ashburn\, VA\, United States
END:VEVENT
BEGIN:VEVENT
DTSTART;TZID=America/New_York:20200711T130000
DTEND;TZID=America/New_York:20200711T133000
DTSTAMP:20260426T001906
CREATED:20200711T062317Z
LAST-MODIFIED:20200711T062317Z
UID:5975-1594472400-1594474200@troop58ashburn.camp
SUMMARY:Eagles Facetime
DESCRIPTION:The Eagles Patrol will be having an online patrol meeting via Facetime this Saturday at 1 pm. Please RSVP if you plan on attending.
URL:https://troop58ashburn.camp/event-2/eagles-facetime-2/
END:VEVENT
BEGIN:VEVENT
DTSTART;TZID=America/New_York:20200709T180000
DTEND;TZID=America/New_York:20200709T190000
DTSTAMP:20260426T001906
CREATED:20200626T033712Z
LAST-MODIFIED:20200709T053620Z
UID:5919-1594317600-1594321200@troop58ashburn.camp
SUMMARY:Digital Technology MB
DESCRIPTION:ASM Eric Wall will be hosting a MB class for Digital Technology MB \n \nVirtual meeting details: \nBSA Troop58 is inviting you to a scheduled Zoom meeting. \n \nTopic: BSA Troop58's Personal Meeting Room \n \nJoin Zoom Meeting \nhttps://us02web.zoom.us/j/9107369914?pwd=VlQ5aG4rM1NnQmlJSzFUWGIySVEyZz09 \n \nMeeting ID: 910 736 9914 \nPassword: 879318
URL:https://troop58ashburn.camp/event-2/digital-technology-mb-18/
LOCATION:Virtual
END:VEVENT
BEGIN:VEVENT
DTSTART;TZID=America/New_York:20200709T180000
DTEND;TZID=America/New_York:20200709T190000
DTSTAMP:20260426T001906
CREATED:20200618T020043Z
LAST-MODIFIED:20200625T032710Z
UID:5886-1594317600-1594321200@troop58ashburn.camp
SUMMARY:Digital Technology MB
DESCRIPTION:ASM Eric Wall will be hosting a MB class for Digital Technology MB
URL:https://troop58ashburn.camp/event-2/digital-technology-mb-12/
LOCATION:Virtual
END:VEVENT
END:VCALENDAR