BEGIN:VCALENDAR
VERSION:2.0
PRODID:-//Boy Scout Troop 58 - Ashburn, VA - ECPv6.15.20//NONSGML v1.0//EN
CALSCALE:GREGORIAN
METHOD:PUBLISH
X-WR-CALNAME:Boy Scout Troop 58 - Ashburn, VA
X-ORIGINAL-URL:https://troop58ashburn.camp
X-WR-CALDESC:Events for Boy Scout Troop 58 - Ashburn, VA
REFRESH-INTERVAL;VALUE=DURATION:PT1H
X-Robots-Tag:noindex
X-PUBLISHED-TTL:PT1H
BEGIN:VTIMEZONE
TZID:America/New_York
BEGIN:DAYLIGHT
TZOFFSETFROM:-0500
TZOFFSETTO:-0400
TZNAME:EDT
DTSTART:20190310T070000
END:DAYLIGHT
BEGIN:STANDARD
TZOFFSETFROM:-0400
TZOFFSETTO:-0500
TZNAME:EST
DTSTART:20191103T060000
END:STANDARD
BEGIN:DAYLIGHT
TZOFFSETFROM:-0500
TZOFFSETTO:-0400
TZNAME:EDT
DTSTART:20200308T070000
END:DAYLIGHT
BEGIN:STANDARD
TZOFFSETFROM:-0400
TZOFFSETTO:-0500
TZNAME:EST
DTSTART:20201101T060000
END:STANDARD
BEGIN:DAYLIGHT
TZOFFSETFROM:-0500
TZOFFSETTO:-0400
TZNAME:EDT
DTSTART:20210314T070000
END:DAYLIGHT
BEGIN:STANDARD
TZOFFSETFROM:-0400
TZOFFSETTO:-0500
TZNAME:EST
DTSTART:20211107T060000
END:STANDARD
END:VTIMEZONE
BEGIN:VEVENT
DTSTART;TZID=America/New_York:20200908T184500
DTEND;TZID=America/New_York:20200908T190000
DTSTAMP:20260425T231126
CREATED:20200826T165225Z
LAST-MODIFIED:20200908T180555Z
UID:6313-1599590700-1599591600@troop58ashburn.camp
SUMMARY:HA Philmont Crew Meeting (w/parents)
DESCRIPTION:Philmont Crew\, \n \nPhilmont trip-planning has officially begun!   \nWith less than 11 months to go\, we will start meeting on a monthly basis to discuss trip logistics\, preparation\, and training.  Please arrive 5 minutes early\, so we can start promptly at 6:45pm.  Also\, these meetings are for both crew members and parents.   \nPlease make sure to RSVP\, so that we can keep tabs on who has received what information.  Also\, please contact me with any questions. \n \nYiS\, \nMs. Khalili \n703-439-0230  
URL:https://troop58ashburn.camp/event-2/ha-philmont-crew-meeting-w-parents/
LOCATION:Lansdowne amphitheater\,Lansdowne amphitheater\, 43459 Riverpoint Dr.\, Leesburg
END:VEVENT
BEGIN:VEVENT
DTSTART;TZID=America/New_York:20200906T120000
DTEND;TZID=America/New_York:20200906T130000
DTSTAMP:20260425T231126
CREATED:20200905T175216Z
LAST-MODIFIED:20200905T175216Z
UID:6397-1599393600-1599397200@troop58ashburn.camp
SUMMARY:Spartans Patrol Outing
DESCRIPTION:Spartans Patrol Outing at MOD pizza. \nouting will start at 12:00 and run till about 1:00. \nIf you have any requirements for me to sign off this is a great time!  Bring your book and I’ll sign them off for you.
URL:https://troop58ashburn.camp/event-2/spartans-patrol-outing-2/
LOCATION:19855 Belmont Chase Dr\, Ashburn\, VA\, United States
END:VEVENT
BEGIN:VEVENT
DTSTART;TZID=America/New_York:20200905T060000
DTEND;TZID=America/New_York:20200905T110000
DTSTAMP:20260425T231126
CREATED:20200518T202635Z
LAST-MODIFIED:20200518T202635Z
UID:5678-1599285600-1599303600@troop58ashburn.camp
SUMMARY:VA Wine Country Half Marathon Volunteer
DESCRIPTION:
URL:https://troop58ashburn.camp/event-2/va-wine-country-half-marathon-volunteer-5/
END:VEVENT
BEGIN:VEVENT
DTSTART;TZID=America/New_York:20200905T060000
DTEND;TZID=America/New_York:20200905T110000
DTSTAMP:20260425T231126
CREATED:20200205T040507Z
LAST-MODIFIED:20200712T063312Z
UID:4873-1599285600-1599303600@troop58ashburn.camp
SUMMARY:VA Wine Country Half Marathon Volunteer
DESCRIPTION:
URL:https://troop58ashburn.camp/event-2/va-wine-country-half-marathon-volunteer/
END:VEVENT
BEGIN:VEVENT
DTSTART;TZID=America/New_York:20200904T160000
DTEND;TZID=America/New_York:20200904T163000
DTSTAMP:20260425T231126
CREATED:20200903T175131Z
LAST-MODIFIED:20200904T175426Z
UID:6386-1599235200-1599237000@troop58ashburn.camp
SUMMARY:Rifle Shooting MB Completion (Summer Camp partials)
DESCRIPTION:Topic: Rifle Shooting MB Completion \nTime: Sep 4\, 2020 04:00 PM Eastern Time (US and Canada) \nJoin Zoom Meeting \nhttps://us02web.zoom.us/j/89996758908?pwd=S3dxd1VUVHB4TlZkMVNmWktTbWc1QT09 \nMeeting ID: 899 9675 8908 \nPasscode: 627709 \n \nMr. Croissant will be going over the following to finish off your MB from summer camp.  There will be no make-up date for this call so please join if you are able.\n\n1D – Give the main points of the laws for owning and using guns in your community and state.\n\n1F – Successfully complete a state hunter education course or obtain a copy of the hunting laws for you state\, then do the following:\n    1.  Explain the main points of hunting laws in your state and give any special laws on the use of guns and ammunition.\n    2.  List the kinds of wildlife that can be legally hunted in your state.
URL:https://troop58ashburn.camp/event-2/rifle-shooting-mb-completion-summer-camp-partials/
LOCATION:Zoom
END:VEVENT
BEGIN:VEVENT
DTSTART;TZID=America/New_York:20200903T130000
DTEND;TZID=America/New_York:20200903T150000
DTSTAMP:20260425T231126
CREATED:20200818T152615Z
LAST-MODIFIED:20200903T175131Z
UID:6247-1599138000-1599145200@troop58ashburn.camp
SUMMARY:Eagles Patrol Hike
DESCRIPTION:The Eagles Patrol will be going on a hike at Bull Run Battlefield (4.5 miles – roughly 2 hrs) and will meet up at Trailside Middle School. Make sure to eat lunch prior to the start time at 1:00 pm. Remember to bring things such as water\, snacks\, sunscreen\, bug spray\, footwear that can get wet\, and face masks. I recommend bringing a small daypack to put some of these things in. Please RSVP if you plan on attending.
URL:https://troop58ashburn.camp/event-2/eagles-patrol-hike/
LOCATION:Bull Run Battlefield
END:VEVENT
BEGIN:VEVENT
DTSTART;TZID=America/New_York:20200901T190000
DTEND;TZID=America/New_York:20200901T203000
DTSTAMP:20260425T231126
CREATED:20200519T202431Z
LAST-MODIFIED:20200519T202431Z
UID:5684-1598986800-1598992200@troop58ashburn.camp
SUMMARY:Committee Meeting
DESCRIPTION:All parents\, adult leaders and merit badge counselors are welcome to come to the monthly Committee Meeting. \nMonthly Troop 58 Committee Meeting \nCommittee meetings are held on the first Tuesday of each month at the same time as the PLC Meeting. \nAn agenda will be available the day before the meeting. \nIf you would like to be a Committee Member or have items you would like on the agenda\, please contact Lisa Levine. \n———— \nRoles of the troop committee: \n\nsupports the Scoutmaster in delivering a quality troop program. Members ensure quality adult leadership is recruited and trained. \nhandles troop administration and is responsible for finances\, adequate funding\, and disbursements in line with the approved budget. \nobtains\, maintains\, and properly cares for troop property. \nensures the troop has an outdoor program with a minimum of 10 days and nights of camping per year.\nserve on boards of review and plan and conduct courts of honor. \nsupport the Scoutmaster in working with individual boys and handling problems that may affect the overall troop program. \nprovides for the special needs and assistance some boys may require and helps with the Friends of Scouting campaign. \nhandles charter renewal and advancement and ensures adults are current with Youth Protection training.
URL:https://troop58ashburn.camp/event-2/committee-meeting-23/
END:VEVENT
BEGIN:VEVENT
DTSTART;TZID=America/New_York:20200901T190000
DTEND;TZID=America/New_York:20200901T203000
DTSTAMP:20260425T231126
CREATED:20200516T201446Z
LAST-MODIFIED:20200516T201446Z
UID:5666-1598986800-1598992200@troop58ashburn.camp
SUMMARY:Committee Meeting
DESCRIPTION:All parents\, adult leaders and merit badge counselors are welcome to come to the monthly Committee Meeting. \nMonthly Troop 58 Committee Meeting \nCommittee meetings are held on the first Tuesday of each month at the same time as the PLC Meeting. \nAn agenda will be available the day before the meeting. \nIf you would like to be a Committee Member or have items you would like on the agenda\, please contact Lisa Levine. \n———— \nRoles of the troop committee: \n\nsupports the Scoutmaster in delivering a quality troop program. Members ensure quality adult leadership is recruited and trained. \nhandles troop administration and is responsible for finances\, adequate funding\, and disbursements in line with the approved budget. \nobtains\, maintains\, and properly cares for troop property. \nensures the troop has an outdoor program with a minimum of 10 days and nights of camping per year.\nserve on boards of review and plan and conduct courts of honor. \nsupport the Scoutmaster in working with individual boys and handling problems that may affect the overall troop program. \nprovides for the special needs and assistance some boys may require and helps with the Friends of Scouting campaign. \nhandles charter renewal and advancement and ensures adults are current with Youth Protection training.
URL:https://troop58ashburn.camp/event-2/committee-meeting-22/
END:VEVENT
BEGIN:VEVENT
DTSTART;TZID=America/New_York:20200901T170000
DTEND;TZID=America/New_York:20200901T180000
DTSTAMP:20260425T231126
CREATED:20200811T134137Z
LAST-MODIFIED:20200901T174243Z
UID:6157-1598979600-1598983200@troop58ashburn.camp
SUMMARY:Gardening Merit Badge - Class #6 - FINAL CLASS WITH FORMAL PRESENTATION REQUIRED
DESCRIPTION:Scouts\, We finally made it to the fall harvest season! For our final class I want each of you to prepare a 3-4 minute presentation utilizing slides\, photos and/or other materials to summarize your overall gardening merit badge experience. Here are some of the key areas specific to the various merit badge requirements that should be included in your presentation: \n1. Garden project:  \nWhat did you decide to grow and why? (requirement #2) \nWhat challenges did you have and how did you overcome them (requirement #1B & #7) \nWhat would you have done differently? Explain (#2 observations) \nHow did you and your family benefit from the garden? \nWould you garden in the future? Why or why not? (No right answer here…) \n2. Special project: (Requirement #8) \nWhat project did you select and why? \nWhat changes did you make during the observation period? Why? \nWhat was your biggest challenge?  \nWhat lessons did you learn at the end of the 90 day observation period? \nOther requirements: \n1. Be on time! If you are not early you are LATE! Very important especially during your fellow scout's presentations \n2. Wear your Class B uniform with video turned "on" during your presentation \n3. Be an "active" participate and ask questions of others presentations \n4. Presentation order starting at 5:05pm (A to Z) – Adam\, Anthony\, Ayush\, Hunter\, Ishaan\, Velan\, Shane & Tommy  \nParents:  Please feel free to join and listen to your son's presentation.  Again\, thanks for your support throughout this process! \nLogin details: \n https://us02web.zoom.us/j/83292546439?pwd=ZWxpZXhhTDhxRzlYR01lMndzeFY1Zz09 \nMeeting ID: 832 9254 6439 \nPasscode: 255110 \nOne tap mobile \n+19292056099\,\,83292546439#\,\,\,\,\,\,0#\,\,255110# US (New York) \n+13017158592\,\,83292546439#\,\,\,\,\,\,0#\,\,255110# US (Germantown) \nDial by your location \n        +1 929 205 6099 US (New York) \n        +1 301 715 8592 US (Germantown) \n        +1 312 626 6799 US (Chicago) \n        +1 669 900 6833 US (San Jose) \n        +1 253 215 8782 US (Tacoma) \n        +1 346 248 7799 US (Houston) \nMeeting ID: 832 9254 6439 \nPasscode: 255110 \nFind your local number: https://us02web.zoom.us/u/kbxja9FnN9
URL:https://troop58ashburn.camp/event-2/gardening-merit-badge-class-6-final-class-with-formal-presentation-required/
END:VEVENT
BEGIN:VEVENT
DTSTART;TZID=America/New_York:20200831T140000
DTEND;TZID=America/New_York:20200831T144500
DTSTAMP:20260425T231126
CREATED:20200714T064715Z
LAST-MODIFIED:20200831T173650Z
UID:5989-1598882400-1598885100@troop58ashburn.camp
SUMMARY:Virtual PLC huddle
DESCRIPTION:Weekly virtual PLC huddles for the time-being. \n \nJoin Zoom Meeting \nhttps://us04web.zoom.us/j/5265677173?pwd=OTFmQnJpTmJHK0hUcGJ2U0w0ampaZz09 \n \nMeeting ID: 526 567 7173 \nPasscode: 1BktwG
URL:https://troop58ashburn.camp/event-2/virtual-plc-huddle-24/
LOCATION:Virtual
END:VEVENT
BEGIN:VEVENT
DTSTART;TZID=America/New_York:20200830T070000
DTEND;TZID=America/New_York:20200830T140000
DTSTAMP:20260425T231126
CREATED:20200822T161711Z
LAST-MODIFIED:20200830T172446Z
UID:6282-1598770800-1598796000@troop58ashburn.camp
SUMMARY:Philmont 2021 Hike (Hazel River & Sam's Ridge Loop)
DESCRIPTION:Hi Philmont 2021 Crew\, \nI am reaching out to schedule our first training hike for next Sunday\, 8/30. Michelle has already begun to put together a monthly training plan\, but she is on vacation this week and I wanted to get this on everyone's calendars before we all booked up. \nWe will be hiking the Hazel River & Sam's Ridge loop\, which is a moderate hike in Shenandoah National Park..  The distance is a 6.7 miles and rated as moderate.  If you have the All Trails App\, you can find the hike at this link (https://www.alltrails.com/explore/trail/us/virginia/hazel-mountain-via-hazel-river-and-sam-s-ridge-loop ). \nAs we lead up to Philmont\, we need to condition our bodies to hike with weight.  I would recommend you bring a pack that is at least 25% the weight of the full pack you will be carrying at Philmont.   \nFully loaded packs should not exceed 30% of your body weight. If you weigh 100 pounds\, your fully loaded pack would weight 30 pounds.  For this hike you would target to carry at least 7.5 pounds.  One liter of water weighs about 2.2 pounds\, so most of the weight for this hike will probably be liquid\, however you should also bring snacks and a bag lunch. \nWe will meet at Trailside Middle School at 7:00 am and will depart at 7:15 am.  It should take about 1 1/2 hours to reach the trailhead and we expect to return back to Trailside Middle around 2:00 pm.   \nI will follow this up with a Troop Track Calendar event\, if you could please go to the calendar event and RSVP\, I would appreciate it. \nYiS\, \nMr. Anderson
URL:https://troop58ashburn.camp/event-2/philmont-2021-hike-hazel-river-sams-ridge-loop/
END:VEVENT
BEGIN:VEVENT
DTSTART;TZID=America/New_York:20200829T120000
DTEND;TZID=America/New_York:20200830T110000
DTSTAMP:20260425T231126
CREATED:20200729T111201Z
LAST-MODIFIED:20200829T172305Z
UID:6044-1598702400-1598785200@troop58ashburn.camp
SUMMARY:Wilderness Survival Campout
DESCRIPTION:A camp out for the Wilderness Survival Merit Badge specifically to complete requirement #8 – Improvise a natural shelter. For the purpose of this demonstration\, use techniques that have little negative impact on the environment. Spend a night in your shelter. This must be done individually (given the pandemic) and scouts can only utilize items commonly found in a typical day-pack (Example: food\, water\, pocket knife\, first aid\, rain gear\, rope\, and a black trash bag).
URL:https://troop58ashburn.camp/event-2/wilderness-survival-campout/
LOCATION:1671 Courthouse rd\, Stafford\, VA\, United States
END:VEVENT
BEGIN:VEVENT
DTSTART;TZID=America/New_York:20200828T140000
DTEND;TZID=America/New_York:20200828T151500
DTSTAMP:20260425T231126
CREATED:20200820T160124Z
LAST-MODIFIED:20200828T170829Z
UID:6257-1598623200-1598627700@troop58ashburn.camp
SUMMARY:Moviemaking MB
DESCRIPTION:Session 2 of the Moviemaking Merit Badge. \nIn this session we will be talking about careers opportunities in moviemaking.  You'd be surprised at how many people are involved in the production of one film!  Those credits at the end of a movie acknowledge all of the crews involved in making the movie you just watched.  They include producers\, directors\, cast\, writers\, editors\, set and costume designers\, special effects\, music composer\, etc.   We will be learning about the education\, training\, and experience necessary for some of the most common career choices in the industry.  Perhaps you will find your future career here! \nOne of the requirements for this MB is is to visit a production studio OR discuss the elements of a zoom lens.  For everyone's health and safety we will not be visiting a production studio\, so we will go over the zoom lens instead.  Perhaps at a later date we could arrange a little field trip to a studio just so you have the opportunity to see some real professional equipment.   \nAnd finally we will be going over your treatments that you completed as homework.  If you are satisfied with your idea we will start storyboarding.  This is where you draw a few sketches so you have a starting point when you go to begin filming.  
URL:https://troop58ashburn.camp/event-2/moviemaking-mb-2/
LOCATION:Virtual
END:VEVENT
BEGIN:VEVENT
DTSTART;TZID=America/New_York:20200827T150000
DTEND;TZID=America/New_York:20200827T160000
DTSTAMP:20260425T231126
CREATED:20200423T140051Z
LAST-MODIFIED:20200423T140051Z
UID:5441-1598540400-1598544000@troop58ashburn.camp
SUMMARY:First day of school
DESCRIPTION:
URL:https://troop58ashburn.camp/event-2/first-day-of-school-4/
END:VEVENT
BEGIN:VEVENT
DTSTART;TZID=America/New_York:20200825T193000
DTEND;TZID=America/New_York:20200825T210000
DTSTAMP:20260425T231126
CREATED:20200421T135123Z
LAST-MODIFIED:20200421T135123Z
UID:5424-1598383800-1598389200@troop58ashburn.camp
SUMMARY:Troop meeting
DESCRIPTION:Monthly Troop meeting for all Scouts
URL:https://troop58ashburn.camp/event-2/troop-meeting-87/
END:VEVENT
BEGIN:VEVENT
DTSTART;TZID=America/New_York:20200825T193000
DTEND;TZID=America/New_York:20200825T210000
DTSTAMP:20260425T231126
CREATED:20200419T133759Z
LAST-MODIFIED:20200419T133759Z
UID:5404-1598383800-1598389200@troop58ashburn.camp
SUMMARY:Troop meeting
DESCRIPTION:Monthly Troop meeting for all Scouts
URL:https://troop58ashburn.camp/event-2/troop-meeting-86/
END:VEVENT
BEGIN:VEVENT
DTSTART;TZID=America/New_York:20200825T193000
DTEND;TZID=America/New_York:20200825T210000
DTSTAMP:20260425T231126
CREATED:20200405T122132Z
LAST-MODIFIED:20200405T122132Z
UID:5303-1598383800-1598389200@troop58ashburn.camp
SUMMARY:Troop meeting
DESCRIPTION:Monthly Troop meeting for all Scouts
URL:https://troop58ashburn.camp/event-2/troop-meeting-84/
END:VEVENT
BEGIN:VEVENT
DTSTART;TZID=America/New_York:20200825T193000
DTEND;TZID=America/New_York:20200825T210000
DTSTAMP:20260425T231126
CREATED:20200404T121601Z
LAST-MODIFIED:20200404T121601Z
UID:5299-1598383800-1598389200@troop58ashburn.camp
SUMMARY:Troop meeting
DESCRIPTION:Monthly Troop meeting for all Scouts
URL:https://troop58ashburn.camp/event-2/troop-meeting-83/
END:VEVENT
BEGIN:VEVENT
DTSTART;TZID=America/New_York:20200825T193000
DTEND;TZID=America/New_York:20200825T210000
DTSTAMP:20260425T231126
CREATED:20200403T120847Z
LAST-MODIFIED:20200403T120847Z
UID:5294-1598383800-1598389200@troop58ashburn.camp
SUMMARY:Troop meeting
DESCRIPTION:Monthly Troop meeting for all Scouts
URL:https://troop58ashburn.camp/event-2/troop-meeting-80/
END:VEVENT
BEGIN:VEVENT
DTSTART;TZID=America/New_York:20200825T193000
DTEND;TZID=America/New_York:20200825T210000
DTSTAMP:20260425T231126
CREATED:20200403T120847Z
LAST-MODIFIED:20200403T120847Z
UID:5295-1598383800-1598389200@troop58ashburn.camp
SUMMARY:Troop meeting
DESCRIPTION:Monthly Troop meeting for all Scouts
URL:https://troop58ashburn.camp/event-2/troop-meeting-82/
END:VEVENT
BEGIN:VEVENT
DTSTART;TZID=America/New_York:20200825T193000
DTEND;TZID=America/New_York:20200825T210000
DTSTAMP:20260425T231126
CREATED:20200402T120714Z
LAST-MODIFIED:20200402T120714Z
UID:5288-1598383800-1598389200@troop58ashburn.camp
SUMMARY:Troop meeting
DESCRIPTION:Monthly Troop meeting for all Scouts
URL:https://troop58ashburn.camp/event-2/troop-meeting-79/
END:VEVENT
BEGIN:VEVENT
DTSTART;TZID=America/New_York:20200825T193000
DTEND;TZID=America/New_York:20200825T210000
DTSTAMP:20260425T231126
CREATED:20200331T120652Z
LAST-MODIFIED:20200331T120652Z
UID:5283-1598383800-1598389200@troop58ashburn.camp
SUMMARY:Troop meeting
DESCRIPTION:Monthly Troop meeting for all Scouts
URL:https://troop58ashburn.camp/event-2/troop-meeting-78/
END:VEVENT
BEGIN:VEVENT
DTSTART;TZID=America/New_York:20200825T193000
DTEND;TZID=America/New_York:20200825T210000
DTSTAMP:20260425T231126
CREATED:20200331T120652Z
LAST-MODIFIED:20200331T120652Z
UID:5282-1598383800-1598389200@troop58ashburn.camp
SUMMARY:Troop meeting
DESCRIPTION:Monthly Troop meeting for all Scouts
URL:https://troop58ashburn.camp/event-2/troop-meeting-77/
END:VEVENT
BEGIN:VEVENT
DTSTART;TZID=America/New_York:20200821T140000
DTEND;TZID=America/New_York:20200821T151500
DTSTAMP:20260425T231126
CREATED:20200820T160123Z
LAST-MODIFIED:20200821T161002Z
UID:6255-1598018400-1598022900@troop58ashburn.camp
SUMMARY:Moviemaking MB
DESCRIPTION:This will be the first of two sessions for the Moviemaking Merit Badge.  In this first class we will learn a little bit about the history of movie making and then watch a few videos and discuss the elements of a good motion picture or film.  Topics will include visual storytelling\, rhythm\, the 180-degree axis rule\, camera movement\, framing and composition of camera shots\, and lens selection.   \nWe will also talk about the types of programs you are allowed to create for your final presentation.  Homework for this class will be to write a treatment about what you plan to film.  This is basically just a very rough draft of your idea but should include a summary of your story & a brief description of your characters. \nIf you would like to take notes\, please feel free to print out the workbook attached below. \n \nJoin Zoom Meeting \nhttps://us02web.zoom.us/j/88661938744?pwd=UmJ3TE5RMi95azJycnFxYnp3QXcyUT09 \nMeeting ID: 886 6193 8744 \nPasscode: 349344 \n \n Moviemaking_MB_Workbook.pdf
URL:https://troop58ashburn.camp/event-2/moviemaking-mb/
LOCATION:Virtual
END:VEVENT
BEGIN:VEVENT
DTSTART;TZID=America/New_York:20200820T193000
DTEND;TZID=America/New_York:20200820T213000
DTSTAMP:20260425T231126
CREATED:20200422T135540Z
LAST-MODIFIED:20200422T135540Z
UID:5434-1597951800-1597959000@troop58ashburn.camp
SUMMARY:ASM meeting
DESCRIPTION:Monthly planning/coordination meeting for the Scoutmaster and ASMs; all Committee Members and other adults are welcome as well.  Location rotates each month.
URL:https://troop58ashburn.camp/event-2/asm-meeting-40/
END:VEVENT
BEGIN:VEVENT
DTSTART;TZID=America/New_York:20200820T193000
DTEND;TZID=America/New_York:20200820T213000
DTSTAMP:20260425T231126
CREATED:20200412T132331Z
LAST-MODIFIED:20200412T132331Z
UID:5365-1597951800-1597959000@troop58ashburn.camp
SUMMARY:ASM meeting
DESCRIPTION:Monthly planning/coordination meeting for the Scoutmaster and ASMs; all Committee Members and other adults are welcome as well.  Location rotates each month.
URL:https://troop58ashburn.camp/event-2/asm-meeting-38/
END:VEVENT
BEGIN:VEVENT
DTSTART;TZID=America/New_York:20200820T193000
DTEND;TZID=America/New_York:20200820T213000
DTSTAMP:20260425T231126
CREATED:20200406T122207Z
LAST-MODIFIED:20200406T122207Z
UID:5312-1597951800-1597959000@troop58ashburn.camp
SUMMARY:ASM meeting
DESCRIPTION:Monthly planning/coordination meeting for the Scoutmaster and ASMs; all Committee Members and other adults are welcome as well.  Location rotates each month.
URL:https://troop58ashburn.camp/event-2/asm-meeting-33/
END:VEVENT
BEGIN:VEVENT
DTSTART;TZID=America/New_York:20200820T193000
DTEND;TZID=America/New_York:20200820T213000
DTSTAMP:20260425T231126
CREATED:20200406T122207Z
LAST-MODIFIED:20200406T122207Z
UID:5313-1597951800-1597959000@troop58ashburn.camp
SUMMARY:ASM meeting
DESCRIPTION:Monthly planning/coordination meeting for the Scoutmaster and ASMs; all Committee Members and other adults are welcome as well.  Location rotates each month.
URL:https://troop58ashburn.camp/event-2/asm-meeting-37/
END:VEVENT
BEGIN:VEVENT
DTSTART;TZID=America/New_York:20200820T160000
DTEND;TZID=America/New_York:20200820T163000
DTSTAMP:20260425T231126
CREATED:20200813T141429Z
LAST-MODIFIED:20200820T160123Z
UID:6233-1597939200-1597941000@troop58ashburn.camp
SUMMARY:Stags virtual patrol meeting
DESCRIPTION:Hi Stags\, \nThis will be our first patrol meeting since adding Brody and Dylan to our patrol. This will be a sort of welcome to the patrol kind of thing\, and we will play skribbl for hopefully the last time\, and talk about possibly playing Minecraft in the future. \nI will post the zoom link closer to the meeting
URL:https://troop58ashburn.camp/event-2/stags-virtual-patrol-meeting-3/
END:VEVENT
BEGIN:VEVENT
DTSTART;TZID=America/New_York:20200818T193000
DTEND;TZID=America/New_York:20200818T210000
DTSTAMP:20260425T231126
CREATED:20200326T112712Z
LAST-MODIFIED:20200326T112712Z
UID:5229-1597779000-1597784400@troop58ashburn.camp
SUMMARY:Troop meeting
DESCRIPTION:Monthly Troop meeting for all Scouts
URL:https://troop58ashburn.camp/event-2/troop-meeting-73/
END:VEVENT
END:VCALENDAR