BEGIN:VCALENDAR
VERSION:2.0
PRODID:-//Boy Scout Troop 58 - Ashburn, VA - ECPv6.15.20//NONSGML v1.0//EN
CALSCALE:GREGORIAN
METHOD:PUBLISH
X-WR-CALNAME:Boy Scout Troop 58 - Ashburn, VA
X-ORIGINAL-URL:https://troop58ashburn.camp
X-WR-CALDESC:Events for Boy Scout Troop 58 - Ashburn, VA
REFRESH-INTERVAL;VALUE=DURATION:PT1H
X-Robots-Tag:noindex
X-PUBLISHED-TTL:PT1H
BEGIN:VTIMEZONE
TZID:America/New_York
BEGIN:DAYLIGHT
TZOFFSETFROM:-0500
TZOFFSETTO:-0400
TZNAME:EDT
DTSTART:20240310T070000
END:DAYLIGHT
BEGIN:STANDARD
TZOFFSETFROM:-0400
TZOFFSETTO:-0500
TZNAME:EST
DTSTART:20241103T060000
END:STANDARD
BEGIN:DAYLIGHT
TZOFFSETFROM:-0500
TZOFFSETTO:-0400
TZNAME:EDT
DTSTART:20250309T070000
END:DAYLIGHT
BEGIN:STANDARD
TZOFFSETFROM:-0400
TZOFFSETTO:-0500
TZNAME:EST
DTSTART:20251102T060000
END:STANDARD
BEGIN:DAYLIGHT
TZOFFSETFROM:-0500
TZOFFSETTO:-0400
TZNAME:EDT
DTSTART:20260308T070000
END:DAYLIGHT
BEGIN:STANDARD
TZOFFSETFROM:-0400
TZOFFSETTO:-0500
TZNAME:EST
DTSTART:20261101T060000
END:STANDARD
END:VTIMEZONE
BEGIN:VEVENT
DTSTART;VALUE=DATE:20250920
DTEND;VALUE=DATE:20250921
DTSTAMP:20260424T002255
CREATED:20250816T195955Z
LAST-MODIFIED:20250902T201510Z
UID:9628-1758326400-1758412799@troop58ashburn.camp
SUMMARY:Back Country Outdoor Leadership Skills (BCOLS) Weekend 1
DESCRIPTION:Registration – https://scoutingevent.com/082-93341Back Country Outdoor Leader Skills (BCOLS)Back Country Outdoor Leader Skills (BCOLS) is an optional course offered to adult leaders who have completed the required training in their Scouting program. This course assists Scouters working with youth in the backcountry by providing the skills necessary to conduct a safe and risk-managed high adventure program in venues outside those supported by BSA infrastructure. It has been continuously designed to address new and emerging issues\, techniques\, and gear. Cub Scout Leaders or people without camping experience SHOULD NOT take this training.  All participants MUST complete Introduction to Outdoor Leader Skills\, as well as the position-specific training for their program area prior to attending this course.  All participants must be able to meet current physical requirements of the BSA Annual Health & Medical Record. BCOLS has three key goals:Provide adult leaders with an understanding of safety and risk management issues in the back country environment.Expose adult leaders to interpersonal\, small group dynamics\, and leadership models consistent with National syllabi and curricula.Familiarize adult leaders with the planning processes\, skills\, and equipment necessary to a successful back country adventure.BCOLS consists of two parts:Part 1 is a day-long classroom session which includes:Working Together – covers needs and characteristics of the age group; discusses group dynamics and the interpersonal skills needed to build and maintain a high-performance team.Trek Planning and Preparation – covers the detailed preparation and planning that is necessary to a successful Trek and includes risk management\, Leave No Trace principles\, and discussion and displays of the personal and crew equipment used for Trekking\, as well as other Trek tools.Part 2 is a two-day weekend outdoor session provides a mix of skill presentations and hands-on practice which includes:Leave No Trace camping skills\, problem solving through initiative games\, the use of bear bags/canisters\, equipment maintenance\, stove maintenance\, water treatment\, menu planning and trail cooking (and clean-up)\, terrain awareness\, health and safety and personal hygiene issues\, hands-on land navigation\, and trail meditations.Requirements for attending BCOLS:Be registered members of the Boy Scouts of America and age 18 or older.Have completed the basic position-specific training courses for their Scouting role.Be capable of functioning safely in an outdoor environment. All participants are required to complete the Annual Health and Medical Record. Parts A\, B\, and C are required which includes a physical.Youth participants (16 and up) will be admitted on an individual basis and requires the nomination by the unit leader.  Youth must have completed unit leadership training (Introduction to Leadership Skills for Troops or Crews\, etc.) and National Youth Leadership Training (NYLT).Both Session Must be Attended to get credit for the Course. Spring CourseClass Room Session: Saturday March 1\, 2025 Weekend Session : Saturday April 26 thru Sunday April 27\, 2025 Fall CourseClass Room Session: Saturday September 20\, 2025 Weekend Session : Saturday October 18 thru Sunday October 19\, 2025 Venue will be selected based on the majority of participants’ home unit locations.Maryland sites:  Classroom — Mt. Zion UMC\, 27108 Mt. Zion Church Rd\, Mechanicsville\, MD 20659                        Overnight — American Chestnut Land Trust\, 2650 Scientists Cliff Rd\, Prince Frederick\, MD 20678Virginia sites:  Classroom — Heritage Presbyterian Church\, 8503 Fort Hunt Rd\, Alexandria\, VA 22308                   Overnight – Big Mac\, Camp Big Mac 12647 Moss Hollow Road Markham\, VA 22643QUESTIONS?For information about specific courses\, contact Course Coordinator:  Al Barber\,  gbarber829@aol.com / 571.244.2758 
URL:https://troop58ashburn.camp/event-2/back-country-outdoor-leadership-skills-bcols-weekend-1/
LOCATION:TBD\, 2560 King Arthur Boulevard\, Lewisville\, TX\, 75056\, United States
END:VEVENT
BEGIN:VEVENT
DTSTART;TZID=America/New_York:20250916T193000
DTEND;TZID=America/New_York:20250916T204500
DTSTAMP:20260424T002255
CREATED:20250702T231508Z
LAST-MODIFIED:20250902T201510Z
UID:9497-1758051000-1758055500@troop58ashburn.camp
SUMMARY:Troop Meeting
DESCRIPTION:Troop 58 regular weekly Troop meeting.We meet every week on Tuesday except for the first Tuesday of the month with is reserved for the Patrol Leader’s Council (PLC) for Scouts with elected leadership positions.
URL:https://troop58ashburn.camp/event-2/troop-meeting-245/
LOCATION:Ashburn Volunteer Fire and Rescue Department\, 20688 Ashburn Rd\, Ashburn\, VA\, United States
END:VEVENT
BEGIN:VEVENT
DTSTART;TZID=America/New_York:20250916T193000
DTEND;TZID=America/New_York:20250916T203000
DTSTAMP:20260424T002255
CREATED:20250618T224937Z
LAST-MODIFIED:20250902T201510Z
UID:9395-1758051000-1758054600@troop58ashburn.camp
SUMMARY:Board of Review - S.Mann - Life rank
DESCRIPTION:
URL:https://troop58ashburn.camp/event-2/board-of-review-s-mann-life-rank/
LOCATION:Ashburn Volunteer Fire and Rescue Department\, 20688 Ashburn Rd\, Ashburn\, VA\, United States
END:VEVENT
BEGIN:VEVENT
DTSTART;TZID=America/New_York:20250914T100000
DTEND;TZID=America/New_York:20250914T140000
DTSTAMP:20260424T002255
CREATED:20250727T180200Z
LAST-MODIFIED:20250902T201510Z
UID:9574-1757844000-1757858400@troop58ashburn.camp
SUMMARY:Krishnan Patel Eagle Scout Project
DESCRIPTION:Please join me for the second day of my Eagle Scout Project. Over the course of two workdays\, we will be constructing agility equipment for the dogs at Loudoun County Animal Services. This will consist of an A-frame and a set of weave poles.On this workday\, we will be putting together the rest of the A-frame and painting it. Lunch will be provided\, but please bring your own water. Wear clothing that you don’t mind getting paint on. We are also looking for someone to bring an additional cordless drill\, so if you are willing\, please let me know in your RSVP note. We will be working at Loudoun County Animal Services: 42225 Adoption Dr\, Leesburg\, VA 20175
URL:https://troop58ashburn.camp/event-2/krishnan-patel-eagle-scout-project-2/
LOCATION:42225 Adoption Dr\, Leesburg\, VA\, United States
END:VEVENT
BEGIN:VEVENT
DTSTART;TZID=America/New_York:20250913T120000
DTEND;TZID=America/New_York:20250914T100000
DTSTAMP:20260424T002255
CREATED:20250802T184453Z
LAST-MODIFIED:20250902T201509Z
UID:9589-1757764800-1757844000@troop58ashburn.camp
SUMMARY:Scout Skills and Cubscout Recruiting Campout
DESCRIPTION:Campout to work on Scout Skills for the early ranks as well as host a fun campout for visiting Cubscouts.
URL:https://troop58ashburn.camp/event-2/scout-skills-and-cubscout-recruiting-campout/
LOCATION:Bear’s Den
END:VEVENT
BEGIN:VEVENT
DTSTART;TZID=America/New_York:20250910T193000
DTEND;TZID=America/New_York:20250910T210000
DTSTAMP:20260424T002255
CREATED:20240506T211802Z
LAST-MODIFIED:20250902T201509Z
UID:8179-1757532600-1757538000@troop58ashburn.camp
SUMMARY:Goose Creek District Roundtable
DESCRIPTION:See https://www.ncacbsa.org/goose-creek/roundtable/ for more info.
URL:https://troop58ashburn.camp/event-2/goose-creek-district-roundtable-82/
LOCATION:Leesburg United Methodist Church\, 107 W Market St\, Leesburg\, VA\, United States
END:VEVENT
BEGIN:VEVENT
DTSTART;TZID=America/New_York:20250910T193000
DTEND;TZID=America/New_York:20250910T203000
DTSTAMP:20260424T002255
CREATED:20240506T211801Z
LAST-MODIFIED:20250902T201509Z
UID:8178-1757532600-1757536200@troop58ashburn.camp
SUMMARY:Order of the Arrow meeting
DESCRIPTION:
URL:https://troop58ashburn.camp/event-2/order-of-the-arrow-meeting-84/
LOCATION:Leesburg United Methodist Church\, 107 W Market St\, Leesburg\, VA\, United States
END:VEVENT
BEGIN:VEVENT
DTSTART;TZID=America/New_York:20250909T193000
DTEND;TZID=America/New_York:20250909T204500
DTSTAMP:20260424T002255
CREATED:20250702T231507Z
LAST-MODIFIED:20250902T201508Z
UID:9496-1757446200-1757450700@troop58ashburn.camp
SUMMARY:Troop Meeting
DESCRIPTION:Troop 58 regular weekly Troop meeting.We meet every week on Tuesday except for the first Tuesday of the month with is reserved for the Patrol Leader’s Council (PLC) for Scouts with elected leadership positions.
URL:https://troop58ashburn.camp/event-2/troop-meeting-244/
LOCATION:Ashburn Volunteer Fire and Rescue Department\, 20688 Ashburn Rd\, Ashburn\, VA\, United States
END:VEVENT
BEGIN:VEVENT
DTSTART;TZID=America/New_York:20250909T193000
DTEND;TZID=America/New_York:20250909T203000
DTSTAMP:20260424T002255
CREATED:20250827T201451Z
LAST-MODIFIED:20250902T201508Z
UID:9662-1757446200-1757449800@troop58ashburn.camp
SUMMARY:Board of Review - A.Kordish - Life rank
DESCRIPTION:
URL:https://troop58ashburn.camp/event-2/board-of-review-a-kordish-life-rank/
LOCATION:Ashburn Volunteer Fire and Rescue Department\, 20688 Ashburn Rd\, Ashburn\, VA\, United States
END:VEVENT
BEGIN:VEVENT
DTSTART;TZID=America/New_York:20250907T130000
DTEND;TZID=America/New_York:20250907T160000
DTSTAMP:20260424T002255
CREATED:20250823T201458Z
LAST-MODIFIED:20250902T201508Z
UID:9652-1757250000-1757260800@troop58ashburn.camp
SUMMARY:Service Project at St. David’s
DESCRIPTION:St. David’s Service Project – Stain pre-school playground fence & do other clean up.
URL:https://troop58ashburn.camp/event-2/hold-2-st-davids-service-project-stain-fence/
LOCATION:St. David’s Episcopal Church\, 43600 Russel Branch Pkwy\, Ashburn\, VA\, 20147\, United States
END:VEVENT
BEGIN:VEVENT
DTSTART;TZID=America/New_York:20250906T090000
DTEND;TZID=America/New_York:20250906T120000
DTSTAMP:20260424T002255
CREATED:20250823T201457Z
LAST-MODIFIED:20250827T201507Z
UID:9651-1757149200-1757160000@troop58ashburn.camp
SUMMARY:Hold 1- Stain Fence at St. Davids
DESCRIPTION:Hold 1 – Stain fence at St. David’s
URL:https://troop58ashburn.camp/event-2/hold-1-stain-fence-at-st-davids/
LOCATION:St. David’s Episcopal Church\, 43600 Russel Branch Pkwy\, Ashburn\, VA\, 20147\, United States
END:VEVENT
BEGIN:VEVENT
DTSTART;TZID=America/New_York:20250902T193000
DTEND;TZID=America/New_York:20250902T204500
DTSTAMP:20260424T002255
CREATED:20250701T231500Z
LAST-MODIFIED:20250902T201508Z
UID:9440-1756841400-1756845900@troop58ashburn.camp
SUMMARY:Patrol Leader's Council (PLC)
DESCRIPTION:Monthly meeting of the Patrol Leader’s Council (Scouts who hold elected leadership positions).Uniforms not necessary.
URL:https://troop58ashburn.camp/event-2/patrol-leaders-council-plc-3/
LOCATION:Ashburn Volunteer Fire and Rescue Department\, 20688 Ashburn Rd\, Ashburn\, VA\, United States
END:VEVENT
BEGIN:VEVENT
DTSTART;TZID=America/New_York:20250902T193000
DTEND;TZID=America/New_York:20250902T203000
DTSTAMP:20260424T002255
CREATED:20250829T201450Z
LAST-MODIFIED:20250902T201508Z
UID:9667-1756841400-1756845000@troop58ashburn.camp
SUMMARY:Troop Committee Meeting - in person
DESCRIPTION:Agenda: – Support for upcoming campouts -September – scout skills campout/AoL VisitSeptember – GettysburgOctober – HikingNovember – Shooting SportsDecember – Lock in- Support for PLC Annual Planning Meeting- High Adventure – 2026 Okpik2026 National Jamboree2027 Northern Tier?2028 Philmont?2028 World JamboreeAdvancement Report – Kathleen ranksSeptember COH & Pot LuckTreasurer’s Report – CharlesOA Report – – Chaplain’s  report  St. David’s Service project New Business –Scoutmaster Report –  
URL:https://troop58ashburn.camp/event-2/troop-committee-meeting-in-person/
LOCATION:Ashburn Volunteer Fire and Rescue Department\, 20688 Ashburn Rd\, Ashburn\, VA\, United States
END:VEVENT
BEGIN:VEVENT
DTSTART;TZID=America/New_York:20250830T100000
DTEND;TZID=America/New_York:20250830T140000
DTSTAMP:20260424T002255
CREATED:20250723T180211Z
LAST-MODIFIED:20250829T201506Z
UID:9564-1756548000-1756562400@troop58ashburn.camp
SUMMARY:Krishnan Patel Eagle Scout Project
DESCRIPTION:Please join me for the first day of my Eagle Scout Project. Over the course of two workdays\, we will be constructing agility equipment for the dogs at Loudoun County Animal Services. This will consist of an A-frame and a set of weave poles.For this first workday\, we will sand and prime the wood for the A-frame as well as put together the weave poles. Lunch will be provided\, but volunteers should bring their own water. We will be working outside. Wear clothing that you don’t mind getting dirty. Work gloves are recommended.We will be working in my backyard: 43652 Riverpoint Drive\, Leesburg\, VA 20176
URL:https://troop58ashburn.camp/event-2/krishnan-patel-eagle-scout-project/
LOCATION:43652 Riverpoint Drive – Leesburg\, Leesburg\, VA\, United States
END:VEVENT
BEGIN:VEVENT
DTSTART;TZID=America/New_York:20250826T193000
DTEND;TZID=America/New_York:20250826T204500
DTSTAMP:20260424T002255
CREATED:20250702T231507Z
LAST-MODIFIED:20250826T201601Z
UID:9495-1756236600-1756241100@troop58ashburn.camp
SUMMARY:Troop Meeting
DESCRIPTION:Troop 58 regular weekly Troop meeting.We meet every week on Tuesday except for the first Tuesday of the month with is reserved for the Patrol Leader’s Council (PLC) for Scouts with elected leadership positions.
URL:https://troop58ashburn.camp/event-2/troop-meeting-243/
LOCATION:Ashburn Volunteer Fire and Rescue Department\, 20688 Ashburn Rd\, Ashburn\, VA\, United States
END:VEVENT
BEGIN:VEVENT
DTSTART;TZID=America/New_York:20250819T193000
DTEND;TZID=America/New_York:20250819T204500
DTSTAMP:20260424T002255
CREATED:20250702T231506Z
LAST-MODIFIED:20250819T201552Z
UID:9494-1755631800-1755636300@troop58ashburn.camp
SUMMARY:Troop Meeting
DESCRIPTION:Troop 58 regular weekly Troop meeting.We meet every week on Tuesday except for the first Tuesday of the month with is reserved for the Patrol Leader’s Council (PLC) for Scouts with elected leadership positions.
URL:https://troop58ashburn.camp/event-2/troop-meeting-242/
LOCATION:Ashburn Volunteer Fire and Rescue Department\, 20688 Ashburn Rd\, Ashburn\, VA\, United States
END:VEVENT
BEGIN:VEVENT
DTSTART;TZID=America/New_York:20250817T100000
DTEND;TZID=America/New_York:20250817T130000
DTSTAMP:20260424T002255
CREATED:20250208T225327Z
LAST-MODIFIED:20250816T200010Z
UID:9123-1755424800-1755435600@troop58ashburn.camp
SUMMARY:Service Project - Loudon Heritage Farm Museum
DESCRIPTION:Old Bats:To provide 2-deep adult leadership\, I need an additional registered adult at Sunday’s service project from 10am-1pm at the Loudoun Heritage Farm Museum at Claude Moore Park. Can someone please sign up in TroopTrack.YiS\,DaveService Project at Loudoun Heritage Farm MuseumThe project is clearing up the garden and weeding at the Loudoun Heritage Farm Museum. The address is 21668 Heritage Farm Lane\, Sterling\, VA 20164\, and the project time is from 10:00 am to 1:00 pm on Sunday\, August 17.The director requests that we bring gardening/leather gloves\, sunscreen\, bug spray\, a hat\, a water bottle\, snacks\, and any necessary tools to assist with the project. They will provide a selection of gardening tools\, wheelbarrows\, and a garden cart. This project will require 5 scouts or more to finish the project. It provides conservation hours for everyone who is interested.
URL:https://troop58ashburn.camp/event-2/wilderness-survival-campout-3/
LOCATION:Loudoun Heritage Farm Museum
END:VEVENT
BEGIN:VEVENT
DTSTART;TZID=America/New_York:20250813T193000
DTEND;TZID=America/New_York:20250813T210000
DTSTAMP:20260424T002255
CREATED:20240506T211801Z
LAST-MODIFIED:20250813T194518Z
UID:8176-1755113400-1755118800@troop58ashburn.camp
SUMMARY:Goose Creek District Roundtable
DESCRIPTION:See https://www.ncacbsa.org/goose-creek/roundtable/ for more info.
URL:https://troop58ashburn.camp/event-2/goose-creek-district-roundtable-81/
LOCATION:Belmont Ridge Middle School
END:VEVENT
BEGIN:VEVENT
DTSTART;TZID=America/New_York:20250813T193000
DTEND;TZID=America/New_York:20250813T203000
DTSTAMP:20260424T002255
CREATED:20240506T211801Z
LAST-MODIFIED:20250813T194518Z
UID:8177-1755113400-1755117000@troop58ashburn.camp
SUMMARY:Order of the Arrow meeting
DESCRIPTION:
URL:https://troop58ashburn.camp/event-2/order-of-the-arrow-meeting-83/
LOCATION:Belmont Ridge Middle School
END:VEVENT
BEGIN:VEVENT
DTSTART;TZID=America/New_York:20250812T193000
DTEND;TZID=America/New_York:20250812T204500
DTSTAMP:20260424T002255
CREATED:20250702T231505Z
LAST-MODIFIED:20250812T194550Z
UID:9493-1755027000-1755031500@troop58ashburn.camp
SUMMARY:Troop Meeting
DESCRIPTION:Troop 58 regular weekly Troop meeting.We meet every week on Tuesday except for the first Tuesday of the month with is reserved for the Patrol Leader’s Council (PLC) for Scouts with elected leadership positions.
URL:https://troop58ashburn.camp/event-2/troop-meeting-241/
LOCATION:Ashburn Volunteer Fire and Rescue Department\, 20688 Ashburn Rd\, Ashburn\, VA\, United States
END:VEVENT
BEGIN:VEVENT
DTSTART;TZID=America/New_York:20250812T193000
DTEND;TZID=America/New_York:20250812T203000
DTSTAMP:20260424T002255
CREATED:20250729T181512Z
LAST-MODIFIED:20250812T194550Z
UID:9580-1755027000-1755030600@troop58ashburn.camp
SUMMARY:Board of Review - AJ Hunter - Star rank
DESCRIPTION:
URL:https://troop58ashburn.camp/event-2/board-of-review-aj-hunter-star-rank/
LOCATION:Ashburn Volunteer Fire and Rescue Department\, 20688 Ashburn Rd\, Ashburn\, VA\, United States
END:VEVENT
BEGIN:VEVENT
DTSTART;TZID=America/New_York:20250812T193000
DTEND;TZID=America/New_York:20250812T203000
DTSTAMP:20260424T002255
CREATED:20250729T181511Z
LAST-MODIFIED:20250812T194550Z
UID:9579-1755027000-1755030600@troop58ashburn.camp
SUMMARY:Board of Review - R.Kandikonda - Star rank
DESCRIPTION:
URL:https://troop58ashburn.camp/event-2/board-of-review-r-kandikonda-star-rank/
LOCATION:Ashburn Volunteer Fire and Rescue Department\, 20688 Ashburn Rd\, Ashburn\, VA\, United States
END:VEVENT
BEGIN:VEVENT
DTSTART;TZID=America/New_York:20250812T130000
DTEND;TZID=America/New_York:20250812T160000
DTSTAMP:20260424T002255
CREATED:20250812T194536Z
LAST-MODIFIED:20250812T194550Z
UID:9620-1755003600-1755014400@troop58ashburn.camp
SUMMARY:Tommy Wall Eagle Project Paint Day
DESCRIPTION:Please join me for my Eagle Project’s “paint day” at Mobile Hope in Leesburg\, VA.We will be painting a wooden donation box on site at Mobile Hope.Please bring a brush and dress in clothes that can get paint on them.I will provide donuts\, snacks and extra drinks.YiSTommy Wall
URL:https://troop58ashburn.camp/event-2/tommy-wall-eagle-project-paint-day/
LOCATION:302 Parker Ct. SE\, Leesburg\, VA\, United States
END:VEVENT
BEGIN:VEVENT
DTSTART;TZID=America/New_York:20250805T193000
DTEND;TZID=America/New_York:20250805T204500
DTSTAMP:20260424T002255
CREATED:20250701T231459Z
LAST-MODIFIED:20250805T185947Z
UID:9439-1754422200-1754426700@troop58ashburn.camp
SUMMARY:Patrol Leader's Council (PLC)
DESCRIPTION:Monthly meeting of the Patrol Leader’s Council (Scouts who hold elected leadership positions).Uniforms not necessary.
URL:https://troop58ashburn.camp/event-2/patrol-leaders-council-plc-2/
LOCATION:Ashburn Volunteer Fire and Rescue Department\, 20688 Ashburn Rd\, Ashburn\, VA\, United States
END:VEVENT
BEGIN:VEVENT
DTSTART;TZID=America/New_York:20250805T193000
DTEND;TZID=America/New_York:20250805T203000
DTSTAMP:20260424T002255
CREATED:20250803T184529Z
LAST-MODIFIED:20250805T185947Z
UID:9593-1754422200-1754425800@troop58ashburn.camp
SUMMARY:No Committee Meeting
DESCRIPTION:We will not have an August Troop Committee Meeting.
URL:https://troop58ashburn.camp/event-2/no-committee-meeting/
LOCATION:None
END:VEVENT
BEGIN:VEVENT
DTSTART;TZID=America/New_York:20250802T090000
DTEND;TZID=America/New_York:20250802T160000
DTSTAMP:20260424T002255
CREATED:20250723T180210Z
LAST-MODIFIED:20250802T184504Z
UID:9562-1754125200-1754150400@troop58ashburn.camp
SUMMARY:Service: LWC Annual Butterfly Count
DESCRIPTION:NOTE: THIS IS NOT A TROOP 58 SPONSORED EVENTVolunteer to help the Loudoun Wildlife Conservancy on Saturday\, August 2nd for the Annual Butterfly Count.  All teams start at 9am; you can sign up for morning only (until noon) or full day (until 4pm). $3 fee for adult participants.This activity will count as conservation-related service hours. Reminder that Star-rank Scouts working toward Life rank need to complete at least 3 hours of conservation-related service. If you attend\, send your details to Mrs. Quinn for service hour credit.More information and registration here: https://loudounwildlife.org/citizen-science/butterfly-count/
URL:https://troop58ashburn.camp/event-2/service-lwc-annual-butterfly-count/
LOCATION:Register online
END:VEVENT
BEGIN:VEVENT
DTSTART;TZID=America/New_York:20250801T100000
DTEND;TZID=America/New_York:20250801T120000
DTSTAMP:20260424T002255
CREATED:20250731T183050Z
LAST-MODIFIED:20250731T183105Z
UID:9585-1754042400-1754049600@troop58ashburn.camp
SUMMARY:Tommy Wall Eagle Project "Build Day"
DESCRIPTION:Please join me for my Eagle Project’s “build day” at Mobile Hope in Leesburg\, VA.We will be constructing a wooden donation box on site at Mobile Hope.Please bring a filled water bottle and work gloves if you have them.  I will bring a few extra pair of work gloves and safety glasses for those that need them.I will provide donuts\, snacks and extra drinks.There will be a follow up day planned to paint the donation box.YiSTommy Wall
URL:https://troop58ashburn.camp/event-2/tommy-wall-eagle-project-build-day/
LOCATION:302 Parker Ct SE\, Leesburg\, VA\, United States
END:VEVENT
BEGIN:VEVENT
DTSTART;TZID=America/New_York:20250729T193000
DTEND;TZID=America/New_York:20250729T204500
DTSTAMP:20260424T002255
CREATED:20250702T231505Z
LAST-MODIFIED:20250729T181525Z
UID:9492-1753817400-1753821900@troop58ashburn.camp
SUMMARY:Troop Meeting
DESCRIPTION:Troop 58 regular weekly Troop meeting.We meet every week on Tuesday except for the first Tuesday of the month with is reserved for the Patrol Leader’s Council (PLC) for Scouts with elected leadership positions.
URL:https://troop58ashburn.camp/event-2/troop-meeting-240/
LOCATION:Ashburn Volunteer Fire and Rescue Department\, 20688 Ashburn Rd\, Ashburn\, VA\, United States
END:VEVENT
BEGIN:VEVENT
DTSTART;TZID=America/New_York:20250727T070000
DTEND;TZID=America/New_York:20250801T170000
DTSTAMP:20260424T002255
CREATED:20250111T210540Z
LAST-MODIFIED:20250801T184506Z
UID:8994-1753599600-1754067600@troop58ashburn.camp
SUMMARY:Summer NYLT 25-5
DESCRIPTION:2 slots left.Attention 1st Class & higher scouts – Summer NYLT Course 25-5 is the only course with space still available. If you aspire to be ASPL please attend.  Please communicate with the Scoutmaster before you sign up. The Troop will pay partial tuition to those that do.Registration link – https://scoutingevent.com/082-summer2025NYLTWHO SHOULD ATTEND?Scouts who have completed their unit’s introduction to leadership course\, have been practicing these skills\, and are ready for the next level of training should attend NYLT once they meet all Eligibility Requirements.NYLT ELIGIBILITY REQUIREMENTSScouts must:Complete their home Unit’s Introduction to Leadership Skills course*Receive approval from your Scoutmaster or Unit leaderBe at least 13 years of age by course start dateEarn First Class rank\, if registered in a TroopHave current BSA Health Form (Parts A\, B\, and C)Be comfortable camping and cooking outdoorsCommit to attending the entire six-day course* Introduction to Leadership Skills for Troops (ILST)\, Crews (ILSC)\, and Ships (ILSS) should be offered through a Scout’s home unit. Ask your Unit Leader how you can participate in this course.Course Directors25-2 Nick Maliszewskyj25-3 Liz Bullock25-4 Eric “Doc” Gilgenast25-5 Dave RockwellREFUND POLICYCancel within 3 days of making a registration and the entire amount is returned. After 3 days of making the registration but not within 14 of the event the customer is charged 15% of the registration cost being cancelled. Once within 14 days of the event the customer is charged 100% of the registration cost being cancelled.Fees cannot be credited toward another event. This policy is true for any event with fees over $25.00 per participant/registrant unless stated otherwise.WHAT NYLT IS (AND IS NOT)NYLT is not like summer camp and is not designed for rank advancement or earning merit badges.  NYLT is an intense and challenging hands-on leadership training program.  It is essential that NYLT participants be physically\, emotionally\, and mentally prepared to handle the demands of this advanced training. In order to get the most benefit from this unique experience\, participants must exhibit emotional maturity\, a positive attitude\, proficiency in basic camping and outdoor cooking\, and have an ambition to serve in leadership roles.Behavior at NYLT: Participants agree to conduct themselves in accordance with the Scout Oath and Law.Scholarship requests can be submitted at: https://247scouting.com/forms/082-FinancialSupport QUESTIONS?For information about specific courses\, contact the Course Director. General inquiries about the NYLT program may be directed to contact@myNYLT.org.You can follow NCAC NYLT Youth Training online on Facebook facebook.com/myNYLT Remember\, “Scouting is a game with a purpose.” — Baden-Powell
URL:https://troop58ashburn.camp/event-2/summer-nylt-2/
LOCATION:Summer NYLT 25-5
END:VEVENT
BEGIN:VEVENT
DTSTART;TZID=America/New_York:20250722T194500
DTEND;TZID=America/New_York:20250722T204500
DTSTAMP:20260424T002255
CREATED:20250702T231504Z
LAST-MODIFIED:20250722T180138Z
UID:9491-1753213500-1753217100@troop58ashburn.camp
SUMMARY:Emergency Simulation
DESCRIPTION:Troop 58 will be hosting an emergency simulation during our regular Tuesday Troop meeting.The simulation will be lead by a Troop 58 parent who is also an EMT with Sterling Volunteer Rescue Squad.The purpose of the emergency project required for the Emergency Preparedness merit badge is to give Scouts practical\, hands-on experience in responding to emergencies by participating in a real emergency service project.  This requirement is designed to help Scouts apply what they’ve learned about emergency preparedness in a simulated setting\, reinforcing their ability to act effectively and safely during actual emergencies.This simulation is designed to fulfill the requirement 9d of Emergency Preparedness Merit Badge.You may participate in the simulation and earn credit for requirement 9d even you have not started the merit badge at the time of the event.
URL:https://troop58ashburn.camp/event-2/emergency-simulation/
LOCATION:Ashburn Volunteer Fire and Rescue Department\, 20688 Ashburn Rd\, Ashburn\, VA\, United States
END:VEVENT
END:VCALENDAR