BEGIN:VCALENDAR
VERSION:2.0
PRODID:-//Boy Scout Troop 58 - Ashburn, VA - ECPv6.15.20//NONSGML v1.0//EN
CALSCALE:GREGORIAN
METHOD:PUBLISH
X-WR-CALNAME:Boy Scout Troop 58 - Ashburn, VA
X-ORIGINAL-URL:https://troop58ashburn.camp
X-WR-CALDESC:Events for Boy Scout Troop 58 - Ashburn, VA
REFRESH-INTERVAL;VALUE=DURATION:PT1H
X-Robots-Tag:noindex
X-PUBLISHED-TTL:PT1H
BEGIN:VTIMEZONE
TZID:America/New_York
BEGIN:DAYLIGHT
TZOFFSETFROM:-0500
TZOFFSETTO:-0400
TZNAME:EDT
DTSTART:20200308T070000
END:DAYLIGHT
BEGIN:STANDARD
TZOFFSETFROM:-0400
TZOFFSETTO:-0500
TZNAME:EST
DTSTART:20201101T060000
END:STANDARD
BEGIN:DAYLIGHT
TZOFFSETFROM:-0500
TZOFFSETTO:-0400
TZNAME:EDT
DTSTART:20210314T070000
END:DAYLIGHT
BEGIN:STANDARD
TZOFFSETFROM:-0400
TZOFFSETTO:-0500
TZNAME:EST
DTSTART:20211107T060000
END:STANDARD
BEGIN:DAYLIGHT
TZOFFSETFROM:-0500
TZOFFSETTO:-0400
TZNAME:EDT
DTSTART:20220313T070000
END:DAYLIGHT
BEGIN:STANDARD
TZOFFSETFROM:-0400
TZOFFSETTO:-0500
TZNAME:EST
DTSTART:20221106T060000
END:STANDARD
END:VTIMEZONE
BEGIN:VEVENT
DTSTART;TZID=America/New_York:20210323T193000
DTEND;TZID=America/New_York:20210323T210000
DTSTAMP:20260425T114556
CREATED:20200810T132820Z
LAST-MODIFIED:20210119T201027Z
UID:6104-1616527800-1616533200@troop58ashburn.camp
SUMMARY:Troop Meeting
DESCRIPTION:Weekly (except the first Tuesday of each month) meeting of Troop 58.
URL:https://troop58ashburn.camp/event-2/troop-meeting-107/
LOCATION:Ashburn Volunteer Fire and Rescue Department\,20688 Ashburn Road\,Ashburn\,VA\,20147\, United States
END:VEVENT
BEGIN:VEVENT
DTSTART;TZID=America/New_York:20210319T173000
DTEND;TZID=America/New_York:20210321T100000
DTSTAMP:20260425T114556
CREATED:20200810T132820Z
LAST-MODIFIED:20210119T201027Z
UID:6103-1616175000-1616320800@troop58ashburn.camp
SUMMARY:Be Prepared / Mystery Campout
DESCRIPTION:Troop 58's monthly campout; details provided as we get closer to each trip!
URL:https://troop58ashburn.camp/event-2/campout-3/
LOCATION:TBD\, 2560 King Arthur Boulevard\, Lewisville\, TX\, 75056\, United States
END:VEVENT
BEGIN:VEVENT
DTSTART;TZID=America/New_York:20210318T193000
DTEND;TZID=America/New_York:20210318T213000
DTSTAMP:20260425T114556
CREATED:20190813T034030Z
LAST-MODIFIED:20210119T201026Z
UID:3400-1616095800-1616103000@troop58ashburn.camp
SUMMARY:ASM meeting
DESCRIPTION:Monthly planning/coordination meeting for the Scoutmaster and ASMs; all Committee Members and other adults are welcome as well.  Location rotates each month.
URL:https://troop58ashburn.camp/event-2/asm-meeting-20/
LOCATION:TBD\, 2560 King Arthur Boulevard\, Lewisville\, TX\, 75056\, United States
END:VEVENT
BEGIN:VEVENT
DTSTART;TZID=America/New_York:20210316T193000
DTEND;TZID=America/New_York:20210316T210000
DTSTAMP:20260425T114556
CREATED:20200810T132819Z
LAST-MODIFIED:20210119T201026Z
UID:6102-1615923000-1615928400@troop58ashburn.camp
SUMMARY:Troop Meeting
DESCRIPTION:Weekly (except the first Tuesday of each month) meeting of Troop 58.
URL:https://troop58ashburn.camp/event-2/troop-meeting-106/
LOCATION:Ashburn Volunteer Fire and Rescue Department\,20688 Ashburn Road\,Ashburn\,VA\,20147\, United States
END:VEVENT
BEGIN:VEVENT
DTSTART;TZID=America/New_York:20210313T130000
DTEND;TZID=America/New_York:20210314T100000
DTSTAMP:20260425T114556
CREATED:20201204T025508Z
LAST-MODIFIED:20210119T201026Z
UID:6788-1615640400-1615716000@troop58ashburn.camp
SUMMARY:New Scout Campout (placeholder)
DESCRIPTION:This will be our cross-over Scouts' first campout with Troop 58 – and without their parents!  We will depart Trailside Middle School on Saturday\, March 13\, at 1:00pm and return to Trailside Middle School around 10:00am on Sunday\, March 14.  The weekend will be filled with scout skills training\, great camping food\, a big campfire\, etc. – everything our brand new Boy Scouts need to get off on the right foot in Troop 58! \nPLC members are expected to attend and camp for the night. \nREMEMBER – we travel to/from all campouts in class A uniform (without neckerchief). \nLocation details – http://www.ncacbsa.org/goose-creek/wp-content/uploads/sites/12/2017/01/Claude_Moore_-_New_Entrance.pdf \nThe gate combo is 2191. \nPort-a-potty by UNITED SITE SERVICES\, Inc. via Bryan Dykstra (508-948-6941 / bryan.dykstra@unitedsiteservices.com)
URL:https://troop58ashburn.camp/event-2/new-scout-campout-placeholder/
LOCATION:NCAC Campsite\, Ashburn\, VA\, United States
END:VEVENT
BEGIN:VEVENT
DTSTART;TZID=America/New_York:20210310T193000
DTEND;TZID=America/New_York:20210310T210000
DTSTAMP:20260425T114556
CREATED:20191115T003608Z
LAST-MODIFIED:20210119T201026Z
UID:4238-1615404600-1615410000@troop58ashburn.camp
SUMMARY:Goose Creek District Roundtable
DESCRIPTION:See https://www.ncacbsa.org/goose-creek/roundtable/ for more info.
URL:https://troop58ashburn.camp/event-2/goose-creek-district-roundtable-20/
LOCATION:Leesburg United Methodist Church\,107 W Market St\,Leesburg\,VA\,20176\, 1 W Market St\, United States
END:VEVENT
BEGIN:VEVENT
DTSTART;TZID=America/New_York:20210310T193000
DTEND;TZID=America/New_York:20210310T203000
DTSTAMP:20260425T114556
CREATED:20190813T034030Z
LAST-MODIFIED:20210119T201026Z
UID:3399-1615404600-1615408200@troop58ashburn.camp
SUMMARY:Order of the Arrow meeting
DESCRIPTION:
URL:https://troop58ashburn.camp/event-2/order-of-the-arrow-meeting-20/
LOCATION:Leesburg United Methodist Church\,107 W Market St\,Leesburg\,VA\,20176\, 1 W Market St\, United States
END:VEVENT
BEGIN:VEVENT
DTSTART;TZID=America/New_York:20210309T193000
DTEND;TZID=America/New_York:20210309T210000
DTSTAMP:20260425T114556
CREATED:20200810T132819Z
LAST-MODIFIED:20210119T201026Z
UID:6101-1615318200-1615323600@troop58ashburn.camp
SUMMARY:Troop Meeting
DESCRIPTION:Weekly (except the first Tuesday of each month) meeting of Troop 58.
URL:https://troop58ashburn.camp/event-2/troop-meeting-105/
LOCATION:Ashburn Volunteer Fire and Rescue Department\,20688 Ashburn Road\,Ashburn\,VA\,20147\, United States
END:VEVENT
BEGIN:VEVENT
DTSTART;TZID=America/New_York:20210309T191500
DTEND;TZID=America/New_York:20210309T193000
DTSTAMP:20260425T114556
CREATED:20200826T165235Z
LAST-MODIFIED:20210119T201026Z
UID:6324-1615317300-1615318200@troop58ashburn.camp
SUMMARY:HA Philmont Crew Meeting (w/parents)
DESCRIPTION:Philmont Crew\, \n \nPhilmont trip-planning has officially begun!   \nWith less than 11 months to go\, we will start meeting on a monthly basis to discuss trip logistics\, preparation\, and training.  Please arrive 5 minutes early\, so that we start promptly at 7:15pm.  Also\, these meetings are for both crew members and parents.   \nPlease make sure to RSVP\, so that we can keep tabs on who has received what information.  Also\, please contact me with any questions. \n \nYiS\, \nMs. Khalili \n703-439-0230  
URL:https://troop58ashburn.camp/event-2/ha-philmont-crew-meeting-w-parents-7/
LOCATION:Founders Hall\, AVFRD
END:VEVENT
BEGIN:VEVENT
DTSTART;TZID=America/New_York:20210306T070000
DTEND;TZID=America/New_York:20210307T200000
DTSTAMP:20260425T114556
CREATED:20200825T165119Z
LAST-MODIFIED:20210119T201025Z
UID:6304-1615014000-1615147200@troop58ashburn.camp
SUMMARY:Philmont 2021 Training Overnight Backpacking Trip
DESCRIPTION:Philmont 2021 Crew Training Overnight Backpacking Trip \nLocation: Bear's Den to Harper's Ferry (https://www.alltrails.com/explore/trail/us/virginia/bears-den-to-harpers-ferry) \nDistance: 19.2 Miles \nDeparture Time: We will meet at Trailside by 7:00am and depart by 7:15am on March 6th \nReturn Time: We should return in the evening around 4:00pm on March 7th \nPack Weight: 100% of Full Load \nWhat to bring: This will be our first overnight hike.  Our pack weights should be 100% or 30% of our body weight.  Scouts should eat breakfast first\, bring lunch/dinner Saturday and Breakfast/Lunch or Snack on Sunday.  
URL:https://troop58ashburn.camp/event-2/philmont-2021-training-overnight-backpacking-trip/
LOCATION:AT: Bear’s Den to Harper’s Ferry
END:VEVENT
BEGIN:VEVENT
DTSTART;TZID=America/New_York:20210302T190000
DTEND;TZID=America/New_York:20210302T203000
DTSTAMP:20260425T114556
CREATED:20200810T132819Z
LAST-MODIFIED:20210119T201025Z
UID:6100-1614711600-1614717000@troop58ashburn.camp
SUMMARY:PLC Meeting
DESCRIPTION:Monthly meeting of the elected youth leadership team – the Patrol Leaders Council.
URL:https://troop58ashburn.camp/event-2/plc-meeting-23/
LOCATION:Ashburn Volunteer Fire and Rescue Department\,20688 Ashburn Road\,Ashburn\,VA\,20147\, United States
END:VEVENT
BEGIN:VEVENT
DTSTART;TZID=America/New_York:20210302T153000
DTEND;TZID=America/New_York:20210302T163000
DTSTAMP:20260425T114556
CREATED:20200104T083621Z
LAST-MODIFIED:20210119T201025Z
UID:4555-1614699000-1614702600@troop58ashburn.camp
SUMMARY:No school
DESCRIPTION:
URL:https://troop58ashburn.camp/event-2/no-school-7/
END:VEVENT
BEGIN:VEVENT
DTSTART;TZID=America/New_York:20210223T193000
DTEND;TZID=America/New_York:20210223T210000
DTSTAMP:20260425T114556
CREATED:20200810T132819Z
LAST-MODIFIED:20210119T201025Z
UID:6099-1614108600-1614114000@troop58ashburn.camp
SUMMARY:Troop Meeting
DESCRIPTION:Weekly (except the first Tuesday of each month) meeting of Troop 58.
URL:https://troop58ashburn.camp/event-2/troop-meeting-104/
LOCATION:Ashburn Volunteer Fire and Rescue Department\,20688 Ashburn Road\,Ashburn\,VA\,20147\, United States
END:VEVENT
BEGIN:VEVENT
DTSTART;TZID=America/New_York:20210220T070000
DTEND;TZID=America/New_York:20210220T190000
DTSTAMP:20260425T114556
CREATED:20200810T132818Z
LAST-MODIFIED:20210119T201025Z
UID:6098-1613804400-1613847600@troop58ashburn.camp
SUMMARY:Ski Trip
DESCRIPTION:Due to the COVID-19 directives and restrictions to reduce the transmission of the virus\, this year skiing outing will be a day trip to Liberty Mountain. Advance reservation and purchase is required due to reduced limitation of capacity (~50%). The cost of this outing is between $80-$150 (see below).  \nRates are as followed:  $80 – Lift ticket only  $56 – Ski/snow board Rental  $15 – Helmet Rental \nPlease RSVP in TT and pay by January 29th.  Please contact me directly (703-582-9689) if you have any questions\, issues\, or concerns. \nYiS\, Wilson Chua
URL:https://troop58ashburn.camp/event-2/campout-2/
LOCATION:Liberty Mountain
END:VEVENT
BEGIN:VEVENT
DTSTART;TZID=America/New_York:20210218T193000
DTEND;TZID=America/New_York:20210218T213000
DTSTAMP:20260425T114556
CREATED:20190813T034029Z
LAST-MODIFIED:20210119T201025Z
UID:3398-1613676600-1613683800@troop58ashburn.camp
SUMMARY:ASM meeting
DESCRIPTION:Monthly planning/coordination meeting for the Scoutmaster and ASMs; all Committee Members and other adults are welcome as well.  Location rotates each month. \n \nJoin Zoom Meeting \nhttps://us02web.zoom.us/j/87259582648?pwd=R0JpNzZWTWthVFNYSisrZUJTdS9XQT09 \nMeeting ID: 872 5958 2648 \nPasscode: 609603 \nOne tap mobile \n+19292056099\,\,87259582648#\,\,\,\,*609603# US (New York) \n+13017158592\,\,87259582648#\,\,\,\,*609603# US (Washington D.C)
URL:https://troop58ashburn.camp/event-2/asm-meeting-19/
LOCATION:Zoom
END:VEVENT
BEGIN:VEVENT
DTSTART;TZID=America/New_York:20210216T193000
DTEND;TZID=America/New_York:20210216T210000
DTSTAMP:20260425T114556
CREATED:20200810T132818Z
LAST-MODIFIED:20210119T201025Z
UID:6097-1613503800-1613509200@troop58ashburn.camp
SUMMARY:Troop Meeting
DESCRIPTION:Weekly (except the first Tuesday of each month) meeting of Troop 58.
URL:https://troop58ashburn.camp/event-2/troop-meeting-103/
LOCATION:Ashburn Volunteer Fire and Rescue Department\,20688 Ashburn Road\,Ashburn\,VA\,20147\, United States
END:VEVENT
BEGIN:VEVENT
DTSTART;TZID=America/New_York:20210215T150000
DTEND;TZID=America/New_York:20210215T160000
DTSTAMP:20260425T114556
CREATED:20200104T083621Z
LAST-MODIFIED:20210119T201025Z
UID:4554-1613401200-1613404800@troop58ashburn.camp
SUMMARY:No school
DESCRIPTION:
URL:https://troop58ashburn.camp/event-2/no-school-6/
END:VEVENT
BEGIN:VEVENT
DTSTART;TZID=America/New_York:20210213T163000
DTEND;TZID=America/New_York:20210215T173000
DTSTAMP:20260425T114556
CREATED:20200516T201433Z
LAST-MODIFIED:20201208T035731Z
UID:5663-1613233800-1613410200@troop58ashburn.camp
SUMMARY:Winter NYLT Session #2
DESCRIPTION:Winter NYLT session 2 of 2; must attend both.  Registration TBD…
URL:https://troop58ashburn.camp/event-2/winter-nylt-session-2-2/
END:VEVENT
BEGIN:VEVENT
DTSTART;TZID=America/New_York:20210213T163000
DTEND;TZID=America/New_York:20210215T173000
DTSTAMP:20260425T114556
CREATED:20200516T201433Z
LAST-MODIFIED:20200516T201433Z
UID:5662-1613233800-1613410200@troop58ashburn.camp
SUMMARY:Winter NYLT Session #2
DESCRIPTION:Winter NYLT session 2 of 2; must attend both.  Registration TBD…
URL:https://troop58ashburn.camp/event-2/winter-nylt-session-2/
END:VEVENT
BEGIN:VEVENT
DTSTART;TZID=America/New_York:20210210T193000
DTEND;TZID=America/New_York:20210210T210000
DTSTAMP:20260425T114556
CREATED:20191115T003608Z
LAST-MODIFIED:20210119T201025Z
UID:4237-1612985400-1612990800@troop58ashburn.camp
SUMMARY:Goose Creek District Roundtable
DESCRIPTION:See https://www.ncacbsa.org/goose-creek/roundtable/ for more info.
URL:https://troop58ashburn.camp/event-2/goose-creek-district-roundtable-19/
LOCATION:Leesburg United Methodist Church\,107 W Market St\,Leesburg\,VA\,20176\, 1 W Market St\, United States
END:VEVENT
BEGIN:VEVENT
DTSTART;TZID=America/New_York:20210210T193000
DTEND;TZID=America/New_York:20210210T203000
DTSTAMP:20260425T114556
CREATED:20190813T034029Z
LAST-MODIFIED:20210119T201024Z
UID:3397-1612985400-1612989000@troop58ashburn.camp
SUMMARY:Order of the Arrow meeting
DESCRIPTION:
URL:https://troop58ashburn.camp/event-2/order-of-the-arrow-meeting-19/
LOCATION:Leesburg United Methodist Church\,107 W Market St\,Leesburg\,VA\,20176\, 1 W Market St\, United States
END:VEVENT
BEGIN:VEVENT
DTSTART;TZID=America/New_York:20210209T193000
DTEND;TZID=America/New_York:20210209T210000
DTSTAMP:20260425T114556
CREATED:20200810T132818Z
LAST-MODIFIED:20210119T201024Z
UID:6096-1612899000-1612904400@troop58ashburn.camp
SUMMARY:Troop Meeting
DESCRIPTION:Weekly (except the first Tuesday of each month) meeting of Troop 58.
URL:https://troop58ashburn.camp/event-2/troop-meeting-102/
LOCATION:Ashburn Volunteer Fire and Rescue Department\,20688 Ashburn Road\,Ashburn\,VA\,20147\, United States
END:VEVENT
BEGIN:VEVENT
DTSTART;TZID=America/New_York:20210209T191500
DTEND;TZID=America/New_York:20210209T193000
DTSTAMP:20260425T114556
CREATED:20200826T165233Z
LAST-MODIFIED:20210119T201024Z
UID:6322-1612898100-1612899000@troop58ashburn.camp
SUMMARY:HA Philmont Crew Meeting (w/parents)
DESCRIPTION:Philmont Crew\, \n \nPhilmont trip-planning has officially begun!   \nWith less than 11 months to go\, we will start meeting on a monthly basis to discuss trip logistics\, preparation\, and training.  Please arrive 5 minutes early\, so that we start promptly at 7:15pm.  Also\, these meetings are for both crew members and parents.   \nPlease make sure to RSVP\, so that we can keep tabs on who has received what information.  Also\, please contact me with any questions. \n \nYiS\, \nMs. Khalili \n703-439-0230  
URL:https://troop58ashburn.camp/event-2/ha-philmont-crew-meeting-w-parents-6/
LOCATION:Founders Hall\, AVFRD
END:VEVENT
BEGIN:VEVENT
DTSTART;TZID=America/New_York:20210202T190000
DTEND;TZID=America/New_York:20210202T203000
DTSTAMP:20260425T114556
CREATED:20200810T132818Z
LAST-MODIFIED:20210119T201024Z
UID:6095-1612292400-1612297800@troop58ashburn.camp
SUMMARY:PLC Meeting
DESCRIPTION:Monthly meeting of the elected youth leadership team – the Patrol Leaders Council. \nJoin Zoom Meeting \nhttps://us02web.zoom.us/j/8032308747 \nMeeting ID: 803 230 8747 \nOne tap mobile: \n+13017158592\,\,8032308747# 
URL:https://troop58ashburn.camp/event-2/plc-meeting-22/
LOCATION:Online via Zoom
END:VEVENT
BEGIN:VEVENT
DTSTART;TZID=America/New_York:20210130T070000
DTEND;TZID=America/New_York:20210130T160000
DTSTAMP:20260425T114556
CREATED:20200824T162608Z
LAST-MODIFIED:20210119T201024Z
UID:6296-1611990000-1612022400@troop58ashburn.camp
SUMMARY:Philmont 2021 Training Day Hike
DESCRIPTION:Philmont 2021 Crew Training Day Hike \nLocation: Catoctin Mountain Extended Loop Trail (https://www.alltrails.com/trail/us/maryland/catoctin-mountain-extended-loop-trail) \nDistance: 8.6 Miles \nDeparture Time: We will meet at Trailside by 7:00am and depart by 7:15am \nReturn Time: We should return in the evening around 4:00pm \nPack Weight: 50% of Full Load \nWhat to bring: We will be on the trail all day\, bring plenty of water\, snacks and lunch.
URL:https://troop58ashburn.camp/event-2/philmont-2021-training-day-hike-2/
LOCATION:Catoctin Mountain Extended Loop Trail
END:VEVENT
BEGIN:VEVENT
DTSTART;TZID=America/New_York:20210126T193000
DTEND;TZID=America/New_York:20210126T210000
DTSTAMP:20260425T114556
CREATED:20200810T132817Z
LAST-MODIFIED:20210119T201024Z
UID:6094-1611689400-1611694800@troop58ashburn.camp
SUMMARY:Troop Meeting
DESCRIPTION:Every 2nd and 4th Tuesday of each month.   \nJoin Zoom Meeting \nhttps://us02web.zoom.us/j/9107369914 \nMeeting ID: 910 736 9914 \nOne tap mobile \n+19292056099\,\,9107369914# US (New York) \n+13017158592\,\,9107369914# US (Washington D.C)
URL:https://troop58ashburn.camp/event-2/troop-meeting-101/
LOCATION:Zoom
END:VEVENT
BEGIN:VEVENT
DTSTART;TZID=America/New_York:20210126T193000
DTEND;TZID=America/New_York:20210126T203000
DTSTAMP:20260425T114556
CREATED:20201218T064523Z
LAST-MODIFIED:20210119T201024Z
UID:6825-1611689400-1611693000@troop58ashburn.camp
SUMMARY:Pack _____ visit
DESCRIPTION:
URL:https://troop58ashburn.camp/event-2/pack-_____-visit-4/
END:VEVENT
BEGIN:VEVENT
DTSTART;TZID=America/New_York:20210123T124500
DTEND;TZID=America/New_York:20210123T150000
DTSTAMP:20260425T114556
CREATED:20210119T201023Z
LAST-MODIFIED:20210119T201023Z
UID:6943-1611405900-1611414000@troop58ashburn.camp
SUMMARY:Pack 1158 Pinewood Derby Race Assistance
DESCRIPTION:Due to Covid restrictions\, Pack 1158 will be holding their Pinewood Derby virtually this year.  They have asked for 4 scouts to assist with the race.  If you are not attending the campout or hike that weekend\, please consider volunteering your time at a fun event!  Here's what you will be taking care of: \n\n\nArrange cars on the starting-line for each heat. \n\n\nInitiate race \n\n\nReturn the cars to the holding area \n\n\n(optional) make a list of race day jokes appropriate for cubscouts. \n\n\nThere will be adults there to MC the event\, set up the track\, run the cameras\, etc.  There will be refreshments for volunteers.
URL:https://troop58ashburn.camp/event-2/pack-1158-pinewood-derby-race-assistance/
LOCATION:Dominion Trail Elementary
END:VEVENT
BEGIN:VEVENT
DTSTART;TZID=America/New_York:20210123T100000
DTEND;TZID=America/New_York:20210123T153000
DTSTAMP:20260425T114556
CREATED:20210112T002139Z
LAST-MODIFIED:20210119T201023Z
UID:6929-1611396000-1611415800@troop58ashburn.camp
SUMMARY:Day Hike during Winter Campout
DESCRIPTION:RSVP HERE IF YOU ARE ONLY COMING FOR THE DAY HIKE.  \nJoin us for a day hike while we are camping  @ Marsden Tract Campsite (https://www.canaltrust.org/pyv/marsden-tract-campground/) in between the C&O Canal and the Potomac River.  Plan to arrive by 10am\, so you can join us as we hike IN PATROLS (<10 people) Section C of the Billy Goat trail 1.6 miles)\, one of the most popular and challenging rock hikes in the east!  There are also many additional woodland trails for beginners and experts alike. Fishing is available in both the C&O Canal and the Potomac River. Scouts will need a Maryland fishing license if they are 16 or older and fishing in the Canal; Virginia licenses are approved for fishing in the Potomac only.  \nMeet the troop at the campsite by walking approx. 1 mile east on the C&O Canal Tow Path from the Angler's Inn parking area (10801 MacArthur Boulevard\, Potomac\, MD) to the campsite.  Bring your lunch or coordinate with your Patrol Leader to join in on patrol lunch!
URL:https://troop58ashburn.camp/event-2/day-hike-during-winter-campout/
LOCATION:Marsden Tract Campground\, C&O Canal\, Potomac\, MD
END:VEVENT
BEGIN:VEVENT
DTSTART;TZID=America/New_York:20210123T073000
DTEND;TZID=America/New_York:20210124T103000
DTSTAMP:20260425T114556
CREATED:20200810T132817Z
LAST-MODIFIED:20210119T201023Z
UID:6092-1611387000-1611484200@troop58ashburn.camp
SUMMARY:Winter Campout
DESCRIPTION:We will be camping FOR ONE NIGHT @ sites 2 and 3 of the Marsden Tract Campsite (https://www.canaltrust.org/pyv/marsden-tract-campground/) in between the C&O Canal and the Potomac River.  During the day on Saturday\, we will hike IN PATROLS (<10 people) Section C of the Billy Goat trail 1.6 miles)\, one of the most popular and challenging rock hikes in the east!  There are also many additional woodland trails for beginners and experts alike. Fishing is available in both the C&O Canal and the Potomac River. Scouts will need a Maryland fishing license if they are 16 or older and fishing in the Canal; Virginia licenses are approved for fishing in the Potomac only.  There will be no Zoom on this campout!   \nDress warm and let's prepare for some serious hot meals – chili\, dutch oven meals\, mountain man breakfast\, etc.  No sandwiches or cold bagels this weekend!  Make sure to check on the weather regarding prior or forecasted rain\, so we can bring dry firewood with us if necessary! \nDAY HIKERS ARE WELCOME if you do not want to camp…just RSVP here instead – https://troop58.trooptrack.com/plan/events/1251405 . \nWe have 2 30-person campsites reserved\, so there will be plenty of room to spread out and remain COVID-safe. Each campsite has a picnic table and a fire ring. Portable toilets are located between group campsite #1 and group campsite #2. Potable water will likely not be available due to the winter season\, so we will need to bring full jugs with us from Ashburn. Access to the campsites is by foot only\, so we should be prepared to walk approx.. 1 mile east on the C&O Canal Tow Path from the Angler's Inn parking area (10801 MacArthur Boulevard\, Potomac\, MD) to the campsite. There is a footbridge over the canal and towpath off of MacArthur Blvd. near the intersection with Brickyard Rd. This will be used to off-load gear to be walked down the hill to the campsite.
URL:https://troop58ashburn.camp/event-2/campout/
LOCATION:Marsden Tract Campground\, C&O Canal\, Potomac\, MD
END:VEVENT
END:VCALENDAR