BEGIN:VCALENDAR
VERSION:2.0
PRODID:-//Boy Scout Troop 58 - Ashburn, VA - ECPv6.15.20//NONSGML v1.0//EN
CALSCALE:GREGORIAN
METHOD:PUBLISH
X-WR-CALNAME:Boy Scout Troop 58 - Ashburn, VA
X-ORIGINAL-URL:https://troop58ashburn.camp
X-WR-CALDESC:Events for Boy Scout Troop 58 - Ashburn, VA
REFRESH-INTERVAL;VALUE=DURATION:PT1H
X-Robots-Tag:noindex
X-PUBLISHED-TTL:PT1H
BEGIN:VTIMEZONE
TZID:America/New_York
BEGIN:DAYLIGHT
TZOFFSETFROM:-0500
TZOFFSETTO:-0400
TZNAME:EDT
DTSTART:20200308T070000
END:DAYLIGHT
BEGIN:STANDARD
TZOFFSETFROM:-0400
TZOFFSETTO:-0500
TZNAME:EST
DTSTART:20201101T060000
END:STANDARD
BEGIN:DAYLIGHT
TZOFFSETFROM:-0500
TZOFFSETTO:-0400
TZNAME:EDT
DTSTART:20210314T070000
END:DAYLIGHT
BEGIN:STANDARD
TZOFFSETFROM:-0400
TZOFFSETTO:-0500
TZNAME:EST
DTSTART:20211107T060000
END:STANDARD
BEGIN:DAYLIGHT
TZOFFSETFROM:-0500
TZOFFSETTO:-0400
TZNAME:EDT
DTSTART:20220313T070000
END:DAYLIGHT
BEGIN:STANDARD
TZOFFSETFROM:-0400
TZOFFSETTO:-0500
TZNAME:EST
DTSTART:20221106T060000
END:STANDARD
END:VTIMEZONE
BEGIN:VEVENT
DTSTART;TZID=America/New_York:20210601T190000
DTEND;TZID=America/New_York:20210601T203000
DTSTAMP:20260425T103453
CREATED:20201121T000751Z
LAST-MODIFIED:20201121T000751Z
UID:6757-1622574000-1622579400@troop58ashburn.camp
SUMMARY:PLC Meeting
DESCRIPTION:Monthly meeting of the elected youth leadership team – the Patrol Leaders Council.
URL:https://troop58ashburn.camp/event-2/plc-meeting-33/
END:VEVENT
BEGIN:VEVENT
DTSTART;TZID=America/New_York:20210601T190000
DTEND;TZID=America/New_York:20210601T203000
DTSTAMP:20260425T103453
CREATED:20200810T132823Z
LAST-MODIFIED:20210119T201030Z
UID:6115-1622574000-1622579400@troop58ashburn.camp
SUMMARY:PLC Meeting
DESCRIPTION:Monthly meeting of the elected youth leadership team – the Patrol Leaders Council.
URL:https://troop58ashburn.camp/event-2/plc-meeting-26/
LOCATION:Ashburn Volunteer Fire and Rescue Department\,20688 Ashburn Road\,Ashburn\,VA\,20147\, United States
END:VEVENT
BEGIN:VEVENT
DTSTART;TZID=America/New_York:20210525T193000
DTEND;TZID=America/New_York:20210525T210000
DTSTAMP:20260425T103453
CREATED:20201119T235703Z
LAST-MODIFIED:20201119T235703Z
UID:6752-1621971000-1621976400@troop58ashburn.camp
SUMMARY:Troop Meeting
DESCRIPTION:Weekly (except the first Tuesday of each month) meeting of Troop 58.
URL:https://troop58ashburn.camp/event-2/troop-meeting-141/
END:VEVENT
BEGIN:VEVENT
DTSTART;TZID=America/New_York:20210525T193000
DTEND;TZID=America/New_York:20210525T210000
DTSTAMP:20260425T103453
CREATED:20200810T132823Z
LAST-MODIFIED:20210119T201029Z
UID:6114-1621971000-1621976400@troop58ashburn.camp
SUMMARY:Troop Meeting
DESCRIPTION:Weekly (except the first Tuesday of each month) meeting of Troop 58.
URL:https://troop58ashburn.camp/event-2/troop-meeting-113/
LOCATION:Ashburn Volunteer Fire and Rescue Department\,20688 Ashburn Road\,Ashburn\,VA\,20147\, United States
END:VEVENT
BEGIN:VEVENT
DTSTART;TZID=America/New_York:20210521T173000
DTEND;TZID=America/New_York:20210523T100000
DTSTAMP:20260425T103453
CREATED:20200810T132823Z
LAST-MODIFIED:20210119T201029Z
UID:6113-1621618200-1621764000@troop58ashburn.camp
SUMMARY:Archery / Shooting Sports Campout
DESCRIPTION:Troop 58's monthly campout; details provided as we get closer to each trip!
URL:https://troop58ashburn.camp/event-2/campout-5/
LOCATION:TBD\, 2560 King Arthur Boulevard\, Lewisville\, TX\, 75056\, United States
END:VEVENT
BEGIN:VEVENT
DTSTART;TZID=America/New_York:20210520T193000
DTEND;TZID=America/New_York:20210520T213000
DTSTAMP:20260425T103453
CREATED:20190813T034031Z
LAST-MODIFIED:20210119T201029Z
UID:3404-1621539000-1621546200@troop58ashburn.camp
SUMMARY:ASM meeting
DESCRIPTION:Monthly planning/coordination meeting for the Scoutmaster and ASMs; all Committee Members and other adults are welcome as well.  Location rotates each month.
URL:https://troop58ashburn.camp/event-2/asm-meeting-22/
LOCATION:TBD\, 2560 King Arthur Boulevard\, Lewisville\, TX\, 75056\, United States
END:VEVENT
BEGIN:VEVENT
DTSTART;TZID=America/New_York:20210518T193000
DTEND;TZID=America/New_York:20210518T210000
DTSTAMP:20260425T103453
CREATED:20200810T132822Z
LAST-MODIFIED:20210119T201029Z
UID:6112-1621366200-1621371600@troop58ashburn.camp
SUMMARY:Troop Meeting
DESCRIPTION:Weekly (except the first Tuesday of each month) meeting of Troop 58.
URL:https://troop58ashburn.camp/event-2/troop-meeting-112/
LOCATION:Ashburn Volunteer Fire and Rescue Department\,20688 Ashburn Road\,Ashburn\,VA\,20147\, United States
END:VEVENT
BEGIN:VEVENT
DTSTART;TZID=America/New_York:20210514T170000
DTEND;TZID=America/New_York:20210516T170000
DTSTAMP:20260425T103453
CREATED:20200825T165121Z
LAST-MODIFIED:20210119T201029Z
UID:6308-1621011600-1621184400@troop58ashburn.camp
SUMMARY:Philmont 2021 Training Day Hike
DESCRIPTION:Philmont 2021 Crew Training Day Hike \nLocation: Ramsey's Draft (https://www.alltrails.com/explore/trail/us/virginia/ramseys-draft-trail ) \nDistance: 16.5 Miles \nDeparture Time: We will meet at Trailside by 5:00pm and depart by 5:15pm.  We will drive to and camp near the trailhead\, location TBD\, and hike/camp Saturday and hike out/return home Sunday. \nReturn Time: We should return in the evening around 5:00pm \nPack Weight: 100% of Full Load \nWhat to bring: 
URL:https://troop58ashburn.camp/event-2/philmont-2021-training-day-hike-3/
LOCATION:Ramsey’s Draft
END:VEVENT
BEGIN:VEVENT
DTSTART;TZID=America/New_York:20210512T193000
DTEND;TZID=America/New_York:20210512T210000
DTSTAMP:20260425T103453
CREATED:20191115T003609Z
LAST-MODIFIED:20210119T201028Z
UID:4240-1620847800-1620853200@troop58ashburn.camp
SUMMARY:Goose Creek District Roundtable
DESCRIPTION:See https://www.ncacbsa.org/goose-creek/roundtable/ for more info.
URL:https://troop58ashburn.camp/event-2/goose-creek-district-roundtable-22/
LOCATION:Leesburg United Methodist Church\,107 W Market St\,Leesburg\,VA\,20176\, 1 W Market St\, United States
END:VEVENT
BEGIN:VEVENT
DTSTART;TZID=America/New_York:20210512T193000
DTEND;TZID=America/New_York:20210512T203000
DTSTAMP:20260425T103453
CREATED:20190813T034031Z
LAST-MODIFIED:20210119T201029Z
UID:3403-1620847800-1620851400@troop58ashburn.camp
SUMMARY:Order of the Arrow meeting
DESCRIPTION:
URL:https://troop58ashburn.camp/event-2/order-of-the-arrow-meeting-22/
LOCATION:Leesburg United Methodist Church\,107 W Market St\,Leesburg\,VA\,20176\, 1 W Market St\, United States
END:VEVENT
BEGIN:VEVENT
DTSTART;TZID=America/New_York:20210511T193000
DTEND;TZID=America/New_York:20210511T210000
DTSTAMP:20260425T103453
CREATED:20200810T132822Z
LAST-MODIFIED:20210119T201028Z
UID:6111-1620761400-1620766800@troop58ashburn.camp
SUMMARY:Troop Meeting
DESCRIPTION:Weekly (except the first Tuesday of each month) meeting of Troop 58.
URL:https://troop58ashburn.camp/event-2/troop-meeting-111/
LOCATION:Ashburn Volunteer Fire and Rescue Department\,20688 Ashburn Road\,Ashburn\,VA\,20147\, United States
END:VEVENT
BEGIN:VEVENT
DTSTART;TZID=America/New_York:20210511T191500
DTEND;TZID=America/New_York:20210511T193000
DTSTAMP:20260425T103453
CREATED:20200826T165237Z
LAST-MODIFIED:20210119T201028Z
UID:6327-1620760500-1620761400@troop58ashburn.camp
SUMMARY:HA Philmont Crew Meeting (w/parents)
DESCRIPTION:Philmont Crew\, \n \nPhilmont trip-planning has officially begun!   \nWith less than 11 months to go\, we will start meeting on a monthly basis to discuss trip logistics\, preparation\, and training.  Please arrive 5 minutes early\, so that we start promptly at 7:15pm.  Also\, these meetings are for both crew members and parents.   \nPlease make sure to RSVP\, so that we can keep tabs on who has received what information.  Also\, please contact me with any questions. \n \nYiS\, \nMs. Khalili \n703-439-0230  
URL:https://troop58ashburn.camp/event-2/ha-philmont-crew-meeting-w-parents-9/
LOCATION:Founders Hall\, AVFRD
END:VEVENT
BEGIN:VEVENT
DTSTART;TZID=America/New_York:20210504T190000
DTEND;TZID=America/New_York:20210504T203000
DTSTAMP:20260425T103453
CREATED:20200810T132821Z
LAST-MODIFIED:20210119T201028Z
UID:6110-1620154800-1620160200@troop58ashburn.camp
SUMMARY:PLC Meeting
DESCRIPTION:Monthly meeting of the elected youth leadership team – the Patrol Leaders Council.
URL:https://troop58ashburn.camp/event-2/plc-meeting-25/
LOCATION:Ashburn Volunteer Fire and Rescue Department\,20688 Ashburn Road\,Ashburn\,VA\,20147\, United States
END:VEVENT
BEGIN:VEVENT
DTSTART;TZID=America/New_York:20210427T193000
DTEND;TZID=America/New_York:20210427T210000
DTSTAMP:20260425T103453
CREATED:20200810T132821Z
LAST-MODIFIED:20210119T201028Z
UID:6109-1619551800-1619557200@troop58ashburn.camp
SUMMARY:Troop Meeting
DESCRIPTION:Weekly (except the first Tuesday of each month) meeting of Troop 58.
URL:https://troop58ashburn.camp/event-2/troop-meeting-110/
LOCATION:Ashburn Volunteer Fire and Rescue Department\,20688 Ashburn Road\,Ashburn\,VA\,20147\, United States
END:VEVENT
BEGIN:VEVENT
DTSTART;TZID=America/New_York:20210420T193000
DTEND;TZID=America/New_York:20210420T210000
DTSTAMP:20260425T103453
CREATED:20200810T132821Z
LAST-MODIFIED:20210119T201028Z
UID:6108-1618947000-1618952400@troop58ashburn.camp
SUMMARY:Troop Meeting
DESCRIPTION:Weekly (except the first Tuesday of each month) meeting of Troop 58.
URL:https://troop58ashburn.camp/event-2/troop-meeting-109/
LOCATION:Ashburn Volunteer Fire and Rescue Department\,20688 Ashburn Road\,Ashburn\,VA\,20147\, United States
END:VEVENT
BEGIN:VEVENT
DTSTART;TZID=America/New_York:20210416T173000
DTEND;TZID=America/New_York:20210418T100000
DTSTAMP:20260425T103453
CREATED:20200810T132821Z
LAST-MODIFIED:20210119T201028Z
UID:6107-1618594200-1618740000@troop58ashburn.camp
SUMMARY:Whitewater Rafting Campout
DESCRIPTION:Troop 58's monthly campout; details provided as we get closer to each trip!
URL:https://troop58ashburn.camp/event-2/campout-4/
LOCATION:TBD\, 2560 King Arthur Boulevard\, Lewisville\, TX\, 75056\, United States
END:VEVENT
BEGIN:VEVENT
DTSTART;TZID=America/New_York:20210415T193000
DTEND;TZID=America/New_York:20210415T213000
DTSTAMP:20260425T103453
CREATED:20190813T034030Z
LAST-MODIFIED:20210119T201028Z
UID:3402-1618515000-1618522200@troop58ashburn.camp
SUMMARY:ASM meeting
DESCRIPTION:Monthly planning/coordination meeting for the Scoutmaster and ASMs; all Committee Members and other adults are welcome as well.  Location rotates each month.
URL:https://troop58ashburn.camp/event-2/asm-meeting-21/
LOCATION:TBD\, 2560 King Arthur Boulevard\, Lewisville\, TX\, 75056\, United States
END:VEVENT
BEGIN:VEVENT
DTSTART;TZID=America/New_York:20210414T193000
DTEND;TZID=America/New_York:20210414T210000
DTSTAMP:20260425T103453
CREATED:20191115T003608Z
LAST-MODIFIED:20210119T201027Z
UID:4239-1618428600-1618434000@troop58ashburn.camp
SUMMARY:Goose Creek District Roundtable
DESCRIPTION:See https://www.ncacbsa.org/goose-creek/roundtable/ for more info.
URL:https://troop58ashburn.camp/event-2/goose-creek-district-roundtable-21/
LOCATION:Leesburg United Methodist Church\,107 W Market St\,Leesburg\,VA\,20176\, 1 W Market St\, United States
END:VEVENT
BEGIN:VEVENT
DTSTART;TZID=America/New_York:20210414T193000
DTEND;TZID=America/New_York:20210414T203000
DTSTAMP:20260425T103453
CREATED:20190813T034030Z
LAST-MODIFIED:20210119T201027Z
UID:3401-1618428600-1618432200@troop58ashburn.camp
SUMMARY:Order of the Arrow meeting
DESCRIPTION:
URL:https://troop58ashburn.camp/event-2/order-of-the-arrow-meeting-21/
LOCATION:Leesburg United Methodist Church\,107 W Market St\,Leesburg\,VA\,20176\, 1 W Market St\, United States
END:VEVENT
BEGIN:VEVENT
DTSTART;TZID=America/New_York:20210413T193000
DTEND;TZID=America/New_York:20210413T210000
DTSTAMP:20260425T103453
CREATED:20200810T132820Z
LAST-MODIFIED:20210119T201027Z
UID:6106-1618342200-1618347600@troop58ashburn.camp
SUMMARY:Troop Meeting
DESCRIPTION:Weekly (except the first Tuesday of each month) meeting of Troop 58.
URL:https://troop58ashburn.camp/event-2/troop-meeting-108/
LOCATION:Ashburn Volunteer Fire and Rescue Department\,20688 Ashburn Road\,Ashburn\,VA\,20147\, United States
END:VEVENT
BEGIN:VEVENT
DTSTART;TZID=America/New_York:20210413T191500
DTEND;TZID=America/New_York:20210413T193000
DTSTAMP:20260425T103453
CREATED:20200826T165236Z
LAST-MODIFIED:20210119T201027Z
UID:6326-1618341300-1618342200@troop58ashburn.camp
SUMMARY:HA Philmont Crew Meeting (w/parents)
DESCRIPTION:Philmont Crew\, \n \nPhilmont trip-planning has officially begun!   \nWith less than 11 months to go\, we will start meeting on a monthly basis to discuss trip logistics\, preparation\, and training.  Please arrive 5 minutes early\, so that we start promptly at 7:15pm.  Also\, these meetings are for both crew members and parents.   \nPlease make sure to RSVP\, so that we can keep tabs on who has received what information.  Also\, please contact me with any questions. \n \nYiS\, \nMs. Khalili \n703-439-0230  
URL:https://troop58ashburn.camp/event-2/ha-philmont-crew-meeting-w-parents-8/
LOCATION:Founders Hall\, AVFRD
END:VEVENT
BEGIN:VEVENT
DTSTART;TZID=America/New_York:20210410T060000
DTEND;TZID=America/New_York:20210411T160000
DTSTAMP:20260425T103453
CREATED:20200825T165120Z
LAST-MODIFIED:20210119T201027Z
UID:6306-1618034400-1618156800@troop58ashburn.camp
SUMMARY:Philmont 2021 Training Overnight Backpacking Trip
DESCRIPTION:Philmont 2021 Crew Training Overnight Backpacking Trip \nLocation: Hawskbill-Horseshoe-Rose River Loop (https://www.alltrails.com/explore/trail/us/virginia/big-meadow-hawsbill-and-rose-river) \nDistance: 20.8 Miles \nDeparture Time: We will meet at Trailside by 6:00am and depart by 6:15am on April 10th \nReturn Time: We should return in the evening around 4:00pm on April 11th \nPack Weight: 100% of Full Load \nWhat to bring: This will be our first overnight hike.  Our pack weights should be 100% or 30% of our body weight.  Scouts should eat breakfast first\, bring lunch/dinner Saturday and Breakfast/Lunch or Snack on Sunday.  
URL:https://troop58ashburn.camp/event-2/philmont-2021-training-overnight-backpacking-trip-2/
LOCATION:Hawksbill – Horseshoe – Rose River Loop
END:VEVENT
BEGIN:VEVENT
DTSTART;TZID=America/New_York:20210406T190000
DTEND;TZID=America/New_York:20210406T203000
DTSTAMP:20260425T103453
CREATED:20200810T132820Z
LAST-MODIFIED:20210119T201027Z
UID:6105-1617735600-1617741000@troop58ashburn.camp
SUMMARY:PLC Meeting
DESCRIPTION:Monthly meeting of the elected youth leadership team – the Patrol Leaders Council.
URL:https://troop58ashburn.camp/event-2/plc-meeting-24/
LOCATION:Ashburn Volunteer Fire and Rescue Department\,20688 Ashburn Road\,Ashburn\,VA\,20147\, United States
END:VEVENT
BEGIN:VEVENT
DTSTART;TZID=America/New_York:20210329T153000
DTEND;TZID=America/New_York:20210402T163000
DTSTAMP:20260425T103453
CREATED:20200104T083621Z
LAST-MODIFIED:20210119T201027Z
UID:4556-1617031800-1617381000@troop58ashburn.camp
SUMMARY:Spring Break
DESCRIPTION:
URL:https://troop58ashburn.camp/event-2/spring-break-2/
END:VEVENT
BEGIN:VEVENT
DTSTART;TZID=America/New_York:20210323T193000
DTEND;TZID=America/New_York:20210323T210000
DTSTAMP:20260425T103453
CREATED:20200810T132820Z
LAST-MODIFIED:20210119T201027Z
UID:6104-1616527800-1616533200@troop58ashburn.camp
SUMMARY:Troop Meeting
DESCRIPTION:Weekly (except the first Tuesday of each month) meeting of Troop 58.
URL:https://troop58ashburn.camp/event-2/troop-meeting-107/
LOCATION:Ashburn Volunteer Fire and Rescue Department\,20688 Ashburn Road\,Ashburn\,VA\,20147\, United States
END:VEVENT
BEGIN:VEVENT
DTSTART;TZID=America/New_York:20210319T173000
DTEND;TZID=America/New_York:20210321T100000
DTSTAMP:20260425T103453
CREATED:20200810T132820Z
LAST-MODIFIED:20210119T201027Z
UID:6103-1616175000-1616320800@troop58ashburn.camp
SUMMARY:Be Prepared / Mystery Campout
DESCRIPTION:Troop 58's monthly campout; details provided as we get closer to each trip!
URL:https://troop58ashburn.camp/event-2/campout-3/
LOCATION:TBD\, 2560 King Arthur Boulevard\, Lewisville\, TX\, 75056\, United States
END:VEVENT
BEGIN:VEVENT
DTSTART;TZID=America/New_York:20210318T193000
DTEND;TZID=America/New_York:20210318T213000
DTSTAMP:20260425T103453
CREATED:20190813T034030Z
LAST-MODIFIED:20210119T201026Z
UID:3400-1616095800-1616103000@troop58ashburn.camp
SUMMARY:ASM meeting
DESCRIPTION:Monthly planning/coordination meeting for the Scoutmaster and ASMs; all Committee Members and other adults are welcome as well.  Location rotates each month.
URL:https://troop58ashburn.camp/event-2/asm-meeting-20/
LOCATION:TBD\, 2560 King Arthur Boulevard\, Lewisville\, TX\, 75056\, United States
END:VEVENT
BEGIN:VEVENT
DTSTART;TZID=America/New_York:20210316T193000
DTEND;TZID=America/New_York:20210316T210000
DTSTAMP:20260425T103453
CREATED:20200810T132819Z
LAST-MODIFIED:20210119T201026Z
UID:6102-1615923000-1615928400@troop58ashburn.camp
SUMMARY:Troop Meeting
DESCRIPTION:Weekly (except the first Tuesday of each month) meeting of Troop 58.
URL:https://troop58ashburn.camp/event-2/troop-meeting-106/
LOCATION:Ashburn Volunteer Fire and Rescue Department\,20688 Ashburn Road\,Ashburn\,VA\,20147\, United States
END:VEVENT
BEGIN:VEVENT
DTSTART;TZID=America/New_York:20210313T130000
DTEND;TZID=America/New_York:20210314T100000
DTSTAMP:20260425T103453
CREATED:20201204T025508Z
LAST-MODIFIED:20210119T201026Z
UID:6788-1615640400-1615716000@troop58ashburn.camp
SUMMARY:New Scout Campout (placeholder)
DESCRIPTION:This will be our cross-over Scouts' first campout with Troop 58 – and without their parents!  We will depart Trailside Middle School on Saturday\, March 13\, at 1:00pm and return to Trailside Middle School around 10:00am on Sunday\, March 14.  The weekend will be filled with scout skills training\, great camping food\, a big campfire\, etc. – everything our brand new Boy Scouts need to get off on the right foot in Troop 58! \nPLC members are expected to attend and camp for the night. \nREMEMBER – we travel to/from all campouts in class A uniform (without neckerchief). \nLocation details – http://www.ncacbsa.org/goose-creek/wp-content/uploads/sites/12/2017/01/Claude_Moore_-_New_Entrance.pdf \nThe gate combo is 2191. \nPort-a-potty by UNITED SITE SERVICES\, Inc. via Bryan Dykstra (508-948-6941 / bryan.dykstra@unitedsiteservices.com)
URL:https://troop58ashburn.camp/event-2/new-scout-campout-placeholder/
LOCATION:NCAC Campsite\, Ashburn\, VA\, United States
END:VEVENT
BEGIN:VEVENT
DTSTART;TZID=America/New_York:20210310T193000
DTEND;TZID=America/New_York:20210310T210000
DTSTAMP:20260425T103453
CREATED:20191115T003608Z
LAST-MODIFIED:20210119T201026Z
UID:4238-1615404600-1615410000@troop58ashburn.camp
SUMMARY:Goose Creek District Roundtable
DESCRIPTION:See https://www.ncacbsa.org/goose-creek/roundtable/ for more info.
URL:https://troop58ashburn.camp/event-2/goose-creek-district-roundtable-20/
LOCATION:Leesburg United Methodist Church\,107 W Market St\,Leesburg\,VA\,20176\, 1 W Market St\, United States
END:VEVENT
END:VCALENDAR