BEGIN:VCALENDAR
VERSION:2.0
PRODID:-//Boy Scout Troop 58 - Ashburn, VA - ECPv6.15.20//NONSGML v1.0//EN
CALSCALE:GREGORIAN
METHOD:PUBLISH
X-WR-CALNAME:Boy Scout Troop 58 - Ashburn, VA
X-ORIGINAL-URL:https://troop58ashburn.camp
X-WR-CALDESC:Events for Boy Scout Troop 58 - Ashburn, VA
REFRESH-INTERVAL;VALUE=DURATION:PT1H
X-Robots-Tag:noindex
X-PUBLISHED-TTL:PT1H
BEGIN:VTIMEZONE
TZID:America/New_York
BEGIN:DAYLIGHT
TZOFFSETFROM:-0500
TZOFFSETTO:-0400
TZNAME:EDT
DTSTART:20200308T070000
END:DAYLIGHT
BEGIN:STANDARD
TZOFFSETFROM:-0400
TZOFFSETTO:-0500
TZNAME:EST
DTSTART:20201101T060000
END:STANDARD
BEGIN:DAYLIGHT
TZOFFSETFROM:-0500
TZOFFSETTO:-0400
TZNAME:EDT
DTSTART:20210314T070000
END:DAYLIGHT
BEGIN:STANDARD
TZOFFSETFROM:-0400
TZOFFSETTO:-0500
TZNAME:EST
DTSTART:20211107T060000
END:STANDARD
BEGIN:DAYLIGHT
TZOFFSETFROM:-0500
TZOFFSETTO:-0400
TZNAME:EDT
DTSTART:20220313T070000
END:DAYLIGHT
BEGIN:STANDARD
TZOFFSETFROM:-0400
TZOFFSETTO:-0500
TZNAME:EST
DTSTART:20221106T060000
END:STANDARD
END:VTIMEZONE
BEGIN:VEVENT
DTSTART;TZID=America/New_York:20211118T193000
DTEND;TZID=America/New_York:20211118T213000
DTSTAMP:20260425T122526
CREATED:20191122T011549Z
LAST-MODIFIED:20210119T201038Z
UID:4311-1637263800-1637271000@troop58ashburn.camp
SUMMARY:ASM meeting
DESCRIPTION:Monthly planning/coordination meeting for the Scoutmaster and ASMs; all Committee Members and other adults are welcome as well.  Location rotates each month.
URL:https://troop58ashburn.camp/event-2/asm-meeting-32/
LOCATION:TBD\, 2560 King Arthur Boulevard\, Lewisville\, TX\, 75056\, United States
END:VEVENT
BEGIN:VEVENT
DTSTART;TZID=America/New_York:20211116T193000
DTEND;TZID=America/New_York:20211116T210000
DTSTAMP:20260425T122527
CREATED:20200810T133028Z
LAST-MODIFIED:20210119T201038Z
UID:6145-1637091000-1637096400@troop58ashburn.camp
SUMMARY:Troop Meeting
DESCRIPTION:Weekly (except the first Tuesday of each month) meeting of Troop 58.
URL:https://troop58ashburn.camp/event-2/troop-meeting-133/
LOCATION:Ashburn Volunteer Fire and Rescue Department\,20688 Ashburn Road\,Ashburn\,VA\,20147\, United States
END:VEVENT
BEGIN:VEVENT
DTSTART;TZID=America/New_York:20211110T193000
DTEND;TZID=America/New_York:20211110T210000
DTSTAMP:20260425T122527
CREATED:20191115T003610Z
LAST-MODIFIED:20210119T201038Z
UID:4247-1636572600-1636578000@troop58ashburn.camp
SUMMARY:Goose Creek District Roundtable
DESCRIPTION:See https://www.ncacbsa.org/goose-creek/roundtable/ for more info.
URL:https://troop58ashburn.camp/event-2/goose-creek-district-roundtable-28/
LOCATION:Leesburg United Methodist Church\,107 W Market St\,Leesburg\,VA\,20176\, 1 W Market St\, United States
END:VEVENT
BEGIN:VEVENT
DTSTART;TZID=America/New_York:20211110T193000
DTEND;TZID=America/New_York:20211110T203000
DTSTAMP:20260425T122527
CREATED:20191115T003610Z
LAST-MODIFIED:20210119T201038Z
UID:4246-1636572600-1636576200@troop58ashburn.camp
SUMMARY:Order of the Arrow meeting
DESCRIPTION:
URL:https://troop58ashburn.camp/event-2/order-of-the-arrow-meeting-34/
LOCATION:Leesburg United Methodist Church\,107 W Market St\,Leesburg\,VA\,20176\, 1 W Market St\, United States
END:VEVENT
BEGIN:VEVENT
DTSTART;TZID=America/New_York:20211109T193000
DTEND;TZID=America/New_York:20211109T210000
DTSTAMP:20260425T122527
CREATED:20200810T133028Z
LAST-MODIFIED:20210119T201038Z
UID:6144-1636486200-1636491600@troop58ashburn.camp
SUMMARY:Troop Meeting
DESCRIPTION:Weekly (except the first Tuesday of each month) meeting of Troop 58.
URL:https://troop58ashburn.camp/event-2/troop-meeting-132/
LOCATION:Ashburn Volunteer Fire and Rescue Department\,20688 Ashburn Road\,Ashburn\,VA\,20147\, United States
END:VEVENT
BEGIN:VEVENT
DTSTART;TZID=America/New_York:20211102T190000
DTEND;TZID=America/New_York:20211102T203000
DTSTAMP:20260425T122527
CREATED:20200810T133027Z
LAST-MODIFIED:20210119T201038Z
UID:6143-1635879600-1635885000@troop58ashburn.camp
SUMMARY:PLC Meeting
DESCRIPTION:Monthly meeting of the elected youth leadership team – the Patrol Leaders Council.
URL:https://troop58ashburn.camp/event-2/plc-meeting-31/
LOCATION:Ashburn Volunteer Fire and Rescue Department\,20688 Ashburn Road\,Ashburn\,VA\,20147\, United States
END:VEVENT
BEGIN:VEVENT
DTSTART;TZID=America/New_York:20211026T193000
DTEND;TZID=America/New_York:20211026T210000
DTSTAMP:20260425T122527
CREATED:20200810T133027Z
LAST-MODIFIED:20210119T201038Z
UID:6142-1635276600-1635282000@troop58ashburn.camp
SUMMARY:Troop Meeting
DESCRIPTION:Weekly (except the first Tuesday of each month) meeting of Troop 58.
URL:https://troop58ashburn.camp/event-2/troop-meeting-131/
LOCATION:Ashburn Volunteer Fire and Rescue Department\,20688 Ashburn Road\,Ashburn\,VA\,20147\, United States
END:VEVENT
BEGIN:VEVENT
DTSTART;TZID=America/New_York:20211021T193000
DTEND;TZID=America/New_York:20211021T213000
DTSTAMP:20260425T122527
CREATED:20191022T193321Z
LAST-MODIFIED:20210119T201037Z
UID:4037-1634844600-1634851800@troop58ashburn.camp
SUMMARY:ASM meeting
DESCRIPTION:Monthly planning/coordination meeting for the Scoutmaster and ASMs; all Committee Members and other adults are welcome as well.  Location rotates each month.
URL:https://troop58ashburn.camp/event-2/asm-meeting-31/
LOCATION:TBD\, 2560 King Arthur Boulevard\, Lewisville\, TX\, 75056\, United States
END:VEVENT
BEGIN:VEVENT
DTSTART;TZID=America/New_York:20211019T193000
DTEND;TZID=America/New_York:20211019T210000
DTSTAMP:20260425T122527
CREATED:20200810T132831Z
LAST-MODIFIED:20210119T201037Z
UID:6141-1634671800-1634677200@troop58ashburn.camp
SUMMARY:Troop Meeting
DESCRIPTION:Weekly (except the first Tuesday of each month) meeting of Troop 58.
URL:https://troop58ashburn.camp/event-2/troop-meeting-130/
LOCATION:Ashburn Volunteer Fire and Rescue Department\,20688 Ashburn Road\,Ashburn\,VA\,20147\, United States
END:VEVENT
BEGIN:VEVENT
DTSTART;TZID=America/New_York:20211015T173000
DTEND;TZID=America/New_York:20211017T100000
DTSTAMP:20260425T122527
CREATED:20200810T132830Z
LAST-MODIFIED:20210119T201037Z
UID:6140-1634319000-1634464800@troop58ashburn.camp
SUMMARY:Patrol Challenge Campout
DESCRIPTION:Troop 58's monthly campout; details provided as we get closer to each trip!
URL:https://troop58ashburn.camp/event-2/campout-10/
LOCATION:TBD\, 2560 King Arthur Boulevard\, Lewisville\, TX\, 75056\, United States
END:VEVENT
BEGIN:VEVENT
DTSTART;TZID=America/New_York:20211013T193000
DTEND;TZID=America/New_York:20211013T210000
DTSTAMP:20260425T122527
CREATED:20191115T003610Z
LAST-MODIFIED:20210119T201037Z
UID:4245-1634153400-1634158800@troop58ashburn.camp
SUMMARY:Goose Creek District Roundtable
DESCRIPTION:See https://www.ncacbsa.org/goose-creek/roundtable/ for more info.
URL:https://troop58ashburn.camp/event-2/goose-creek-district-roundtable-27/
LOCATION:Leesburg United Methodist Church\,107 W Market St\,Leesburg\,VA\,20176\, 1 W Market St\, United States
END:VEVENT
BEGIN:VEVENT
DTSTART;TZID=America/New_York:20211013T193000
DTEND;TZID=America/New_York:20211013T203000
DTSTAMP:20260425T122527
CREATED:20191013T181602Z
LAST-MODIFIED:20210119T201037Z
UID:3970-1634153400-1634157000@troop58ashburn.camp
SUMMARY:Order of the Arrow meeting
DESCRIPTION:
URL:https://troop58ashburn.camp/event-2/order-of-the-arrow-meeting-30-2/
LOCATION:Leesburg United Methodist Church\,107 W Market St\,Leesburg\,VA\,20176\, 1 W Market St\, United States
END:VEVENT
BEGIN:VEVENT
DTSTART;TZID=America/New_York:20211012T193000
DTEND;TZID=America/New_York:20211012T210000
DTSTAMP:20260425T122527
CREATED:20200810T132830Z
LAST-MODIFIED:20210119T201037Z
UID:6139-1634067000-1634072400@troop58ashburn.camp
SUMMARY:Troop Meeting
DESCRIPTION:Weekly (except the first Tuesday of each month) meeting of Troop 58.
URL:https://troop58ashburn.camp/event-2/troop-meeting-129/
LOCATION:Ashburn Volunteer Fire and Rescue Department\,20688 Ashburn Road\,Ashburn\,VA\,20147\, United States
END:VEVENT
BEGIN:VEVENT
DTSTART;TZID=America/New_York:20211005T190000
DTEND;TZID=America/New_York:20211005T203000
DTSTAMP:20260425T122527
CREATED:20200810T132830Z
LAST-MODIFIED:20210119T201037Z
UID:6138-1633460400-1633465800@troop58ashburn.camp
SUMMARY:PLC Meeting
DESCRIPTION:Monthly meeting of the elected youth leadership team – the Patrol Leaders Council.
URL:https://troop58ashburn.camp/event-2/plc-meeting-30/
LOCATION:Ashburn Volunteer Fire and Rescue Department\,20688 Ashburn Road\,Ashburn\,VA\,20147\, United States
END:VEVENT
BEGIN:VEVENT
DTSTART;TZID=America/New_York:20210928T193000
DTEND;TZID=America/New_York:20210928T210000
DTSTAMP:20260425T122527
CREATED:20200810T132830Z
LAST-MODIFIED:20210119T201036Z
UID:6137-1632857400-1632862800@troop58ashburn.camp
SUMMARY:Troop Meeting
DESCRIPTION:Weekly (except the first Tuesday of each month) meeting of Troop 58.
URL:https://troop58ashburn.camp/event-2/troop-meeting-128/
LOCATION:Ashburn Volunteer Fire and Rescue Department\,20688 Ashburn Road\,Ashburn\,VA\,20147\, United States
END:VEVENT
BEGIN:VEVENT
DTSTART;TZID=America/New_York:20210921T193000
DTEND;TZID=America/New_York:20210921T210000
DTSTAMP:20260425T122527
CREATED:20200810T132829Z
LAST-MODIFIED:20210119T201036Z
UID:6136-1632252600-1632258000@troop58ashburn.camp
SUMMARY:Troop Meeting
DESCRIPTION:Weekly (except the first Tuesday of each month) meeting of Troop 58.
URL:https://troop58ashburn.camp/event-2/troop-meeting-127/
LOCATION:Ashburn Volunteer Fire and Rescue Department\,20688 Ashburn Road\,Ashburn\,VA\,20147\, United States
END:VEVENT
BEGIN:VEVENT
DTSTART;TZID=America/New_York:20210917T173000
DTEND;TZID=America/New_York:20210919T100000
DTSTAMP:20260425T122527
CREATED:20200810T132829Z
LAST-MODIFIED:20210119T201036Z
UID:6135-1631899800-1632045600@troop58ashburn.camp
SUMMARY:Ropes Course Campout
DESCRIPTION:Troop 58's monthly campout; details provided as we get closer to each trip!
URL:https://troop58ashburn.camp/event-2/campout-9/
LOCATION:TBD\, 2560 King Arthur Boulevard\, Lewisville\, TX\, 75056\, United States
END:VEVENT
BEGIN:VEVENT
DTSTART;TZID=America/New_York:20210916T193000
DTEND;TZID=America/New_York:20210916T213000
DTSTAMP:20260425T122527
CREATED:20190916T114056Z
LAST-MODIFIED:20210119T201036Z
UID:3779-1631820600-1631827800@troop58ashburn.camp
SUMMARY:ASM meeting
DESCRIPTION:Monthly planning/coordination meeting for the Scoutmaster and ASMs; all Committee Members and other adults are welcome as well.  Location rotates each month.
URL:https://troop58ashburn.camp/event-2/asm-meeting-26/
LOCATION:TBD\, 2560 King Arthur Boulevard\, Lewisville\, TX\, 75056\, United States
END:VEVENT
BEGIN:VEVENT
DTSTART;TZID=America/New_York:20210914T193000
DTEND;TZID=America/New_York:20210914T210000
DTSTAMP:20260425T122527
CREATED:20200810T132829Z
LAST-MODIFIED:20210119T201036Z
UID:6134-1631647800-1631653200@troop58ashburn.camp
SUMMARY:Troop Meeting
DESCRIPTION:Weekly (except the first Tuesday of each month) meeting of Troop 58.
URL:https://troop58ashburn.camp/event-2/troop-meeting-126/
LOCATION:Ashburn Volunteer Fire and Rescue Department\,20688 Ashburn Road\,Ashburn\,VA\,20147\, United States
END:VEVENT
BEGIN:VEVENT
DTSTART;TZID=America/New_York:20210908T193000
DTEND;TZID=America/New_York:20210908T210000
DTSTAMP:20260425T122527
CREATED:20191115T003610Z
LAST-MODIFIED:20210119T201035Z
UID:4244-1631129400-1631134800@troop58ashburn.camp
SUMMARY:Goose Creek District Roundtable
DESCRIPTION:See https://www.ncacbsa.org/goose-creek/roundtable/ for more info.
URL:https://troop58ashburn.camp/event-2/goose-creek-district-roundtable-26/
LOCATION:Leesburg United Methodist Church\,107 W Market St\,Leesburg\,VA\,20176\, 1 W Market St\, United States
END:VEVENT
BEGIN:VEVENT
DTSTART;TZID=America/New_York:20210908T193000
DTEND;TZID=America/New_York:20210908T203000
DTSTAMP:20260425T122527
CREATED:20190911T101812Z
LAST-MODIFIED:20210119T201035Z
UID:3720-1631129400-1631133000@troop58ashburn.camp
SUMMARY:Order of the Arrow meeting
DESCRIPTION:
URL:https://troop58ashburn.camp/event-2/order-of-the-arrow-meeting-29/
LOCATION:Leesburg United Methodist Church\,107 W Market St\,Leesburg\,VA\,20176\, 1 W Market St\, United States
END:VEVENT
BEGIN:VEVENT
DTSTART;TZID=America/New_York:20210907T190000
DTEND;TZID=America/New_York:20210907T203000
DTSTAMP:20260425T122527
CREATED:20200810T132829Z
LAST-MODIFIED:20210119T201035Z
UID:6133-1631041200-1631046600@troop58ashburn.camp
SUMMARY:PLC Meeting
DESCRIPTION:Monthly meeting of the elected youth leadership team – the Patrol Leaders Council.
URL:https://troop58ashburn.camp/event-2/plc-meeting-29/
LOCATION:Ashburn Volunteer Fire and Rescue Department\,20688 Ashburn Road\,Ashburn\,VA\,20147\, United States
END:VEVENT
BEGIN:VEVENT
DTSTART;TZID=America/New_York:20210831T193000
DTEND;TZID=America/New_York:20210831T210000
DTSTAMP:20260425T122527
CREATED:20200810T132828Z
LAST-MODIFIED:20210119T201035Z
UID:6132-1630438200-1630443600@troop58ashburn.camp
SUMMARY:Troop Meeting
DESCRIPTION:Weekly (except the first Tuesday of each month) meeting of Troop 58.
URL:https://troop58ashburn.camp/event-2/troop-meeting-125/
LOCATION:Ashburn Volunteer Fire and Rescue Department\,20688 Ashburn Road\,Ashburn\,VA\,20147\, United States
END:VEVENT
BEGIN:VEVENT
DTSTART;TZID=America/New_York:20210824T193000
DTEND;TZID=America/New_York:20210824T210000
DTSTAMP:20260425T122527
CREATED:20200810T132828Z
LAST-MODIFIED:20210119T201035Z
UID:6131-1629833400-1629838800@troop58ashburn.camp
SUMMARY:Troop Meeting
DESCRIPTION:Weekly (except the first Tuesday of each month) meeting of Troop 58.
URL:https://troop58ashburn.camp/event-2/troop-meeting-124/
LOCATION:Ashburn Volunteer Fire and Rescue Department\,20688 Ashburn Road\,Ashburn\,VA\,20147\, United States
END:VEVENT
BEGIN:VEVENT
DTSTART;TZID=America/New_York:20210820T173000
DTEND;TZID=America/New_York:20210822T100000
DTSTAMP:20260425T122527
CREATED:20200810T132828Z
LAST-MODIFIED:20210119T201035Z
UID:6130-1629480600-1629626400@troop58ashburn.camp
SUMMARY:Via Ferrata  Climbing Campout
DESCRIPTION:Troop 58's monthly campout; details provided as we get closer to each trip!
URL:https://troop58ashburn.camp/event-2/campout-8/
LOCATION:TBD\, 2560 King Arthur Boulevard\, Lewisville\, TX\, 75056\, United States
END:VEVENT
BEGIN:VEVENT
DTSTART;TZID=America/New_York:20210819T193000
DTEND;TZID=America/New_York:20210819T213000
DTSTAMP:20260425T122527
CREATED:20190820T043557Z
LAST-MODIFIED:20210119T201034Z
UID:3651-1629401400-1629408600@troop58ashburn.camp
SUMMARY:ASM meeting
DESCRIPTION:Monthly planning/coordination meeting for the Scoutmaster and ASMs; all Committee Members and other adults are welcome as well.  Location rotates each month.
URL:https://troop58ashburn.camp/event-2/asm-meeting-25/
LOCATION:TBD\, 2560 King Arthur Boulevard\, Lewisville\, TX\, 75056\, United States
END:VEVENT
BEGIN:VEVENT
DTSTART;TZID=America/New_York:20210817T193000
DTEND;TZID=America/New_York:20210817T210000
DTSTAMP:20260425T122527
CREATED:20200810T132827Z
LAST-MODIFIED:20210119T201034Z
UID:6129-1629228600-1629234000@troop58ashburn.camp
SUMMARY:Troop Meeting
DESCRIPTION:Weekly (except the first Tuesday of each month) meeting of Troop 58.
URL:https://troop58ashburn.camp/event-2/troop-meeting-123/
LOCATION:Ashburn Volunteer Fire and Rescue Department\,20688 Ashburn Road\,Ashburn\,VA\,20147\, United States
END:VEVENT
BEGIN:VEVENT
DTSTART;TZID=America/New_York:20210811T193000
DTEND;TZID=America/New_York:20210811T210000
DTSTAMP:20260425T122527
CREATED:20191115T003609Z
LAST-MODIFIED:20210119T201034Z
UID:4243-1628710200-1628715600@troop58ashburn.camp
SUMMARY:Goose Creek District Roundtable
DESCRIPTION:See https://www.ncacbsa.org/goose-creek/roundtable/ for more info.
URL:https://troop58ashburn.camp/event-2/goose-creek-district-roundtable-25/
LOCATION:Leesburg United Methodist Church\,107 W Market St\,Leesburg\,VA\,20176\, 1 W Market St\, United States
END:VEVENT
BEGIN:VEVENT
DTSTART;TZID=America/New_York:20210811T193000
DTEND;TZID=America/New_York:20210811T203000
DTSTAMP:20260425T122527
CREATED:20190813T034032Z
LAST-MODIFIED:20210119T201034Z
UID:3409-1628710200-1628713800@troop58ashburn.camp
SUMMARY:Order of the Arrow meeting
DESCRIPTION:
URL:https://troop58ashburn.camp/event-2/order-of-the-arrow-meeting-25/
LOCATION:Leesburg United Methodist Church\,107 W Market St\,Leesburg\,VA\,20176\, 1 W Market St\, United States
END:VEVENT
BEGIN:VEVENT
DTSTART;TZID=America/New_York:20210810T193000
DTEND;TZID=America/New_York:20210810T210000
DTSTAMP:20260425T122527
CREATED:20200810T132827Z
LAST-MODIFIED:20210119T201033Z
UID:6128-1628623800-1628629200@troop58ashburn.camp
SUMMARY:Troop Meeting
DESCRIPTION:Weekly (except the first Tuesday of each month) meeting of Troop 58.
URL:https://troop58ashburn.camp/event-2/troop-meeting-122/
LOCATION:Ashburn Volunteer Fire and Rescue Department\,20688 Ashburn Road\,Ashburn\,VA\,20147\, United States
END:VEVENT
END:VCALENDAR