BEGIN:VCALENDAR
VERSION:2.0
PRODID:-//Boy Scout Troop 58 - Ashburn, VA - ECPv6.15.20//NONSGML v1.0//EN
CALSCALE:GREGORIAN
METHOD:PUBLISH
X-WR-CALNAME:Boy Scout Troop 58 - Ashburn, VA
X-ORIGINAL-URL:https://troop58ashburn.camp
X-WR-CALDESC:Events for Boy Scout Troop 58 - Ashburn, VA
REFRESH-INTERVAL;VALUE=DURATION:PT1H
X-Robots-Tag:noindex
X-PUBLISHED-TTL:PT1H
BEGIN:VTIMEZONE
TZID:America/New_York
BEGIN:DAYLIGHT
TZOFFSETFROM:-0500
TZOFFSETTO:-0400
TZNAME:EDT
DTSTART:20210314T070000
END:DAYLIGHT
BEGIN:STANDARD
TZOFFSETFROM:-0400
TZOFFSETTO:-0500
TZNAME:EST
DTSTART:20211107T060000
END:STANDARD
BEGIN:DAYLIGHT
TZOFFSETFROM:-0500
TZOFFSETTO:-0400
TZNAME:EDT
DTSTART:20220313T070000
END:DAYLIGHT
BEGIN:STANDARD
TZOFFSETFROM:-0400
TZOFFSETTO:-0500
TZNAME:EST
DTSTART:20221106T060000
END:STANDARD
BEGIN:DAYLIGHT
TZOFFSETFROM:-0500
TZOFFSETTO:-0400
TZNAME:EDT
DTSTART:20230312T070000
END:DAYLIGHT
BEGIN:STANDARD
TZOFFSETFROM:-0400
TZOFFSETTO:-0500
TZNAME:EST
DTSTART:20231105T060000
END:STANDARD
END:VTIMEZONE
BEGIN:VEVENT
DTSTART;TZID=America/New_York:20220215T193000
DTEND;TZID=America/New_York:20220215T210000
DTSTAMP:20260425T083954
CREATED:20220104T225224Z
LAST-MODIFIED:20220215T083024Z
UID:7081-1644953400-1644958800@troop58ashburn.camp
SUMMARY:Troop Meeting
DESCRIPTION:Weekly (except the first Tuesday of each month) meeting of Troop 58. \n \nTo attend virtually: \nhttps://us02web.zoom.us/j/83426091374?pwd=REIraWFpQUFBU3orV0ExcmoyRUlaUT09 \nMeeting ID: 834 2609 1374 \nPasscode: 074958
URL:https://troop58ashburn.camp/event-2/troop-meeting-149/
LOCATION:Ashburn Volunteer Fire and Rescue Department\,20688 Ashburn Road\,Ashburn\,VA\,20147\, United States
END:VEVENT
BEGIN:VEVENT
DTSTART;TZID=America/New_York:20220214T190000
DTEND;TZID=America/New_York:20220214T200000
DTSTAMP:20260425T083954
CREATED:20220121T031015Z
LAST-MODIFIED:20220214T081437Z
UID:7367-1644865200-1644868800@troop58ashburn.camp
SUMMARY:Environmental Science MB
DESCRIPTION:Join me for the Environmental Science Merit Badge class via Google Meet.  Email me if you are interested and initiate a request through Scoutbook.
URL:https://troop58ashburn.camp/event-2/environmental-science-mb/
LOCATION:Virtual
END:VEVENT
BEGIN:VEVENT
DTSTART;TZID=America/New_York:20220213T080000
DTEND;TZID=America/New_York:20220213T123000
DTSTAMP:20260425T083954
CREATED:20220113T011845Z
LAST-MODIFIED:20220213T081407Z
UID:7334-1644739200-1644755400@troop58ashburn.camp
SUMMARY:Scout Sunday
DESCRIPTION:Scout Sunday is meant to mark the founding of the Scouts in the United States. Scouts go to their places of worship in uniform and help with the service. We will be working with our chartering organization\, St. David's Episcopal Church. \nWe will need at least eight scouts in each service to serve as greeters\, ushers\, readers\, and even choir singers (only for those who are interested; please let Mr. Shen know that you'd like to sing and we can put you in touch with the musical director) during the service.  \nPLEASE NOTE IN YOUR RSVP IF YOU ARE AVAILABLE FOR SERVICE ONE (8:45A arrival)\, SERVICE TWO (10:45A arrival)\, or BOTH. Please also wear your Class A uniform. \nAs with all of our service events\, all faiths are welcome.  There are no requirements for religious beliefs\, affiliation\, or knowledge. 
URL:https://troop58ashburn.camp/event-2/scout-sunday-2/
LOCATION:St. David’s Episcopal Church\, 43600 Russel Branch Pkwy\, Ashburn\, VA\, 20147\, United States
END:VEVENT
BEGIN:VEVENT
DTSTART;TZID=America/New_York:20220210T200000
DTEND;TZID=America/New_York:20220210T210000
DTSTAMP:20260425T083954
CREATED:20220210T074250Z
LAST-MODIFIED:20220210T074356Z
UID:7418-1644523200-1644526800@troop58ashburn.camp
SUMMARY:Joint ECoH planning meeting
DESCRIPTION:info meeting for parents of recent or soon-to-be Eagle Scouts \nZoom info sent via email \nJoin Zoom Meetinghttps://us04web.zoom.us/j/5843344002?pwd=cW0YzoJ9VgMfmtpnmH_Q3EQpa6Vt3k.1 \nMeeting ID: 584 334 4002Passcode: 5Sb300
URL:https://troop58ashburn.camp/event-2/joint-ecoh-planning-meeting/
LOCATION:Virtual/Zoom
END:VEVENT
BEGIN:VEVENT
DTSTART;TZID=America/New_York:20220209T193000
DTEND;TZID=America/New_York:20220209T210000
DTSTAMP:20260425T083954
CREATED:20200210T043244Z
LAST-MODIFIED:20220209T073854Z
UID:4902-1644435000-1644440400@troop58ashburn.camp
SUMMARY:Goose Creek District Roundtable
DESCRIPTION:See https://www.ncacbsa.org/goose-creek/roundtable/ for more info.
URL:https://troop58ashburn.camp/event-2/goose-creek-district-roundtable-30/
LOCATION:Leesburg United Methodist Church\,107 W Market St\,Leesburg\,VA\,20176\, 1 W Market St\, United States
END:VEVENT
BEGIN:VEVENT
DTSTART;TZID=America/New_York:20220209T193000
DTEND;TZID=America/New_York:20220209T203000
DTSTAMP:20260425T083954
CREATED:20200210T043244Z
LAST-MODIFIED:20220209T073854Z
UID:4901-1644435000-1644438600@troop58ashburn.camp
SUMMARY:Order of the Arrow meeting
DESCRIPTION:
URL:https://troop58ashburn.camp/event-2/order-of-the-arrow-meeting-30/
LOCATION:Leesburg United Methodist Church\,107 W Market St\,Leesburg\,VA\,20176\, 1 W Market St\, United States
END:VEVENT
BEGIN:VEVENT
DTSTART;TZID=America/New_York:20220209T170000
DTEND;TZID=America/New_York:20220209T180000
DTSTAMP:20260425T083954
CREATED:20220206T065912Z
LAST-MODIFIED:20220209T073853Z
UID:7394-1644426000-1644429600@troop58ashburn.camp
SUMMARY:Snow Sports MB Wrap-up
DESCRIPTION:This will only take 1/2 hour.  (TT won't let me schedule something for shorter than 1 hour.) \n \nhttps://us02web.zoom.us/j/83426091374?pwd=REIraWFpQUFBU3orV0ExcmoyRUlaUT09 \nMeeting ID: 834 2609 1374 \nPasscode: 074958
URL:https://troop58ashburn.camp/event-2/snow-sports-mb-wrap-up/
LOCATION:Virtual/Zoom
END:VEVENT
BEGIN:VEVENT
DTSTART;TZID=America/New_York:20220208T193000
DTEND;TZID=America/New_York:20220208T210000
DTSTAMP:20260425T083954
CREATED:20220104T225223Z
LAST-MODIFIED:20220208T072726Z
UID:7079-1644348600-1644354000@troop58ashburn.camp
SUMMARY:Troop Meeting
DESCRIPTION:Weekly (except the first Tuesday of each month) meeting of Troop 58. \n \nTo attend virtually: \nhttps://us02web.zoom.us/j/83426091374?pwd=REIraWFpQUFBU3orV0ExcmoyRUlaUT09 \nMeeting ID: 834 2609 1374 \nPasscode: 074958
URL:https://troop58ashburn.camp/event-2/troop-meeting-148/
LOCATION:Ashburn Volunteer Fire and Rescue Department\,20688 Ashburn Road\,Ashburn\,VA\,20147\, United States
END:VEVENT
BEGIN:VEVENT
DTSTART;TZID=America/New_York:20220208T193000
DTEND;TZID=America/New_York:20220208T210000
DTSTAMP:20260425T083954
CREATED:20220104T225223Z
LAST-MODIFIED:20220208T072726Z
UID:7080-1644348600-1644354000@troop58ashburn.camp
SUMMARY:Hold for Pack/Webelos Visit
DESCRIPTION:
URL:https://troop58ashburn.camp/event-2/hold-for-pack-webelos-visit/
END:VEVENT
BEGIN:VEVENT
DTSTART;TZID=America/New_York:20220208T191500
DTEND;TZID=America/New_York:20220208T193000
DTSTAMP:20260425T083954
CREATED:20220119T024821Z
LAST-MODIFIED:20220203T063049Z
UID:7352-1644347700-1644348600@troop58ashburn.camp
SUMMARY:Sea Base High Adventure Parent/Crew Meeting
DESCRIPTION:Monthly Sea Base Parent / Crew Meeting \nTime: 7:15pm – 7:30pm \nLocation: Ashburn Fire House
URL:https://troop58ashburn.camp/event-2/sea-base-high-adventure-parent-crew-meeting-2/
LOCATION:Ashburn Volunteer Fire and Rescue Department\, 20688 Ashburn Rd\, Ashburn\, VA\, United States
END:VEVENT
BEGIN:VEVENT
DTSTART;TZID=America/New_York:20220207T190000
DTEND;TZID=America/New_York:20220207T200000
DTSTAMP:20260425T083954
CREATED:20220121T031014Z
LAST-MODIFIED:20220207T070838Z
UID:7366-1644260400-1644264000@troop58ashburn.camp
SUMMARY:Environmental Science MB 7pm
DESCRIPTION:Join me for the Environmental Science MB class via Google Meet.  Send me an email if you are interested and initiate a merit badge request through Scoutbook.
URL:https://troop58ashburn.camp/event-2/environmental-science-mb-7pm-2/
LOCATION:Virtual
END:VEVENT
BEGIN:VEVENT
DTSTART;TZID=America/New_York:20220201T193000
DTEND;TZID=America/New_York:20220201T210000
DTSTAMP:20260425T083954
CREATED:20220104T225223Z
LAST-MODIFIED:20220201T061425Z
UID:7077-1643743800-1643749200@troop58ashburn.camp
SUMMARY:Troop Meeting
DESCRIPTION:Weekly (except the first Tuesday of each month) meeting of Troop 58. \n \nTo attend virtually: \nhttps://us02web.zoom.us/j/83426091374?pwd=REIraWFpQUFBU3orV0ExcmoyRUlaUT09 \nMeeting ID: 834 2609 1374 \nPasscode: 074958
URL:https://troop58ashburn.camp/event-2/troop-meeting-147/
LOCATION:Ashburn Volunteer Fire and Rescue Department\,20688 Ashburn Road\,Ashburn\,VA\,20147\, United States
END:VEVENT
BEGIN:VEVENT
DTSTART;TZID=America/New_York:20220201T193000
DTEND;TZID=America/New_York:20220201T210000
DTSTAMP:20260425T083954
CREATED:20220104T225222Z
LAST-MODIFIED:20220201T061425Z
UID:7076-1643743800-1643749200@troop58ashburn.camp
SUMMARY:Joint ASM & Committee meeting
DESCRIPTION:Monthly planning/coordination meeting for Committee Members and ASMs.  All adults are welcome to attend as these meetings are a great way to stay updated on what’s happening with the troop. \nFirst 30 mins will be joint\, after which groups will split off to discuss more detailed items relevant to their areas.
URL:https://troop58ashburn.camp/event-2/joint-asm-committee-meeting/
LOCATION:Ashburn Volunteer Fire and Rescue Department\,20688 Ashburn Road\,Ashburn\,VA\,20147\, United States
END:VEVENT
BEGIN:VEVENT
DTSTART;TZID=America/New_York:20220201T191500
DTEND;TZID=America/New_York:20220201T203000
DTSTAMP:20260425T083954
CREATED:20220104T225223Z
LAST-MODIFIED:20220201T061425Z
UID:7078-1643742900-1643747400@troop58ashburn.camp
SUMMARY:PLC Meeting
DESCRIPTION:Our monthly PLC meeting.  Meets the first Tuesday of each month.   \n \nTo attend virtually: \nhttps://us02web.zoom.us/j/83426091374?pwd=REIraWFpQUFBU3orV0ExcmoyRUlaUT09 \nMeeting ID: 834 2609 1374 \nPasscode: 074958
URL:https://troop58ashburn.camp/event-2/plc-meeting-35/
LOCATION:Ashburn Volunteer Fire and Rescue Department\,20688 Ashburn Road\,Ashburn\,VA\,20147\, United States
END:VEVENT
BEGIN:VEVENT
DTSTART;TZID=America/New_York:20220131T190000
DTEND;TZID=America/New_York:20220131T200000
DTSTAMP:20260425T083954
CREATED:20220121T031013Z
LAST-MODIFIED:20220131T055739Z
UID:7365-1643655600-1643659200@troop58ashburn.camp
SUMMARY:Environmental Science MB 7pm
DESCRIPTION:Join me for the Environmental Science MB class via Google Meet.  Send me an email if you are interested and initiate a merit badge request through Scoutbook.
URL:https://troop58ashburn.camp/event-2/environmental-science-mb-7pm/
LOCATION:Virtual
END:VEVENT
BEGIN:VEVENT
DTSTART;TZID=America/New_York:20220129T140000
DTEND;TZID=America/New_York:20220129T150000
DTSTAMP:20260425T083954
CREATED:20220104T225222Z
LAST-MODIFIED:20220129T052546Z
UID:7075-1643464800-1643468400@troop58ashburn.camp
SUMMARY:Snow Sports MB Class #3 of 3 (for skiing or snowboarding)
DESCRIPTION:If you are interested in taking this MB\, please initiate a request in Scoutbook and also send me an email letting me know if you will be doing skiing or snowboarding. \nJan 12th meeting:  Be prepared to discuss requirements 1\, 2\, 3\, 4 & 5 (just the list of clothing) \nJan 19th:  NO MEETING \nJan 26th meeting:  Be prepared to discuss requirements 6 and for skiing: 7b\, c & j\, and for snowboarding: 7a\, b\, d\, f & k  \nSki Outing on 1/29:  We will complete the remaining requirements for #5 (the show & tell part) at the lodge\, and then #7 for both skiing at snowboarding in person on the slopes.
URL:https://troop58ashburn.camp/event-2/snow-sports-mb-class-4-of-4-for-skiing-or-snowboarding/
LOCATION:Ski Trip Outing
END:VEVENT
BEGIN:VEVENT
DTSTART;TZID=America/New_York:20220128T173000
DTEND;TZID=America/New_York:20220130T110000
DTSTAMP:20260425T083955
CREATED:20220104T225222Z
LAST-MODIFIED:20220130T054328Z
UID:7073-1643391000-1643540400@troop58ashburn.camp
SUMMARY:Ski Trip Campout
DESCRIPTION:Due to popular demand\, we have decided to have a fun 3-day/2-night weekend (January 28th – 30th) at Roundtop Mountain Resort .(http://www.skiroundtop.com/) \nRSVP deadline for skiing/snowboarding options is Jan 11th\, as we need tome to purchase lift tickets and book lessons. \nAlso\, since there is only space for 40\, please make sure to RSVP ASAP as this event will sell out.   \nPLEASE NOTE THAT YOUR RSVP WILL NOT BE COUNTED UNTIL YOU SEND IN PAYMENT.  \nWe will depart from Trailside MS on Friday evening promptly at 6pm (please arrive by 5:30pm) and return on Sunday around 11am.   \nIf scouts want to ski/board on Sunday\, please comment below\, and we will see if we can coordinate drivers for a second group to return later on Sunday late afternoon/early evening.  \nThe cost of this outing is as follows: \nOption 1:  2 nights lodging & meals only\,   $40 \nOption 2:  Option 1 + 1-day lift ticket\, $119 \nOption 3:  Option 2 + rental (including helmet)\, $170 \nOption 4:  Option 3 + 2hr beginner lesson:  $183 \nScouts will prepare Sat & Sun breakfasts and Sat dinner at the cabin. Everyone will get a meal ticket for Saturday lunch. \nPlease RSVP in TT and submit payment by January 1st (maximum 40 slots).  Checks can be made out to Troop 58 and submitted to Mr. Makitka\, or sent via Zelle (troop58.zelle@gmail.com).  If registration is full\, and you are still interested in attending\, please contact Ms. Khalili to be added to the waitlist.   \nPlease also note that if you have never skied or snowboarded\, you are required to take a lesson (Learn to Ski or Snowboard). If you have skied before but want to try snowboarding you MUST take a lesson. This is for safety and enjoyment. If you have any questions let me know. \nWe will be staying at Camp Tuckahoe\, Hemlock Lodge (Cabin). \n400 Tuckahoe Rd #8713\, Dillsburg\, PA 17019 \n \nWebsite: https://newbirthoffreedom.org/camping-2/camp-tuckahoe/tourct/hemlocklodge/ \nHemlock Lodge is one of the newer cabins at Camp Tuckahoe and has curtains that allow you to easily divide the sleeping area into four separate sleeping areas. It shares a latrine with Delaware Campsite.  \nCamp Tuckahoe Address: 400 Tuckahoe Rd #8713\, Dillsburg\, PA 17019 \nIf you have any questions or need more details\, please contact Steven Van Hulle or Ms. Khalili.  
URL:https://troop58ashburn.camp/event-2/ski-trip-campout/
LOCATION:Hemlock Lodge @BSA Camp Tuckahoe / Roundtop Mountain Resort
END:VEVENT
BEGIN:VEVENT
DTSTART;TZID=America/New_York:20220126T170000
DTEND;TZID=America/New_York:20220126T174500
DTSTAMP:20260425T083955
CREATED:20220104T225222Z
LAST-MODIFIED:20220126T043907Z
UID:7071-1643216400-1643219100@troop58ashburn.camp
SUMMARY:Snow Sports MB Class #2 of 3 (for skiing or snowboarding)
DESCRIPTION:If you are interested in taking this MB\, please initiate a request in Scoutbook and also send me an email letting me know if you will be doing skiing or snowboarding. \nJan 12th meeting:  Be prepared to discuss requirements 1\, 2\, 3\, 4 & 5 (just the list of clothing) \nJan 19th:  NO MEETING \nJan 26th meeting:  Be prepared to discuss requirements 6 and for skiing: 7b\, c & j\, and for snowboarding: 7a\, b\, d\, f & k  \nSki Outing on 1/29:  We will complete the remaining requirements for #5 (the show & tell part) at the lodge\, and then #7 for both skiing at snowboarding in person on the slopes. \n \nZoom link \nJoin Zoom Meetinghttps://us02web.zoom.us/j/85318500074Meeting ID: 853 1850 0074One tap mobile+13126266799\,\,85318500074# US (Chicago)+19292056099\,\,85318500074# US (New York)
URL:https://troop58ashburn.camp/event-2/snow-sports-mb-class-3-of-4-for-skiing-or-snowboarding/
LOCATION:Virtual/Zoom
END:VEVENT
BEGIN:VEVENT
DTSTART;TZID=America/New_York:20220125T073000
DTEND;TZID=America/New_York:20220125T213000
DTSTAMP:20260425T083955
CREATED:20220104T225222Z
LAST-MODIFIED:20220125T042534Z
UID:7070-1643095800-1643146200@troop58ashburn.camp
SUMMARY:Winter Court of Honor - Please RSVP
DESCRIPTION:Good afternoon\, \nWe're looking forward to seeing everyone on Tuesday.  Please note that our delicious Italian meal will start the evening at 7:30pm.  For those joining us after dinner for the ceremony\, please feel free to join us at 8:00pm. \nThe PLC and Stags patrol is asked to be at the firehouse for set-up no later than 7:10pm.  You will be setting up tables and chairs for dinner and for the ceremony.  Stags will also be responsible for ceremony opening/flags. \nEagles patrol will be responsible for closing ceremony and all patrols are asked to stay for clean-up. \nThank you all in advance! \n*************************************************************************************************************************************************** \nPlease join us for our winter Court of Honor which will be held on Tuesday\, January 25th at 7:30pm @ Founder's Hall. \nAll scouts and scout families are invited and encouraged to attend.  Prior to the award ceremony\, we will be providing a delicious Italian dinner selection of pasta\, sauces and meats along with salad\, bread and dessert.  Please let us know if there are any food allergies however we do plan a selection for all to enjoy.  We ask that you RSVP with a number of people who will be attending and enjoying a meal with us.  We understand with the current pandemic some may not want to attend in person so we will also be hosting the program online. \nScouts: \nIf you want to earn Rank\, make sure to get your Scoutmaster Conferences done by Jan. 15th and Boards of Review done by January 18th. \nIf you have finished merit badges get your blue cards to Mr. Parikh and/or make sure they are completed in ScoutBook. \nIf you have earned other awards please let Ms. Bohrer know.  Please let us know if you have any other questions or concerns.  Looking forward to seeing you all on the 25th. \nYours in Scouting\, \nMs. Bohrer\, Advancement Chair \nMrs. Levine\, Committee Chair
URL:https://troop58ashburn.camp/event-2/winter-court-of-honor/
LOCATION:Ashburn Volunteer Fire and Rescue Department\, 20688 Ashburn Rd\, Ashburn\, VA\, United States
END:VEVENT
BEGIN:VEVENT
DTSTART;TZID=America/New_York:20220120T193000
DTEND;TZID=America/New_York:20220120T213000
DTSTAMP:20260425T083955
CREATED:20200120T005916Z
LAST-MODIFIED:20210119T201040Z
UID:4785-1642707000-1642714200@troop58ashburn.camp
SUMMARY:ASM meeting
DESCRIPTION:Monthly planning/coordination meeting for the Scoutmaster and ASMs; all Committee Members and other adults are welcome as well.  Location rotates each month.
URL:https://troop58ashburn.camp/event-2/asm-meeting/
LOCATION:TBD\, 2560 King Arthur Boulevard\, Lewisville\, TX\, 75056\, United States
END:VEVENT
BEGIN:VEVENT
DTSTART;TZID=America/New_York:20220119T170000
DTEND;TZID=America/New_York:20220119T180000
DTSTAMP:20260425T083955
CREATED:20220104T225222Z
LAST-MODIFIED:20220119T025118Z
UID:7068-1642611600-1642615200@troop58ashburn.camp
SUMMARY:Snow Sports MB Class—this session only has been cancelled
DESCRIPTION:If you are interested in taking this MB\, please initiate a request in Scoutbook and also send me an email letting me know if you will be doing skiing or snowboarding. \nJan 12th meeting:  Be prepared to discuss requirements 1\, 2\, 3\, 4 & 5 (just the list of clothing) \nJan 19th:  NO MEETING \nJan 26th meeting:  Be prepared to discuss requirements 6 and for skiing: 7b\, c & j\, and for snowboarding: 7a\, b\, d\, f & k  \nSki Outing on 1/29:  We will complete the remaining requirements for #5 (the show & tell part) at the lodge\, and then #7 for both skiing at snowboarding in person on the slopes. \n \nZoom link \nJoin Zoom Meetinghttps://us02web.zoom.us/j/85318500074Meeting ID: 853 1850 0074One tap mobile+13126266799\,\,85318500074# US (Chicago)+19292056099\,\,85318500074# US (New York)
URL:https://troop58ashburn.camp/event-2/snow-sports-mb-class-2-of-4-for-skiing-or-snowboarding/
LOCATION:Virtual/Zoom
END:VEVENT
BEGIN:VEVENT
DTSTART;TZID=America/New_York:20220118T193000
DTEND;TZID=America/New_York:20220118T210000
DTSTAMP:20260425T083955
CREATED:20220104T225221Z
LAST-MODIFIED:20220118T022141Z
UID:7067-1642534200-1642539600@troop58ashburn.camp
SUMMARY:Troop Meeting
DESCRIPTION:Weekly (except the first Tuesday of each month) meeting of Troop 58. \n \nTo attend virtually: \nhttps://us02web.zoom.us/j/83426091374?pwd=REIraWFpQUFBU3orV0ExcmoyRUlaUT09 \nMeeting ID: 834 2609 1374 \nPasscode: 074958
URL:https://troop58ashburn.camp/event-2/troop-meeting-146/
LOCATION:Ashburn Volunteer Fire and Rescue Department\,20688 Ashburn Road\,Ashburn\,VA\,20147\, United States
END:VEVENT
BEGIN:VEVENT
DTSTART;TZID=America/New_York:20220112T193000
DTEND;TZID=America/New_York:20220112T210000
DTSTAMP:20260425T083955
CREATED:20200112T231851Z
LAST-MODIFIED:20220113T011901Z
UID:4742-1642015800-1642021200@troop58ashburn.camp
SUMMARY:Goose Creek District Roundtable
DESCRIPTION:See https://www.ncacbsa.org/goose-creek/roundtable/ for more info.
URL:https://troop58ashburn.camp/event-2/goose-creek-district-roundtable-29/
LOCATION:Leesburg United Methodist Church\,107 W Market St\,Leesburg\,VA\,20176\, 1 W Market St\, United States
END:VEVENT
BEGIN:VEVENT
DTSTART;TZID=America/New_York:20220112T193000
DTEND;TZID=America/New_York:20220112T203000
DTSTAMP:20260425T083955
CREATED:20200112T231851Z
LAST-MODIFIED:20220113T011900Z
UID:4741-1642015800-1642019400@troop58ashburn.camp
SUMMARY:Order of the Arrow meeting
DESCRIPTION:
URL:https://troop58ashburn.camp/event-2/order-of-the-arrow-meeting-27/
LOCATION:Leesburg United Methodist Church\,107 W Market St\,Leesburg\,VA\,20176\, 1 W Market St\, United States
END:VEVENT
BEGIN:VEVENT
DTSTART;TZID=America/New_York:20220112T170000
DTEND;TZID=America/New_York:20220112T180000
DTSTAMP:20260425T083955
CREATED:20220104T225221Z
LAST-MODIFIED:20220112T005436Z
UID:7065-1642006800-1642010400@troop58ashburn.camp
SUMMARY:Snow Sports MB Class #1 of 4 (for Skiing & Snowboarding)
DESCRIPTION:If you are interested in taking this MB\, please initiate a request in Scoutbook and also send me an email letting me know if you will be doing skiing or snowboarding. \nJan 12th meeting:  Be prepared to discuss requirements 1\, 2\, 3\, & 4 \nJan 19th meeting:  Be prepared to discuss requirements 6 and for skiing: 7b\, c & j\, and for snowboarding: 7a\, b\, d\, f & k \nJan 26th meeting:  Be prepared to present requirement 5 for either skiing or snowboarding (via zoom) \nSki Outing on 1/29:  We will complete the remaining requirements for #7 for both skiing at snowboarding in person on the slopes. \n \nZoom link TBD
URL:https://troop58ashburn.camp/event-2/snow-sports-mb-class-1-of-4-for-skiing-snowboarding/
LOCATION:Virtual/Zoom
END:VEVENT
BEGIN:VEVENT
DTSTART;TZID=America/New_York:20220112T160000
DTEND;TZID=America/New_York:20220112T220000
DTSTAMP:20260425T083955
CREATED:20220104T225220Z
LAST-MODIFIED:20220113T011900Z
UID:7063-1642003200-1642024800@troop58ashburn.camp
SUMMARY:Texas Roadhouse - Spirit Night - Sea Base High Adventure Fundraiser
DESCRIPTION:Dine to Donate!  Spirit Night fundraiser for Sea Base High Adventure at Texas Roadhouse.  10% donation night for Troop 58.  Present the flyer at the Ashburn location and Texas Roadhouse will donate 10% of your total food purchases to Troop 58.  Applies to both both dine-in and to-go orders between 4:00 – 10:00 pm on Wed.\, Jan. 12. \nTexas Roadhouse\, 19990 Riverside Cmns Plz\, Ashburn\, VA 20147 \n(571) 333-0909 \n \n 
URL:https://troop58ashburn.camp/event-2/texas-roadhouse-spirit-night-sea-base-high-adventure-fundraiser/
LOCATION:Texas Roadhouse
END:VEVENT
BEGIN:VEVENT
DTSTART;TZID=America/New_York:20220111T193000
DTEND;TZID=America/New_York:20220111T210000
DTSTAMP:20260425T083955
CREATED:20220104T225220Z
LAST-MODIFIED:20220112T005435Z
UID:7060-1641929400-1641934800@troop58ashburn.camp
SUMMARY:Troop Meeting
DESCRIPTION:Weekly (except the first Tuesday of each month) meeting of Troop 58. \n \nTo attend virtually: \nhttps://us02web.zoom.us/j/83426091374?pwd=REIraWFpQUFBU3orV0ExcmoyRUlaUT09 \nMeeting ID: 834 2609 1374 \nPasscode: 074958
URL:https://troop58ashburn.camp/event-2/troop-meeting-145/
LOCATION:Ashburn Volunteer Fire and Rescue Department\,20688 Ashburn Road\,Ashburn\,VA\,20147\, United States
END:VEVENT
BEGIN:VEVENT
DTSTART;TZID=America/New_York:20220111T193000
DTEND;TZID=America/New_York:20220111T210000
DTSTAMP:20260425T083955
CREATED:20220104T225220Z
LAST-MODIFIED:20220112T005435Z
UID:7061-1641929400-1641934800@troop58ashburn.camp
SUMMARY:Pack 1151 & 1484 Webelos Visit
DESCRIPTION:
URL:https://troop58ashburn.camp/event-2/pack-1151-1484-webelos-visit/
END:VEVENT
BEGIN:VEVENT
DTSTART;TZID=America/New_York:20220111T191500
DTEND;TZID=America/New_York:20220111T193000
DTSTAMP:20260425T083955
CREATED:20220104T225220Z
LAST-MODIFIED:20220111T004015Z
UID:7059-1641928500-1641929400@troop58ashburn.camp
SUMMARY:Sea Base High Adventure Parent/Crew Meeting
DESCRIPTION:Monthly Sea Base Parent / Crew Meeting \nTime: 7:15pm – 7:30pm \nLocation: Ashburn Fire House
URL:https://troop58ashburn.camp/event-2/sea-base-high-adventure-parent-crew-meeting/
LOCATION:Ashburn Volunteer Fire and Rescue Department\, 20688 Ashburn Rd\, Ashburn\, VA\, United States
END:VEVENT
BEGIN:VEVENT
DTSTART;TZID=America/New_York:20220104T193000
DTEND;TZID=America/New_York:20220104T210000
DTSTAMP:20260425T083955
CREATED:20220104T225220Z
LAST-MODIFIED:20220104T225220Z
UID:7057-1641324600-1641330000@troop58ashburn.camp
SUMMARY:PLC Meeting
DESCRIPTION:Our monthly PLC meeting.  Meets the first Tuesday of each month.   \n \nTo attend virtually: \nhttps://us02web.zoom.us/j/83426091374?pwd=REIraWFpQUFBU3orV0ExcmoyRUlaUT09 \nMeeting ID: 834 2609 1374 \nPasscode: 074958
URL:https://troop58ashburn.camp/event-2/plc-meeting-34/
LOCATION:Ashburn Volunteer Fire and Rescue Department\,20688 Ashburn Road\,Ashburn\,VA\,20147\, United States
END:VEVENT
END:VCALENDAR