BEGIN:VCALENDAR
VERSION:2.0
PRODID:-//Boy Scout Troop 58 - Ashburn, VA - ECPv6.15.20//NONSGML v1.0//EN
CALSCALE:GREGORIAN
METHOD:PUBLISH
X-WR-CALNAME:Boy Scout Troop 58 - Ashburn, VA
X-ORIGINAL-URL:https://troop58ashburn.camp
X-WR-CALDESC:Events for Boy Scout Troop 58 - Ashburn, VA
REFRESH-INTERVAL;VALUE=DURATION:PT1H
X-Robots-Tag:noindex
X-PUBLISHED-TTL:PT1H
BEGIN:VTIMEZONE
TZID:America/New_York
BEGIN:DAYLIGHT
TZOFFSETFROM:-0500
TZOFFSETTO:-0400
TZNAME:EDT
DTSTART:20210314T070000
END:DAYLIGHT
BEGIN:STANDARD
TZOFFSETFROM:-0400
TZOFFSETTO:-0500
TZNAME:EST
DTSTART:20211107T060000
END:STANDARD
BEGIN:DAYLIGHT
TZOFFSETFROM:-0500
TZOFFSETTO:-0400
TZNAME:EDT
DTSTART:20220313T070000
END:DAYLIGHT
BEGIN:STANDARD
TZOFFSETFROM:-0400
TZOFFSETTO:-0500
TZNAME:EST
DTSTART:20221106T060000
END:STANDARD
BEGIN:DAYLIGHT
TZOFFSETFROM:-0500
TZOFFSETTO:-0400
TZNAME:EDT
DTSTART:20230312T070000
END:DAYLIGHT
BEGIN:STANDARD
TZOFFSETFROM:-0400
TZOFFSETTO:-0500
TZNAME:EST
DTSTART:20231105T060000
END:STANDARD
END:VTIMEZONE
BEGIN:VEVENT
DTSTART;TZID=America/New_York:20220402T120000
DTEND;TZID=America/New_York:20220403T100000
DTSTAMP:20260425T100547
CREATED:20220104T225226Z
LAST-MODIFIED:20220402T201918Z
UID:7096-1648900800-1648980000@troop58ashburn.camp
SUMMARY:New Scout Campout
DESCRIPTION:This will be our cross-over Scouts' first campout with Troop 58 – and without their parents!   \nWe will meet at Trailside Middle School at 12:15pm on Saturday\, April 2\, departing at 12:30pm\, and we will return to Trailside Middle School around 10:00am on Sunday\, April 3.  (We will send a text with an ETA\, so please make sure that your cell number is correct in your TT profile and also that your carrier is specified.) \nThe weekend will be filled with scout skills training\, great camping food\, a big campfire\, etc. – everything our brand new Scouts need to get off on the right foot in Troop 58! \n \nREMEMBER – we travel to/from all campouts in class A uniform (tan shirt\, but without neckerchief). \nPlease direct any questions to Charlie McClelland\, the scout lead\, or to Michelle Khalili\, the Scoutmaster.   \nGear List: \nhttps://docs.google.com/document/d/1GZ6Pjm5GWDeDfgTgCH7vwSICtFjkUcOhq09i5O9gF8Q/edit?usp=sharing
URL:https://troop58ashburn.camp/event-2/new-scout-campout/
LOCATION:Claude Moore Outdoor Education Facility
END:VEVENT
BEGIN:VEVENT
DTSTART;TZID=America/New_York:20220402T090000
DTEND;TZID=America/New_York:20220402T110000
DTSTAMP:20260425T100547
CREATED:20220316T154146Z
LAST-MODIFIED:20220401T193742Z
UID:7527-1648890000-1648897200@troop58ashburn.camp
SUMMARY:Pack 1158 Pinewood Derby - General Service Opportunity
DESCRIPTION:This is a pretty-typical Pinewood Derby event\, but with videography included.  Show up at 9am to prepare\, first race starts at 9:30\n(I think you can get service hours for this event\, if you need them) \nHow you can help:\n1) General Videographer = Film event for Zoom Feed.  Also perform file uploads to website after the event\n2) Slow Motion Videographer =  Use a camera (in slow motion mode) to capture cars passing the finish line.  Also upload videos after the event.\n3) PWD car chauffeur = Take cars to the adult volunteer for race\n4) Clean up Crew = Help put the decorations away and store the material
URL:https://troop58ashburn.camp/event-2/pack-1158-pinewood-derby-general-service-opportunity/
LOCATION:Ashburn Elementary – School Gymnasium
END:VEVENT
BEGIN:VEVENT
DTSTART;TZID=America/New_York:20220402T083000
DTEND;TZID=America/New_York:20220402T123000
DTSTAMP:20260425T100547
CREATED:20220215T082907Z
LAST-MODIFIED:20220401T193741Z
UID:7431-1648888200-1648902600@troop58ashburn.camp
SUMMARY:Back Country Camping Skills Session
DESCRIPTION:NCAC’s High Adventure Committee is holding a free Philmont Outdoor Skills training on Saturday\, April 2nd from 08:00 am to 12:30 pm right here in Ashburn at the Claude Moore Outdoor Education Center Facility right off of Loudoun County Parkway.  (XGV6+V74 Ashburn\, Virginia or (38.9946132\, -77.4892939)This is perfect because our new scout campout will be at the exact same place starting at 1:00 pm.\n\n\nWhile the training is for Philmont readiness\, it will actually be more of a back country camping skills review with stations set up like how to use camping stoves\, how to set up bear bags\, and other practical back country camping and backpacking skills.  And the cost is free.\n\nIf you are interested in attending please RSVP by 3/1.
URL:https://troop58ashburn.camp/event-2/back-country-camping-skills-session/
LOCATION:Claude Moore Outdoor Education Facility
END:VEVENT
BEGIN:VEVENT
DTSTART;TZID=America/New_York:20220402T074500
DTEND;TZID=America/New_York:20220402T160000
DTSTAMP:20260425T100547
CREATED:20220307T125542Z
LAST-MODIFIED:20220401T193741Z
UID:7492-1648885500-1648915200@troop58ashburn.camp
SUMMARY:You(th) Vs. Hunger
DESCRIPTION:You(th) Vs. Hunger a service project where teams package lot of food for hungry people around the world. We are signed up to be runners in three shifts. This entails supplying tables with dry food (beans\, rice\, dried veggies) and also delivering completed boxes to the pallets. While the service work at this event has always been extremely worthwhile in helping to fight hunger\, this event is always one that Scouts highly enjoy and can be a whole lot of fun.  \nThe ~two hour time slots are 07:45-10:00\, 09:45-12:00\, and 13:45-16:00.  We will need three or more scouts per two hour time slot. Please note which shift(s) you are able to attend in your RSVP. \nSt. Theresa's Church is located here: https://goo.gl/maps/aBtd4UpB4J62 \nYou(th) Vs. Hunger is a food packaging ministry in coordination with Cross Catholic Outreach. It brings people together to feed the hungry in countries around the world. The food is an innovative and nutritious blend of rice\, beans\, soy\, dried vegetables and vitamins or macaroni and cheese and vitamins. A single bag yields 6 complete meals. Our volunteers will take ingredients packaged in bulk and measure and weigh them to make individual bags of a complete meal. \nAs with all our service projects\, there is no requirement for religious belief\, affiliation\, or knowledge to attend. Scouts of all faiths are welcome.  \nIf you have any questions please contact Tommy Wall or Mr. Shen.
URL:https://troop58ashburn.camp/event-2/youth-vs-hunger-3/
LOCATION:St. Theresa’s Church
END:VEVENT
BEGIN:VEVENT
DTSTART;TZID=America/New_York:20220330T164500
DTEND;TZID=America/New_York:20220330T173000
DTSTAMP:20260425T100547
CREATED:20220206T065916Z
LAST-MODIFIED:20220330T184847Z
UID:7396-1648658700-1648661400@troop58ashburn.camp
SUMMARY:Golf MB (1st of 2 classroom)
DESCRIPTION:The Golf MB will occur over 5 different sessions as follows: \n– 2 virtual classroom sessions \n– 1 driving range session (we will schedule this for when it works for everyone) \n– 2 actual rounds of 9-holes of golf at a local public golf course (tentative dates are 5/3 and 6/20) \nPlease RSVP to each session individually\, especially to the driving range and rounds\, so I know how/when to make reservations.  There will also be fees for the driving range of $9 for the range\, and ~$34/round of golf\, although this may go down once I confirm the reservation. \n \nTo attend virtually: \nhttps://us02web.zoom.us/j/83426091374?pwd=REIraWFpQUFBU3orV0ExcmoyRUlaUT09 \nMeeting ID: 834 2609 1374 \nPasscode: 074958
URL:https://troop58ashburn.camp/event-2/golf-mb-2nd-of-2-classroom/
LOCATION:Virtual/Zoom
END:VEVENT
BEGIN:VEVENT
DTSTART;TZID=America/New_York:20220329T193000
DTEND;TZID=America/New_York:20220329T210000
DTSTAMP:20260425T100547
CREATED:20220104T225226Z
LAST-MODIFIED:20220329T184011Z
UID:7095-1648582200-1648587600@troop58ashburn.camp
SUMMARY:Troop Meeting
DESCRIPTION:Weekly (except the first Tuesday of each month) meeting of Troop 58. \n \nTo attend virtually: \nhttps://us02web.zoom.us/j/83426091374?pwd=REIraWFpQUFBU3orV0ExcmoyRUlaUT09 \nMeeting ID: 834 2609 1374 \nPasscode: 074958
URL:https://troop58ashburn.camp/event-2/troop-meeting-155/
LOCATION:Ashburn Volunteer Fire and Rescue Department\,20688 Ashburn Road\,Ashburn\,VA\,20147\, United States
END:VEVENT
BEGIN:VEVENT
DTSTART;TZID=America/New_York:20220329T191500
DTEND;TZID=America/New_York:20220329T193000
DTSTAMP:20260425T100547
CREATED:20220325T173941Z
LAST-MODIFIED:20220329T184011Z
UID:7548-1648581300-1648582200@troop58ashburn.camp
SUMMARY:Sea Base High Adventure Parent/Crew Meeting
DESCRIPTION:Sea Base Parent / Crew Meeting: \n\nLocation: Ashburn Fire Station\nTime:  7:15 – 7:30\n\nWe will cover final plans and cover and final packing questions.  I plan to bring everything I plan to bring\, feel free to bring you bag if you have any questions with what to pack. \n16 days and counting!!! \nYiS\, \nMr. Anderson
URL:https://troop58ashburn.camp/event-2/sea-base-high-adventure-parent-crew-meeting-3/
LOCATION:Ashburn Volunteer Fire and Rescue Department\, 20688 Ashburn Rd\, Ashburn\, VA\, United States
END:VEVENT
BEGIN:VEVENT
DTSTART;TZID=America/New_York:20220326T100000
DTEND;TZID=America/New_York:20220326T140000
DTSTAMP:20260425T100547
CREATED:20220315T143929Z
LAST-MODIFIED:20220326T175557Z
UID:7520-1648288800-1648303200@troop58ashburn.camp
SUMMARY:Spartans - 5 mile hike
DESCRIPTION:outdoor activity for Honor Patrol \ngood opportunity for sign-offs for Tenderfoot\, 2nd Class or 1st Class \nwear Class B \nwe need 2 adults leaders to support the outing
URL:https://troop58ashburn.camp/event-2/spartans-5-mile-hike/
LOCATION:Blue Ridge Center for Environmental Stewardship
END:VEVENT
BEGIN:VEVENT
DTSTART;TZID=America/New_York:20220322T193000
DTEND;TZID=America/New_York:20220322T210000
DTSTAMP:20260425T100547
CREATED:20220104T225226Z
LAST-MODIFIED:20220322T170830Z
UID:7094-1647977400-1647982800@troop58ashburn.camp
SUMMARY:Troop Meeting
DESCRIPTION:Weekly (except the first Tuesday of each month) meeting of Troop 58. \n \nTo attend virtually: \nhttps://us02web.zoom.us/j/83426091374?pwd=REIraWFpQUFBU3orV0ExcmoyRUlaUT09 \nMeeting ID: 834 2609 1374 \nPasscode: 074958
URL:https://troop58ashburn.camp/event-2/troop-meeting-154/
LOCATION:Ashburn Volunteer Fire and Rescue Department\,20688 Ashburn Road\,Ashburn\,VA\,20147\, United States
END:VEVENT
BEGIN:VEVENT
DTSTART;TZID=America/New_York:20220318T173000
DTEND;TZID=America/New_York:20220320T100000
DTSTAMP:20260425T100547
CREATED:20220104T225226Z
LAST-MODIFIED:20220319T162332Z
UID:7093-1647624600-1647770400@troop58ashburn.camp
SUMMARY:Shooting Campout
DESCRIPTION:Thrilled to be back on the range.  With Covid cancelling the last one we haven't done this since 2019!  This is our campout focused on rifle shooting. This is an excellent opportunity for the Scouts to learn about gun safety\, proper gun handling\, the different parts of a firearm\, and to sharpen their marksmanship skills.  Our very own Mr. Reed will be supporting this campout (I believe this may be his 5th time!) \nWe will be camping and shooting at the Fairfax Rod & Gun Club in Manassas. \nDuring the campout\, all Scouts will go through one hour of gun safety training and spend time on an NRA-certified rifle range. We will have an NRA-certified Range Safety Officer with us at all times while on the range.  The scouts will split into two groups after the safety training session.  While half are on the range\, the remainder will stay at the camp site and focus on either learning or sharpening their scout skills. \nIf any adults have either a bolt-action or single-shot .22 rifles\, please contact me.  I would like to discuss the possibility of borrowing your rifle for the campout. \nThe RSVP deadline for this campout is Tuesday's meeting on 3/15. \nPlease arrive on time and don't forget your permission slip.  We will be departing Trailside promptly at 6:00.
URL:https://troop58ashburn.camp/event-2/shooting-campout/
LOCATION:Fairfax Rod & Gun Club
END:VEVENT
BEGIN:VEVENT
DTSTART;TZID=America/New_York:20220317T193000
DTEND;TZID=America/New_York:20220317T213000
DTSTAMP:20260425T100547
CREATED:20200317T093543Z
LAST-MODIFIED:20210119T201041Z
UID:5183-1647545400-1647552600@troop58ashburn.camp
SUMMARY:ASM meeting
DESCRIPTION:Monthly planning/coordination meeting for the Scoutmaster and ASMs; all Committee Members and other adults are welcome as well.  Location rotates each month.
URL:https://troop58ashburn.camp/event-2/asm-meeting-6/
LOCATION:TBD\, 2560 King Arthur Boulevard\, Lewisville\, TX\, 75056\, United States
END:VEVENT
BEGIN:VEVENT
DTSTART;TZID=America/New_York:20220315T193000
DTEND;TZID=America/New_York:20220315T210000
DTSTAMP:20260425T100547
CREATED:20220104T225226Z
LAST-MODIFIED:20220315T143928Z
UID:7092-1647372600-1647378000@troop58ashburn.camp
SUMMARY:Troop Meeting
DESCRIPTION:Weekly (except the first Tuesday of each month) meeting of Troop 58. \n \nTo attend virtually: \nhttps://us02web.zoom.us/j/83426091374?pwd=REIraWFpQUFBU3orV0ExcmoyRUlaUT09 \nMeeting ID: 834 2609 1374 \nPasscode: 074958
URL:https://troop58ashburn.camp/event-2/troop-meeting-153/
LOCATION:Ashburn Volunteer Fire and Rescue Department\,20688 Ashburn Road\,Ashburn\,VA\,20147\, United States
END:VEVENT
BEGIN:VEVENT
DTSTART;TZID=America/New_York:20220312T090000
DTEND;TZID=America/New_York:20220312T160000
DTSTAMP:20260425T100547
CREATED:20220309T133245Z
LAST-MODIFIED:20220312T135313Z
UID:7501-1647075600-1647100800@troop58ashburn.camp
SUMMARY:GCD Pinewood Derby - Volunteers Needed
DESCRIPTION:Volunteers are needed to help run the Goose Greek District Pinewood Derby!  \n \nPlease RSVP by Wednesday 7pm\, so we can submit a headcount at the Roundtable meeting.  
URL:https://troop58ashburn.camp/event-2/gcd-pinewood-derby-volunteers-needed/
LOCATION:21100 Dulles Town Cir\, Sterling\, VA 20166
END:VEVENT
BEGIN:VEVENT
DTSTART;TZID=America/New_York:20220310T183000
DTEND;TZID=America/New_York:20220310T193000
DTSTAMP:20260425T100547
CREATED:20220226T104010Z
LAST-MODIFIED:20220310T134711Z
UID:7466-1646937000-1646940600@troop58ashburn.camp
SUMMARY:Pack 965 Crossover Ceremony
DESCRIPTION:WHEN:  March 10th at 6:30 \nWHERE:  Frances Hazel Reid Elementary School\, 800 N King St\, Leesburg\, VA 20176  \nScout crossing over is Terak Heath.  
URL:https://troop58ashburn.camp/event-2/pack-965-crossover-ceremony/
LOCATION:Frances Hazel Reid Elementary School
END:VEVENT
BEGIN:VEVENT
DTSTART;TZID=America/New_York:20220309T200000
DTEND;TZID=America/New_York:20220309T210000
DTSTAMP:20260425T100547
CREATED:20220307T125540Z
LAST-MODIFIED:20220309T133244Z
UID:7490-1646856000-1646859600@troop58ashburn.camp
SUMMARY:2023 National Jamboree Registration Launch Party!
DESCRIPTION:We’ll preview the amazing jamboree line up\, visit with special guests\, reveal where you can get early jambo merch\, and more! \n \nNever been to a jamboree at the Summit? \nNever been to a jamboree at all? \nThen log on to find out how you can give you and your Scouts a once-in-a-lifetime experience! \nLog on. Check it out. Register for Jamboree 2023! \n \n \n \n \n \n\n\n\n\n\n\n\n\n\n\n\n\n\n \nWatch on Facebook\n\n \nWatch on YouTube
URL:https://troop58ashburn.camp/event-2/2023-national-jamboree-registration-launch-party/
END:VEVENT
BEGIN:VEVENT
DTSTART;TZID=America/New_York:20220309T193000
DTEND;TZID=America/New_York:20220309T210000
DTSTAMP:20260425T100547
CREATED:20200310T091419Z
LAST-MODIFIED:20220309T133243Z
UID:5140-1646854200-1646859600@troop58ashburn.camp
SUMMARY:Goose Creek District Roundtable
DESCRIPTION:See https://www.ncacbsa.org/goose-creek/roundtable/ for more info.
URL:https://troop58ashburn.camp/event-2/goose-creek-district-roundtable-34/
LOCATION:Leesburg United Methodist Church\,107 W Market St\,Leesburg\,VA\,20176\, 1 W Market St\, United States
END:VEVENT
BEGIN:VEVENT
DTSTART;TZID=America/New_York:20220309T193000
DTEND;TZID=America/New_York:20220309T203000
DTSTAMP:20260425T100547
CREATED:20200310T091419Z
LAST-MODIFIED:20220309T133244Z
UID:5141-1646854200-1646857800@troop58ashburn.camp
SUMMARY:Order of the Arrow meeting
DESCRIPTION:
URL:https://troop58ashburn.camp/event-2/order-of-the-arrow-meeting-32/
LOCATION:Leesburg United Methodist Church\,107 W Market St\,Leesburg\,VA\,20176\, 1 W Market St\, United States
END:VEVENT
BEGIN:VEVENT
DTSTART;TZID=America/New_York:20220308T195000
DTEND;TZID=America/New_York:20220308T203000
DTSTAMP:20260425T100547
CREATED:20220228T111128Z
LAST-MODIFIED:20220308T131432Z
UID:7477-1646769000-1646771400@troop58ashburn.camp
SUMMARY:ASM meeting
DESCRIPTION:ASM meeting to be held during Patrol time.
URL:https://troop58ashburn.camp/event-2/asm-meeting-51/
LOCATION:Ashburn Volunteer Fire and Rescue Department\, 20688 Ashburn Rd\, Ashburn\, VA\, United States
END:VEVENT
BEGIN:VEVENT
DTSTART;TZID=America/New_York:20220308T193000
DTEND;TZID=America/New_York:20220308T210000
DTSTAMP:20260425T100547
CREATED:20220104T225225Z
LAST-MODIFIED:20220308T131432Z
UID:7091-1646767800-1646773200@troop58ashburn.camp
SUMMARY:Troop Meeting
DESCRIPTION:Weekly (except the first Tuesday of each month) meeting of Troop 58. \n \nTo attend virtually: \nhttps://us02web.zoom.us/j/83426091374?pwd=REIraWFpQUFBU3orV0ExcmoyRUlaUT09 \nMeeting ID: 834 2609 1374 \nPasscode: 074958
URL:https://troop58ashburn.camp/event-2/troop-meeting-152/
LOCATION:Ashburn Volunteer Fire and Rescue Department\,20688 Ashburn Road\,Ashburn\,VA\,20147\, United States
END:VEVENT
BEGIN:VEVENT
DTSTART;TZID=America/New_York:20220305T160000
DTEND;TZID=America/New_York:20220305T180000
DTSTAMP:20260425T100547
CREATED:20220111T004020Z
LAST-MODIFIED:20220305T122708Z
UID:7322-1646496000-1646503200@troop58ashburn.camp
SUMMARY:Pack 1666 Crossover Ceremony
DESCRIPTION:Scout crossing over to Troop 58 is Aarav Shah. \nWHEN:  Saturday\, March 5\, 2022 @ 4:00 pm \nWHERE:  Belmont Station Elementary School\, 20235 Nightwatch St.\, Ashburn\, VA 20147 \nScout crossing over is Aarav Shah. \nThe Crossing Over Ceremony is scheduled to begin at 4pm on Saturday\, March 5 in the gymnasium at Belmont Station Elementary School. Those participating in the ceremony are asked to arrive no later than 3:45pm.  \nDue to ongoing Covid concerns\, we will not have a formal meal (as is our tradition) following the ceremony\, but will be providing desserts for attendees to enjoy after the event. \nWe would appreciate it if you could let us know by Saturday\, February 26 how many members of Troop 58 plan to be in attendance and the name of the adult representative(s).
URL:https://troop58ashburn.camp/event-2/pack-1666-crossover-ceremony/
END:VEVENT
BEGIN:VEVENT
DTSTART;TZID=America/New_York:20220305T100000
DTEND;TZID=America/New_York:20220305T120000
DTSTAMP:20260425T100547
CREATED:20220223T102331Z
LAST-MODIFIED:20220305T122708Z
UID:7452-1646474400-1646481600@troop58ashburn.camp
SUMMARY:Spartans - LINK food pantry
DESCRIPTION:Spartans Patrol service project \nHonor Patrol outing \nWe will volunteer for 2 hours on Saturday morning to help the LINK food pantry prepare for an upcoming distribution event. \nWe need 2 adult Scout leaders to attend to provide 2-deep leadership.
URL:https://troop58ashburn.camp/event-2/spartans-link-food-pantry/
LOCATION:46883 Harry Byrd Highway\, Sterling\, VA 20164
END:VEVENT
BEGIN:VEVENT
DTSTART;TZID=America/New_York:20220303T190000
DTEND;TZID=America/New_York:20220303T200000
DTSTAMP:20260425T100547
CREATED:20220104T225225Z
LAST-MODIFIED:20220303T115625Z
UID:7090-1646334000-1646337600@troop58ashburn.camp
SUMMARY:Pack 905 Crossover Ceremony
DESCRIPTION:WHEN:   Thurs.\, March 3\, 2022 @ 7:00 pm  \nWHERE:  Algonkian Elementary School – 20196 Carter Ct.\, Sterling\, VA  20165 \nScouts crossing over to Troop 58 are: \nSam Wall \nAuggie Piette \nEli Lubel
URL:https://troop58ashburn.camp/event-2/pack-905-crossover-ceremony/
LOCATION:Algonkian Elementary School
END:VEVENT
BEGIN:VEVENT
DTSTART;TZID=America/New_York:20220301T193000
DTEND;TZID=America/New_York:20220301T210000
DTSTAMP:20260425T100547
CREATED:20220104T225225Z
LAST-MODIFIED:20220205T065249Z
UID:7087-1646163000-1646168400@troop58ashburn.camp
SUMMARY:Troop Meeting
DESCRIPTION:Weekly (except the first Tuesday of each month) meeting of Troop 58. \n \nTo attend virtually: \nhttps://us02web.zoom.us/j/83426091374?pwd=REIraWFpQUFBU3orV0ExcmoyRUlaUT09 \nMeeting ID: 834 2609 1374 \nPasscode: 074958
URL:https://troop58ashburn.camp/event-2/troop-meeting-151/
LOCATION:Ashburn Volunteer Fire and Rescue Department\,20688 Ashburn Road\,Ashburn\,VA\,20147\, United States
END:VEVENT
BEGIN:VEVENT
DTSTART;TZID=America/New_York:20220301T191500
DTEND;TZID=America/New_York:20220301T203000
DTSTAMP:20260425T100547
CREATED:20220104T225225Z
LAST-MODIFIED:20220301T112744Z
UID:7088-1646162100-1646166600@troop58ashburn.camp
SUMMARY:Committee Meeting
DESCRIPTION:This months meeting will be Committee Members only.  ASMs will be having a separate meeting later in the month.  The agenda will be posted on Monday.  If you can not attend but have anything you wish to share with the group\, please let me know by Sunday. \nAny ASMs who have anything to share (HA\, Summer Camp\, OA\, etc.) we will cover your topics first so you do not have to stay for the remainder of the meeting.
URL:https://troop58ashburn.camp/event-2/joint-asm-committee-meeting-2/
LOCATION:Ashburn Volunteer Fire and Rescue Department\,20688 Ashburn Road\,Ashburn\,VA\,20147\, United States
END:VEVENT
BEGIN:VEVENT
DTSTART;TZID=America/New_York:20220301T191500
DTEND;TZID=America/New_York:20220301T203000
DTSTAMP:20260425T100547
CREATED:20220104T225224Z
LAST-MODIFIED:20220301T112744Z
UID:7086-1646162100-1646166600@troop58ashburn.camp
SUMMARY:PLC Meeting
DESCRIPTION:Our monthly PLC meeting.  Meets the first Tuesday of each month.   \n \nTo attend virtually: \nhttps://us02web.zoom.us/j/83426091374?pwd=REIraWFpQUFBU3orV0ExcmoyRUlaUT09 \nMeeting ID: 834 2609 1374 \nPasscode: 074958
URL:https://troop58ashburn.camp/event-2/plc-meeting-36/
LOCATION:Ashburn Volunteer Fire and Rescue Department\,20688 Ashburn Road\,Ashburn\,VA\,20147\, United States
END:VEVENT
BEGIN:VEVENT
DTSTART;VALUE=DATE:20220226
DTEND;VALUE=DATE:20220227
DTSTAMP:20260425T100547
CREATED:20220225T102720Z
LAST-MODIFIED:20220226T104053Z
UID:7458-1645833600-1645919999@troop58ashburn.camp
SUMMARY:This Saturday\, 2/26\, NCAC University of Scouting virtual only (pre-registration required)
DESCRIPTION:Troop 58 Adult Leaders: \nUrgent  \nLink below to register for this Saturday’s virtual NCAC University of Scouting  \nSaturday 2/26\, 8:30am – 4:30pm \nThe Scouts BSA class catalog is extensive. Great classes for any adult Scout Leader. Each class is less than an hour.  \n– https://scoutingevent.com/082-uos
URL:https://troop58ashburn.camp/event-2/this-saturday-2-26-ncac-university-of-scouting-virtual-only-pre-registration-required/
LOCATION:Virtual/Zoom
END:VEVENT
BEGIN:VEVENT
DTSTART;TZID=America/New_York:20220223T170000
DTEND;TZID=America/New_York:20220223T200000
DTSTAMP:20260425T100547
CREATED:20220104T225224Z
LAST-MODIFIED:20220223T102734Z
UID:7085-1645635600-1645646400@troop58ashburn.camp
SUMMARY:Silver Diner - Spirit Night - Sea Base High Adventure Fundraiser
DESCRIPTION:Please join us for Spirit Night at Silver Diner on Feb. 23 @ 5:00 – 8:00 PM.  20% of all incremental sales during the night will be donated back to the troop to help support the Sea Base high adventure trip.  This includes dine-in restaurant and to go orders. \nSilver Diner \n20530 Heron Overlook Plaza \nAshburn\, VA 20147 \n(703) 468-9293 \nhttps://www.silverdiner.com/ashburn-630
URL:https://troop58ashburn.camp/event-2/silver-diner-spirit-night-sea-base-high-adventure-fundraiser/
END:VEVENT
BEGIN:VEVENT
DTSTART;TZID=America/New_York:20220222T193000
DTEND;TZID=America/New_York:20220222T210000
DTSTAMP:20260425T100547
CREATED:20220104T225224Z
LAST-MODIFIED:20220222T102442Z
UID:7084-1645558200-1645563600@troop58ashburn.camp
SUMMARY:Troop Meeting
DESCRIPTION:Weekly (except the first Tuesday of each month) meeting of Troop 58. \n \nTo attend virtually: \nhttps://us02web.zoom.us/j/83426091374?pwd=REIraWFpQUFBU3orV0ExcmoyRUlaUT09 \nMeeting ID: 834 2609 1374 \nPasscode: 074958
URL:https://troop58ashburn.camp/event-2/troop-meeting-150/
LOCATION:Ashburn Volunteer Fire and Rescue Department\,20688 Ashburn Road\,Ashburn\,VA\,20147\, United States
END:VEVENT
BEGIN:VEVENT
DTSTART;TZID=America/New_York:20220221T190000
DTEND;TZID=America/New_York:20220221T200000
DTSTAMP:20260425T100547
CREATED:20220121T031016Z
LAST-MODIFIED:20220221T101234Z
UID:7368-1645470000-1645473600@troop58ashburn.camp
SUMMARY:Environmental Science MB 7pm
DESCRIPTION:Join me for the Environmental Science MB class via Google Meet.  Send me an email if you are interested and initiate a merit badge request through Scoutbook.
URL:https://troop58ashburn.camp/event-2/environmental-science-mb-7pm-3/
LOCATION:Virtual
END:VEVENT
BEGIN:VEVENT
DTSTART;TZID=America/New_York:20220218T173000
DTEND;TZID=America/New_York:20220220T100000
DTSTAMP:20260425T100547
CREATED:20220104T225224Z
LAST-MODIFIED:20220220T100310Z
UID:7083-1645205400-1645351200@troop58ashburn.camp
SUMMARY:GCD: Freeze-O-Ree
DESCRIPTION:The Freeze-O-Ree is an annual Goose Creek District overnight camping event hosted by our District Chapter of the Order of the Arrow. The weekend is filled with fun and skills activities\, beginning with camping on Friday night and ending with check-out on Sunday morning. \nThere will be several events for us to compete and show off our Scouting skills on Saturday. At the end of the day there will be a campfire where awards will be given out to the patrols who got the most points during the day. \nEach event at the Freeze‐O‐Ree will be based on our ability to work together as a team\, their general scout skills\, and their scout spirit. \nCovid screening will be required prior to arrival at Snyder. \nDeparture from Trailside Middle School at 5:30pm on Fri\, Feb 18.  \nCheck your gear ASAP to be prepared for cold weather camping. Contact Jude Quinn for questions.
URL:https://troop58ashburn.camp/event-2/gcd-freeze-o-ree/
LOCATION:Camp Snyder
END:VEVENT
END:VCALENDAR