BEGIN:VCALENDAR
VERSION:2.0
PRODID:-//Boy Scout Troop 58 - Ashburn, VA - ECPv6.15.20//NONSGML v1.0//EN
CALSCALE:GREGORIAN
METHOD:PUBLISH
X-WR-CALNAME:Boy Scout Troop 58 - Ashburn, VA
X-ORIGINAL-URL:https://troop58ashburn.camp
X-WR-CALDESC:Events for Boy Scout Troop 58 - Ashburn, VA
REFRESH-INTERVAL;VALUE=DURATION:PT1H
X-Robots-Tag:noindex
X-PUBLISHED-TTL:PT1H
BEGIN:VTIMEZONE
TZID:America/New_York
BEGIN:DAYLIGHT
TZOFFSETFROM:-0500
TZOFFSETTO:-0400
TZNAME:EDT
DTSTART:20210314T070000
END:DAYLIGHT
BEGIN:STANDARD
TZOFFSETFROM:-0400
TZOFFSETTO:-0500
TZNAME:EST
DTSTART:20211107T060000
END:STANDARD
BEGIN:DAYLIGHT
TZOFFSETFROM:-0500
TZOFFSETTO:-0400
TZNAME:EDT
DTSTART:20220313T070000
END:DAYLIGHT
BEGIN:STANDARD
TZOFFSETFROM:-0400
TZOFFSETTO:-0500
TZNAME:EST
DTSTART:20221106T060000
END:STANDARD
BEGIN:DAYLIGHT
TZOFFSETFROM:-0500
TZOFFSETTO:-0400
TZNAME:EDT
DTSTART:20230312T070000
END:DAYLIGHT
BEGIN:STANDARD
TZOFFSETFROM:-0400
TZOFFSETTO:-0500
TZNAME:EST
DTSTART:20231105T060000
END:STANDARD
END:VTIMEZONE
BEGIN:VEVENT
DTSTART;TZID=America/New_York:20220721T193000
DTEND;TZID=America/New_York:20220721T213000
DTSTAMP:20260425T085817
CREATED:20200721T100924Z
LAST-MODIFIED:20210119T201043Z
UID:6020-1658431800-1658439000@troop58ashburn.camp
SUMMARY:ASM meeting
DESCRIPTION:Monthly planning/coordination meeting for the Scoutmaster and ASMs; all Committee Members and other adults are welcome as well.  Location rotates each month.
URL:https://troop58ashburn.camp/event-2/asm-meeting-44/
LOCATION:TBD\, 2560 King Arthur Boulevard\, Lewisville\, TX\, 75056\, United States
END:VEVENT
BEGIN:VEVENT
DTSTART;TZID=America/New_York:20220720T193000
DTEND;TZID=America/New_York:20220720T203000
DTSTAMP:20260425T085817
CREATED:20220713T162015Z
LAST-MODIFIED:20220720T191745Z
UID:7933-1658345400-1658349000@troop58ashburn.camp
SUMMARY:Family Life MB - session #1
DESCRIPTION:Family Life MB classUp to 10 Scouts can join this session2 meetings (you must attend & actively participate in both):Wed\, July 20\, 2022 – 7:30-8:30pm @ Ashburn Library meeting room AWed\, July 27\, 2021 – 7:30-8:30pm @ Ashburn Library meeting room BBefore our first session\, please review the requirements for the MB.The requirements are available at:https://filestore.scouting.org/filestore/Merit_Badge_ReqandRes/Family_Life.pdf
URL:https://troop58ashburn.camp/event-2/family-life-mb-session-1/
LOCATION:Ashburn Library meeting room A
END:VEVENT
BEGIN:VEVENT
DTSTART;TZID=America/New_York:20220719T193000
DTEND;TZID=America/New_York:20220719T210000
DTSTAMP:20260425T085817
CREATED:20220104T225234Z
LAST-MODIFIED:20220719T184916Z
UID:7129-1658259000-1658264400@troop58ashburn.camp
SUMMARY:Troop Meeting
DESCRIPTION:Weekly (except the first Tuesday of each month) meeting of Troop 58.
URL:https://troop58ashburn.camp/event-2/troop-meeting-170/
LOCATION:Ashburn Volunteer Fire and Rescue Department\,20688 Ashburn Road\,Ashburn\,VA\,20147\, United States
END:VEVENT
BEGIN:VEVENT
DTSTART;TZID=America/New_York:20220719T143000
DTEND;TZID=America/New_York:20220719T153000
DTSTAMP:20260425T085817
CREATED:20220621T071039Z
LAST-MODIFIED:20220719T184916Z
UID:7831-1658241000-1658244600@troop58ashburn.camp
SUMMARY:ASPL Elections
DESCRIPTION:
URL:https://troop58ashburn.camp/event-2/aspl-elections-2/
LOCATION:Ashburn Volunteer Fire and Rescue Department\, 20688 Ashburn Rd\, Ashburn\, VA\, United States
END:VEVENT
BEGIN:VEVENT
DTSTART;TZID=America/New_York:20220715T173000
DTEND;TZID=America/New_York:20220717T120000
DTSTAMP:20260425T085817
CREATED:20220104T225234Z
LAST-MODIFIED:20220716T174802Z
UID:7128-1657906200-1658059200@troop58ashburn.camp
SUMMARY:Lake Campout
DESCRIPTION:We are going to Lake Anna for a weekend of boating\, swimming\, fishing\, and tubing. We will be renting a pontoon boat and borrowing a ski/tubing boat. We will be camping at Christopher Run Campground\, 6478 Zachary Taylor Hwy\, Mineral\, VA 23117.  The campground web site is http://christopherruncampground.com/.Departure: Friday\, 7/15\, NLT 6pm from Trailside Middle School. Arrive at Trailside MS by 5:30pm.  Bring a brown bag dinner or eat beforehand.Return:  Sunday\, 7/17 by 12pm at Trailside Middle School.What to Bring:  normal camping gear\, bag dinner for Friday\, swimsuit\, towel\, sunscreen\, bug spray\, and fishing gear (if desired).Fees will be $48 per person for mileage\, boat rental\, fuel\, and campsite fees.
URL:https://troop58ashburn.camp/event-2/lake-campout/
LOCATION:Lake Anna\, VA
END:VEVENT
BEGIN:VEVENT
DTSTART;TZID=America/New_York:20220713T193000
DTEND;TZID=America/New_York:20220713T210000
DTSTAMP:20260425T085817
CREATED:20200713T064944Z
LAST-MODIFIED:20220713T162014Z
UID:5981-1657740600-1657746000@troop58ashburn.camp
SUMMARY:Goose Creek District Roundtable
DESCRIPTION:See https://www.ncacbsa.org/goose-creek/roundtable/ for more info.
URL:https://troop58ashburn.camp/event-2/goose-creek-district-roundtable-41/
LOCATION:Leesburg United Methodist Church\,107 W Market St\,Leesburg\,VA\,20176\, 1 W Market St\, United States
END:VEVENT
BEGIN:VEVENT
DTSTART;TZID=America/New_York:20220713T193000
DTEND;TZID=America/New_York:20220713T203000
DTSTAMP:20260425T085817
CREATED:20200713T064944Z
LAST-MODIFIED:20220713T162015Z
UID:5982-1657740600-1657744200@troop58ashburn.camp
SUMMARY:Order of the Arrow meeting
DESCRIPTION:
URL:https://troop58ashburn.camp/event-2/order-of-the-arrow-meeting-44/
LOCATION:Leesburg United Methodist Church\,107 W Market St\,Leesburg\,VA\,20176\, 1 W Market St\, United States
END:VEVENT
BEGIN:VEVENT
DTSTART;TZID=America/New_York:20220712T193000
DTEND;TZID=America/New_York:20220712T210000
DTSTAMP:20260425T085817
CREATED:20220104T225233Z
LAST-MODIFIED:20220712T160124Z
UID:7126-1657654200-1657659600@troop58ashburn.camp
SUMMARY:Troop Meeting
DESCRIPTION:Weekly (except the first Tuesday of each month) meeting of Troop 58.
URL:https://troop58ashburn.camp/event-2/troop-meeting-169/
LOCATION:Ashburn Volunteer Fire and Rescue Department\,20688 Ashburn Road\,Ashburn\,VA\,20147\, United States
END:VEVENT
BEGIN:VEVENT
DTSTART;TZID=America/New_York:20220711T200000
DTEND;TZID=America/New_York:20220711T210000
DTSTAMP:20260425T085817
CREATED:20220709T150659Z
LAST-MODIFIED:20220711T160056Z
UID:7918-1657569600-1657573200@troop58ashburn.camp
SUMMARY:Mandatory Swim Test for Lake and Sailing Campouts
DESCRIPTION:This swim test is for those who have not passed the test since July 15\, 2021 and are going to either the Lake or Sailing Campout.  Lake Campout attendees\, please make your best effort to attend. ***PLEASE NOTE THAT THE SWIM TEST WILL BEGIN PROMPTLY AT 8PM AND WILL TAKE NO LONGER THAN 5-10 MINUTES******TT does not allow for events less than one hour long\, so we will likely be gone by 8:30PM***For Sailing attendees\, if you cannot make this\, there will be another chance to take the test the week of 7/25.  
URL:https://troop58ashburn.camp/event-2/mandatory-swim-test-for-lake-and-sailing-campouts/
LOCATION:Lansdowne Potomac Club\, 43459 Riverpoint Dr\, Lansdowne\, VA 20176
END:VEVENT
BEGIN:VEVENT
DTSTART;TZID=America/New_York:20220705T193000
DTEND;TZID=America/New_York:20220705T210000
DTSTAMP:20260425T085817
CREATED:20220104T225233Z
LAST-MODIFIED:20220515T152048Z
UID:7124-1657049400-1657054800@troop58ashburn.camp
SUMMARY:Troop Meeting
DESCRIPTION:Weekly (except the first Tuesday of each month) meeting of Troop 58. \n \nTo attend virtually: \nhttps://us02web.zoom.us/j/83426091374?pwd=REIraWFpQUFBU3orV0ExcmoyRUlaUT09 \nMeeting ID: 834 2609 1374 \nPasscode: 074958
URL:https://troop58ashburn.camp/event-2/troop-meeting-168/
LOCATION:Ashburn Volunteer Fire and Rescue Department\,20688 Ashburn Road\,Ashburn\,VA\,20147\, United States
END:VEVENT
BEGIN:VEVENT
DTSTART;TZID=America/New_York:20220705T191500
DTEND;TZID=America/New_York:20220705T203000
DTSTAMP:20260425T085817
CREATED:20220104T225233Z
LAST-MODIFIED:20220705T131917Z
UID:7125-1657048500-1657053000@troop58ashburn.camp
SUMMARY:Committee Meeting ONLY
DESCRIPTION:Monthly planning/coordination meeting for Committee Members and ASMs.  All adults are welcome to attend as these meetings are a great way to stay updated on what's happening with the troop. \nFirst 30 mins will be joint\, after which groups will split off to discuss more detailed items relevant to their areas.
URL:https://troop58ashburn.camp/event-2/joint-asm-committee-meeting-6/
LOCATION:Ashburn Volunteer Fire and Rescue Department\,20688 Ashburn Road\,Ashburn\,VA\,20147\, United States
END:VEVENT
BEGIN:VEVENT
DTSTART;TZID=America/New_York:20220705T191500
DTEND;TZID=America/New_York:20220705T203000
DTSTAMP:20260425T085817
CREATED:20220104T225233Z
LAST-MODIFIED:20220705T131917Z
UID:7123-1657048500-1657053000@troop58ashburn.camp
SUMMARY:PLC Meeting
DESCRIPTION:Our monthly PLC meeting.  Meets the first Tuesday of each month.  
URL:https://troop58ashburn.camp/event-2/plc-meeting-40/
LOCATION:Ashburn Volunteer Fire and Rescue Department\,20688 Ashburn Road\,Ashburn\,VA\,20147\, United States
END:VEVENT
BEGIN:VEVENT
DTSTART;TZID=America/New_York:20220628T193000
DTEND;TZID=America/New_York:20220628T210000
DTSTAMP:20260425T085817
CREATED:20220104T225232Z
LAST-MODIFIED:20220315T143937Z
UID:7122-1656444600-1656450000@troop58ashburn.camp
SUMMARY:Troop Meeting
DESCRIPTION:Weekly (except the first Tuesday of each month) meeting of Troop 58. \n \nTo attend virtually: \nhttps://us02web.zoom.us/j/83426091374?pwd=REIraWFpQUFBU3orV0ExcmoyRUlaUT09 \nMeeting ID: 834 2609 1374 \nPasscode: 074958
URL:https://troop58ashburn.camp/event-2/troop-meeting-167/
LOCATION:Ashburn Volunteer Fire and Rescue Department\,20688 Ashburn Road\,Ashburn\,VA\,20147\, United States
END:VEVENT
BEGIN:VEVENT
DTSTART;TZID=America/New_York:20220626T070000
DTEND;TZID=America/New_York:20220702T080000
DTSTAMP:20260425T085817
CREATED:20220104T225232Z
LAST-MODIFIED:20220701T120126Z
UID:7121-1656226800-1656748800@troop58ashburn.camp
SUMMARY:Summer Camp - Camp Olmsted
DESCRIPTION:Camp Olmsted – Goshen Scout ReservationPlease fill out the registration form: https://forms.gle/Dg5s7aJEufVv3LW99 \nCamp cost is $450 per scout.  Please pay a deposit of $100 by January 15.  The remaining balance of $350 will be due by March 15.You can pay through Zelle (Troop58.Zelle@gmail.com) or by personal check.In either case put 'Scout Name – Summer Camp 2022' in memo line.The price increases to $480 for any registrations received after April 15.    \nGoshen Scout Reservation340 Millard Burke Memorial HighwayGoshen\, Virginia 24439
URL:https://troop58ashburn.camp/event-2/summer-camp-camp-olmsted/
LOCATION:Camp Olmsted
END:VEVENT
BEGIN:VEVENT
DTSTART;TZID=America/New_York:20220621T193000
DTEND;TZID=America/New_York:20220621T210000
DTSTAMP:20260425T085817
CREATED:20220104T225232Z
LAST-MODIFIED:20220621T071037Z
UID:7119-1655839800-1655845200@troop58ashburn.camp
SUMMARY:Troop Meeting
DESCRIPTION:Weekly (except the first Tuesday of each month) meeting of Troop 58.
URL:https://troop58ashburn.camp/event-2/troop-meeting-166/
LOCATION:Ashburn Volunteer Fire and Rescue Department\,20688 Ashburn Road\,Ashburn\,VA\,20147\, United States
END:VEVENT
BEGIN:VEVENT
DTSTART;TZID=America/New_York:20220621T181500
DTEND;TZID=America/New_York:20220621T191500
DTSTAMP:20260425T085817
CREATED:20220621T071037Z
LAST-MODIFIED:20220621T071037Z
UID:7829-1655835300-1655838900@troop58ashburn.camp
SUMMARY:Emergency Preparedness MB part 3 of 4
DESCRIPTION:
URL:https://troop58ashburn.camp/event-2/emergency-preparedness-mb-part-3-of-4/
LOCATION:Ashburn Volunteer Fire and Rescue Department\, Training Rm A
END:VEVENT
BEGIN:VEVENT
DTSTART;TZID=America/New_York:20220620T173000
DTEND;TZID=America/New_York:20220620T203000
DTSTAMP:20260425T085817
CREATED:20220206T065920Z
LAST-MODIFIED:20220617T054650Z
UID:7400-1655746200-1655757000@troop58ashburn.camp
SUMMARY:Golf MB (2nd of 2 9-hole rounds Tentative Date)
DESCRIPTION:The Golf MB will occur over 5 different sessions as follows: \n– 2 virtual classroom sessions \n– 1 driving range session (we will schedule this for when it works for everyone) \n– 2 actual rounds of 9-holes of golf at a local public golf course (tentative dates are 5/3 and 6/20) \nPlease RSVP to each session individually\, especially to the driving range and rounds\, so I know how/when to make reservations.  There will also be fees for the driving range of $9 for the range\, and ~$34/round of golf\, although this may go down once I confirm the reservation.
URL:https://troop58ashburn.camp/event-2/golf-mb-2nd-of-2-9-hole-rounds-tentative-date/
LOCATION:TBD\, 2560 King Arthur Boulevard\, Lewisville\, TX\, 75056\, United States
END:VEVENT
BEGIN:VEVENT
DTSTART;TZID=America/New_York:20220618T140000
DTEND;TZID=America/New_York:20220618T153000
DTSTAMP:20260425T085817
CREATED:20220614T040902Z
LAST-MODIFIED:20220618T061851Z
UID:7807-1655560800-1655566200@troop58ashburn.camp
SUMMARY:Cooking Merit Badge
DESCRIPTION:What: Cooking Merit Badge \nWhere: 19717 Far Hills Court Ashburn\, VA 20147 \nWhen: June 18th 2:00 -3:30 \nTopics:  Requirements 5
URL:https://troop58ashburn.camp/event-2/cooking-merit-badge-2/
LOCATION:19717 Far Hills Court Ashburn\, VA 20147
END:VEVENT
BEGIN:VEVENT
DTSTART;TZID=America/New_York:20220618T090000
DTEND;TZID=America/New_York:20220618T150000
DTSTAMP:20260425T085817
CREATED:20220516T161914Z
LAST-MODIFIED:20220617T054649Z
UID:7711-1655542800-1655564400@troop58ashburn.camp
SUMMARY:Place Holder Rain Date Charlie McClelland's Eagle Scout Project
DESCRIPTION:
URL:https://troop58ashburn.camp/event-2/place-holder-rain-date-charlie-mcclellands-eagle-scout-project/
END:VEVENT
BEGIN:VEVENT
DTSTART;TZID=America/New_York:20220618T040000
DTEND;TZID=America/New_York:20220618T051500
DTSTAMP:20260425T085817
CREATED:20220617T054649Z
LAST-MODIFIED:20220618T061850Z
UID:7821-1655524800-1655529300@troop58ashburn.camp
SUMMARY:Astronomy - 5 planet Celestial Alignment
DESCRIPTION:————————— \nASTRONOMY LOCATION UPDATE!!! \nDue to a recent road closure… we will park at 4am at the "First Baptist Church of Sterling" located here: 21449 Potomac View Rd\, Sterling\, VA 20164 \nBy 4:15am we will walk East along Potomac View Rd (about 200 feet) to get to the viewing area.  See attached image for details. \nASTRONOMY LOCATION UPDATE!!! \n————————— \nONCE IN A GENERATION OPPORTUNITYEvery 20 to 40 years the planets appear to line up in the sky in order from the sun. That's happening this month. If you want to see this once in a generation viewing\, then come on out with the Cubmaster from Pack 1158. Bring binoculars and Telescopes if you have them.  I realize this event may limited appeal to scouts\, so I'll just say that parents are welcome with (or without) a scout in tow;)\n \nADVENTUREMeeting more than an hour before sunrise (and 15 minutes from your house) is pretty early for most folks. And\, that's okay. Cub Scouts need to learn that adventure isn't always convenient.\n \nTIMINGPlease arrive between 4 and 4:15 to get set up and have a chance to view the alignment before we break at ~5:15.\n \nLOCATIONThe location is at the top of the hill on "Potomac View Rd" at the intersection of "Big Rock Drive" in Sterling. \nHere's a google maps link:https://goo.gl/maps/VrN4j5xJ8KZ1gTwu5\n \nDATES BASED ON WEATHERI'm planning another trip in about a week from this date. It will have to be flexible because we are expecting most days will be clouded out.
URL:https://troop58ashburn.camp/event-2/astronomy-5-planet-celestial-alignment/
LOCATION:21449 Potomac View Rd\, Sterling\, VA 20164
END:VEVENT
BEGIN:VEVENT
DTSTART;TZID=America/New_York:20220617T190000
DTEND;TZID=America/New_York:20220617T220000
DTSTAMP:20260425T085817
CREATED:20220516T161911Z
LAST-MODIFIED:20220617T054649Z
UID:7706-1655492400-1655503200@troop58ashburn.camp
SUMMARY:RESCHEDULED Adult Leader Strategy Session
DESCRIPTION:****We are moving this to the 17th due to  scheduling issues.***  \nWe are in the midst of planning an off-site to discuss the strategic direction of the troop and also have some fun.  It would be great to have as many Old Bats attend as possible.   \nMore details to come\, but in the meantime please RSVP so we can get a headcount.   \nThank you!
URL:https://troop58ashburn.camp/event-2/adult-leader-strategy-session/
LOCATION:TBD\, 2560 King Arthur Boulevard\, Lewisville\, TX\, 75056\, United States
END:VEVENT
BEGIN:VEVENT
DTSTART;TZID=America/New_York:20220617T090000
DTEND;TZID=America/New_York:20220617T150000
DTSTAMP:20260425T085817
CREATED:20220301T112411Z
LAST-MODIFIED:20220617T054648Z
UID:7480-1655456400-1655478000@troop58ashburn.camp
SUMMARY:Charlie McClelland's Eagle Scout Project
DESCRIPTION:I will be building an outdoor\, permanent gaga ball pit for Ashburn Presbyterian Church for the youth ministry.  The majority of the project will require drills\, so I am looking for some scouts 14 years or older to help with that\, and for some scouts to bring electric drills to use.  We will also be spreading some stone dust for the base of the pit so please bring shovels and rakes.  Please also bring a water bottle and work gloves.  If you can't make it for the whole project comment what time you will be there.  Lunch will be provided.
URL:https://troop58ashburn.camp/event-2/placeholder-charlie-mcclellands-eagle-scout-project/
LOCATION:Ashburn Presbyterian Church\, 20962 Ashburn Rd\, Ashburn\, VA 20147
END:VEVENT
BEGIN:VEVENT
DTSTART;TZID=America/New_York:20220616T193000
DTEND;TZID=America/New_York:20220616T213000
DTSTAMP:20260425T085817
CREATED:20200616T012801Z
LAST-MODIFIED:20210119T201042Z
UID:5878-1655407800-1655415000@troop58ashburn.camp
SUMMARY:ASM meeting
DESCRIPTION:Monthly planning/coordination meeting for the Scoutmaster and ASMs; all Committee Members and other adults are welcome as well.  Location rotates each month.
URL:https://troop58ashburn.camp/event-2/asm-meeting-43/
LOCATION:TBD\, 2560 King Arthur Boulevard\, Lewisville\, TX\, 75056\, United States
END:VEVENT
BEGIN:VEVENT
DTSTART;TZID=America/New_York:20220615T190000
DTEND;TZID=America/New_York:20220615T203000
DTSTAMP:20260425T085817
CREATED:20220614T040902Z
LAST-MODIFIED:20220615T045036Z
UID:7805-1655319600-1655325000@troop58ashburn.camp
SUMMARY:Cooking Merit Badge
DESCRIPTION:What: Cooking Merit Badge \nWhere: 19717 Far Hills Court Ashburn\, VA 20147 \nWhen: June 15th 7:00 -8:30 \nTopics:  Requirements 1\,2\, 3\, 7\, 4a\, 4b
URL:https://troop58ashburn.camp/event-2/cooking-merit-badge/
LOCATION:19717 Far Hiills Court Ashburn\, VA 20147
END:VEVENT
BEGIN:VEVENT
DTSTART;TZID=America/New_York:20220614T193000
DTEND;TZID=America/New_York:20220614T210000
DTSTAMP:20260425T085817
CREATED:20220104T225232Z
LAST-MODIFIED:20220614T040918Z
UID:7118-1655235000-1655240400@troop58ashburn.camp
SUMMARY:Special Event: Annual Scout Farewell Celebration
DESCRIPTION:In lieu of our regular meeting\, we will have our annual farewell to the 9 Scouts who have either turned or will shortly turn 18 (leaving the youth ranks of the troop)\, graduated from high school\, or are moving away.   \nClayton Bohrer\, Cameron Chua\, Ayush Gupta\, Daniel Han\, Eben Khalili\, Kody Klein\, Siddarth Mallemudi\, Lee Moore\, Jude Quinn\, and Owen Shen \nWe'll meet in the Hall family's backyard and enjoy one last campfire with these fine young men.  We'll share some stories\, sing some songs\, have a skit or two\, and celebrate their Scouting accomplishments. Bring a chair (if you want one)\, bug spray\, and wear your Class B t-shirt. \nParents – you are welcome to stay\, or drop your son off and return. If you are going to stay\, please park on Windmill Drive (not on the private drive).  \nThis meeting will also be broadcast: \nMs. Khalili \n \nWe are no longer offering a virtual option.
URL:https://troop58ashburn.camp/event-2/special-event-annual-scout-farewell-celebration/
LOCATION:Hall Family Residence (Backyard of 21226 Windmill Drive\, Ashburn)
END:VEVENT
BEGIN:VEVENT
DTSTART;TZID=America/New_York:20220611T150000
DTEND;TZID=America/New_York:20220611T170000
DTSTAMP:20260425T085818
CREATED:20220225T102729Z
LAST-MODIFIED:20220611T030738Z
UID:7461-1654959600-1654966800@troop58ashburn.camp
SUMMARY:Eagle Court of Honor
DESCRIPTION:Eagle Scout Court of Honor to jointly recognize 7 Eagle Scouts: \nPranshu Bhaumik \nClayton Bohrer \nDaniel Han \nEben Khalili \nSiddarth Mallemudi \nLee Moore \nJude Quinn \n \nCeremony at 3pm \nReception celebration at 4pm \n(set up at 2pm)
URL:https://troop58ashburn.camp/event-2/eagle-court-of-honor-2/
LOCATION:St. David’s Episcopal Church\, 43600 Russel Branch Pkwy\, Ashburn\, VA\, 20147\, United States
END:VEVENT
BEGIN:VEVENT
DTSTART;TZID=America/New_York:20220608T193000
DTEND;TZID=America/New_York:20220608T210000
DTSTAMP:20260425T085818
CREATED:20200608T234303Z
LAST-MODIFIED:20220608T014901Z
UID:5824-1654716600-1654722000@troop58ashburn.camp
SUMMARY:Goose Creek District Roundtable
DESCRIPTION:See https://www.ncacbsa.org/goose-creek/roundtable/ for more info.
URL:https://troop58ashburn.camp/event-2/goose-creek-district-roundtable-40/
LOCATION:Leesburg United Methodist Church\,107 W Market St\,Leesburg\,VA\,20176\, 1 W Market St\, United States
END:VEVENT
BEGIN:VEVENT
DTSTART;TZID=America/New_York:20220608T193000
DTEND;TZID=America/New_York:20220608T203000
DTSTAMP:20260425T085818
CREATED:20200608T234303Z
LAST-MODIFIED:20220608T014902Z
UID:5825-1654716600-1654720200@troop58ashburn.camp
SUMMARY:Order of the Arrow meeting
DESCRIPTION:Due to the forecast of inclement weather\, and the lack of indoor space for our event at Crossroads\, we're going to move it back to our usual location – Leesburg Presbyterian Church (207 W. Market Street in Leesburg).  \nWe’re wrapping up the spring season with an Ice Cream Social\, to welcome our new members and celebrate the end of the school year. Wednesday\, June 8 at 7:30 pm at our normal meeting location\, Leesburg Presbyterian Church.
URL:https://troop58ashburn.camp/event-2/order-of-the-arrow-meeting-43/
LOCATION:Leesburg Presbyterian Church 207 W. Market St.\, Leesburg\, VA
END:VEVENT
BEGIN:VEVENT
DTSTART;TZID=America/New_York:20220607T193000
DTEND;TZID=America/New_York:20220607T210000
DTSTAMP:20260425T085818
CREATED:20220104T225231Z
LAST-MODIFIED:20220205T065254Z
UID:7115-1654630200-1654635600@troop58ashburn.camp
SUMMARY:Troop Meeting
DESCRIPTION:Weekly (except the first Tuesday of each month) meeting of Troop 58. \n \nTo attend virtually: \nhttps://us02web.zoom.us/j/83426091374?pwd=REIraWFpQUFBU3orV0ExcmoyRUlaUT09 \nMeeting ID: 834 2609 1374 \nPasscode: 074958
URL:https://troop58ashburn.camp/event-2/troop-meeting-165/
LOCATION:Ashburn Volunteer Fire and Rescue Department\,20688 Ashburn Road\,Ashburn\,VA\,20147\, United States
END:VEVENT
BEGIN:VEVENT
DTSTART;TZID=America/New_York:20220607T193000
DTEND;TZID=America/New_York:20220607T210000
DTSTAMP:20260425T085818
CREATED:20220104T225231Z
LAST-MODIFIED:20220521T183122Z
UID:7116-1654630200-1654635600@troop58ashburn.camp
SUMMARY:Joint ASM & Committee meeting
DESCRIPTION:Monthly planning/coordination meeting for Committee Members and ASMs.  All adults are welcome to attend as these meetings are a great way to stay updated on what’s happening with the troop. \nFirst 30 mins will be joint\, after which groups will split off to discuss more detailed items relevant to their areas.
URL:https://troop58ashburn.camp/event-2/joint-asm-committee-meeting-5/
LOCATION:Ashburn Volunteer Fire and Rescue Department\,20688 Ashburn Road\,Ashburn\,VA\,20147\, United States
END:VEVENT
END:VCALENDAR