BEGIN:VCALENDAR
VERSION:2.0
PRODID:-//Boy Scout Troop 58 - Ashburn, VA - ECPv6.15.20//NONSGML v1.0//EN
CALSCALE:GREGORIAN
METHOD:PUBLISH
X-ORIGINAL-URL:https://troop58ashburn.camp
X-WR-CALDESC:Events for Boy Scout Troop 58 - Ashburn, VA
REFRESH-INTERVAL;VALUE=DURATION:PT1H
X-Robots-Tag:noindex
X-PUBLISHED-TTL:PT1H
BEGIN:VTIMEZONE
TZID:America/New_York
BEGIN:DAYLIGHT
TZOFFSETFROM:-0500
TZOFFSETTO:-0400
TZNAME:EDT
DTSTART:20260308T070000
END:DAYLIGHT
BEGIN:STANDARD
TZOFFSETFROM:-0400
TZOFFSETTO:-0500
TZNAME:EST
DTSTART:20261101T060000
END:STANDARD
BEGIN:DAYLIGHT
TZOFFSETFROM:-0500
TZOFFSETTO:-0400
TZNAME:EDT
DTSTART:20270314T070000
END:DAYLIGHT
BEGIN:STANDARD
TZOFFSETFROM:-0400
TZOFFSETTO:-0500
TZNAME:EST
DTSTART:20271107T060000
END:STANDARD
BEGIN:DAYLIGHT
TZOFFSETFROM:-0500
TZOFFSETTO:-0400
TZNAME:EDT
DTSTART:20280312T070000
END:DAYLIGHT
BEGIN:STANDARD
TZOFFSETFROM:-0400
TZOFFSETTO:-0500
TZNAME:EST
DTSTART:20281105T060000
END:STANDARD
END:VTIMEZONE
BEGIN:VEVENT
DTSTART;TZID=America/New_York:20270609T193000
DTEND;TZID=America/New_York:20270609T210000
DTSTAMP:20260423T183109
CREATED:20250609T224528Z
LAST-MODIFIED:20250902T201523Z
UID:9374-1812569400-1812574800@troop58ashburn.camp
SUMMARY:Goose Creek District Roundtable
DESCRIPTION:See https://www.ncacbsa.org/goose-creek/roundtable/ for more info.
URL:https://troop58ashburn.camp/event-2/goose-creek-district-roundtable-103/
LOCATION:Leesburg United Methodist Church\, 107 W Market St\, Leesburg\, VA\, United States
END:VEVENT
BEGIN:VEVENT
DTSTART;TZID=America/New_York:20270706T193000
DTEND;TZID=America/New_York:20270706T204500
DTSTAMP:20260423T183109
CREATED:20250706T000019Z
LAST-MODIFIED:20250902T201523Z
UID:9532-1814902200-1814906700@troop58ashburn.camp
SUMMARY:Patrol Leader's Council (PLC)
DESCRIPTION:Monthly meeting of the Patrol Leader’s Council (Scouts who hold elected leadership positions).Uniforms not necessary.
URL:https://troop58ashburn.camp/event-2/patrol-leaders-council-plc-25/
LOCATION:Ashburn Volunteer Fire and Rescue Department\, 20688 Ashburn Rd\, Ashburn\, VA\, United States
END:VEVENT
BEGIN:VEVENT
DTSTART;TZID=America/New_York:20270714T193000
DTEND;TZID=America/New_York:20270714T210000
DTSTAMP:20260423T183109
CREATED:20250714T173118Z
LAST-MODIFIED:20250902T201523Z
UID:9547-1815593400-1815598800@troop58ashburn.camp
SUMMARY:Goose Creek District Roundtable
DESCRIPTION:See https://www.ncacbsa.org/goose-creek/roundtable/ for more info.
URL:https://troop58ashburn.camp/event-2/goose-creek-district-roundtable-104/
LOCATION:Leesburg United Methodist Church\, 107 W Market St\, Leesburg\, VA\, United States
END:VEVENT
BEGIN:VEVENT
DTSTART;TZID=America/New_York:20270803T193000
DTEND;TZID=America/New_York:20270803T204500
DTSTAMP:20260423T183109
CREATED:20250803T184542Z
LAST-MODIFIED:20250902T201523Z
UID:9594-1817321400-1817325900@troop58ashburn.camp
SUMMARY:Patrol Leader's Council (PLC)
DESCRIPTION:Monthly meeting of the Patrol Leader’s Council (Scouts who hold elected leadership positions).Uniforms not necessary.
URL:https://troop58ashburn.camp/event-2/patrol-leaders-council-plc-26/
LOCATION:Ashburn Volunteer Fire and Rescue Department\, 20688 Ashburn Rd\, Ashburn\, VA\, United States
END:VEVENT
BEGIN:VEVENT
DTSTART;TZID=America/New_York:20270811T193000
DTEND;TZID=America/New_York:20270811T210000
DTSTAMP:20260423T183109
CREATED:20250811T194529Z
LAST-MODIFIED:20250902T201524Z
UID:9616-1818012600-1818018000@troop58ashburn.camp
SUMMARY:Goose Creek District Roundtable
DESCRIPTION:See https://www.ncacbsa.org/goose-creek/roundtable/ for more info.
URL:https://troop58ashburn.camp/event-2/goose-creek-district-roundtable-105/
LOCATION:Leesburg United Methodist Church\, 107 W Market St\, Leesburg\, VA\, United States
END:VEVENT
END:VCALENDAR