BEGIN:VCALENDAR
VERSION:2.0
PRODID:-//Boy Scout Troop 58 - Ashburn, VA - ECPv6.15.20//NONSGML v1.0//EN
CALSCALE:GREGORIAN
METHOD:PUBLISH
X-WR-CALNAME:Boy Scout Troop 58 - Ashburn, VA
X-ORIGINAL-URL:https://troop58ashburn.camp
X-WR-CALDESC:Events for Boy Scout Troop 58 - Ashburn, VA
REFRESH-INTERVAL;VALUE=DURATION:PT1H
X-Robots-Tag:noindex
X-PUBLISHED-TTL:PT1H
BEGIN:VTIMEZONE
TZID:America/New_York
BEGIN:DAYLIGHT
TZOFFSETFROM:-0500
TZOFFSETTO:-0400
TZNAME:EDT
DTSTART:20210314T070000
END:DAYLIGHT
BEGIN:STANDARD
TZOFFSETFROM:-0400
TZOFFSETTO:-0500
TZNAME:EST
DTSTART:20211107T060000
END:STANDARD
BEGIN:DAYLIGHT
TZOFFSETFROM:-0500
TZOFFSETTO:-0400
TZNAME:EDT
DTSTART:20220313T070000
END:DAYLIGHT
BEGIN:STANDARD
TZOFFSETFROM:-0400
TZOFFSETTO:-0500
TZNAME:EST
DTSTART:20221106T060000
END:STANDARD
BEGIN:DAYLIGHT
TZOFFSETFROM:-0500
TZOFFSETTO:-0400
TZNAME:EDT
DTSTART:20230312T070000
END:DAYLIGHT
BEGIN:STANDARD
TZOFFSETFROM:-0400
TZOFFSETTO:-0500
TZNAME:EST
DTSTART:20231105T060000
END:STANDARD
BEGIN:DAYLIGHT
TZOFFSETFROM:-0500
TZOFFSETTO:-0400
TZNAME:EDT
DTSTART:20240310T070000
END:DAYLIGHT
BEGIN:STANDARD
TZOFFSETFROM:-0400
TZOFFSETTO:-0500
TZNAME:EST
DTSTART:20241103T060000
END:STANDARD
END:VTIMEZONE
BEGIN:VEVENT
DTSTART;TZID=America/New_York:20230111T193000
DTEND;TZID=America/New_York:20230111T203000
DTSTAMP:20260425T083633
CREATED:20210112T002208Z
LAST-MODIFIED:20220818T084838Z
UID:6933-1673465400-1673469000@troop58ashburn.camp
SUMMARY:Order of the Arrow meeting
DESCRIPTION:
URL:https://troop58ashburn.camp/event-2/order-of-the-arrow-meeting-52/
LOCATION:Leesburg United Methodist Church\,107 W Market St\,Leesburg\,VA\,20176\, 1 W Market St\, United States
END:VEVENT
BEGIN:VEVENT
DTSTART;TZID=America/New_York:20221217T080000
DTEND;TZID=America/New_York:20221218T100000
DTSTAMP:20260425T083633
CREATED:20220104T225247Z
LAST-MODIFIED:20220818T084838Z
UID:7166-1671264000-1671357600@troop58ashburn.camp
SUMMARY:Free Agenda Campout
DESCRIPTION:Troop 58’s monthly campout; details provided as we get closer to each trip!
URL:https://troop58ashburn.camp/event-2/free-agenda-campout/
LOCATION:VA
END:VEVENT
BEGIN:VEVENT
DTSTART;TZID=America/New_York:20221215T193000
DTEND;TZID=America/New_York:20221215T213000
DTSTAMP:20260425T083633
CREATED:20201216T061231Z
LAST-MODIFIED:20210119T202313Z
UID:6820-1671132600-1671139800@troop58ashburn.camp
SUMMARY:ASM meeting
DESCRIPTION:Monthly planning/coordination meeting for the Scoutmaster and ASMs; all Committee Members and other adults are welcome as well.  Location rotates each month.
URL:https://troop58ashburn.camp/event-2/asm-meeting-50/
LOCATION:TBD\, 2560 King Arthur Boulevard\, Lewisville\, TX\, 75056\, United States
END:VEVENT
BEGIN:VEVENT
DTSTART;TZID=America/New_York:20221214T193000
DTEND;TZID=America/New_York:20221214T210000
DTSTAMP:20260425T083633
CREATED:20201215T055728Z
LAST-MODIFIED:20220818T084837Z
UID:6814-1671046200-1671051600@troop58ashburn.camp
SUMMARY:Goose Creek District Roundtable
DESCRIPTION:See https://www.ncacbsa.org/goose-creek/roundtable/ for more info.
URL:https://troop58ashburn.camp/event-2/goose-creek-district-roundtable-47/
LOCATION:Leesburg United Methodist Church\,107 W Market St\,Leesburg\,VA\,20176\, 1 W Market St\, United States
END:VEVENT
BEGIN:VEVENT
DTSTART;TZID=America/New_York:20221214T193000
DTEND;TZID=America/New_York:20221214T203000
DTSTAMP:20260425T083633
CREATED:20201215T055728Z
LAST-MODIFIED:20220818T084837Z
UID:6815-1671046200-1671049800@troop58ashburn.camp
SUMMARY:Order of the Arrow meeting
DESCRIPTION:
URL:https://troop58ashburn.camp/event-2/order-of-the-arrow-meeting-51/
LOCATION:Leesburg United Methodist Church\,107 W Market St\,Leesburg\,VA\,20176\, 1 W Market St\, United States
END:VEVENT
BEGIN:VEVENT
DTSTART;TZID=America/New_York:20221213T193000
DTEND;TZID=America/New_York:20221213T210000
DTSTAMP:20260425T083633
CREATED:20220104T225247Z
LAST-MODIFIED:20220818T084837Z
UID:7165-1670959800-1670965200@troop58ashburn.camp
SUMMARY:Troop Meeting
DESCRIPTION:Weekly (except the first Tuesday of each month) meeting of Troop 58.
URL:https://troop58ashburn.camp/event-2/troop-meeting-191/
LOCATION:Ashburn Volunteer Fire and Rescue Department\,20688 Ashburn Road\,Ashburn\,VA\,20147\, United States
END:VEVENT
BEGIN:VEVENT
DTSTART;TZID=America/New_York:20221206T193000
DTEND;TZID=America/New_York:20221206T210000
DTSTAMP:20260425T083633
CREATED:20220104T225246Z
LAST-MODIFIED:20220515T152057Z
UID:7164-1670355000-1670360400@troop58ashburn.camp
SUMMARY:Troop Meeting
DESCRIPTION:Weekly (except the first Tuesday of each month) meeting of Troop 58. \n \nTo attend virtually: \nhttps://us02web.zoom.us/j/83426091374?pwd=REIraWFpQUFBU3orV0ExcmoyRUlaUT09 \nMeeting ID: 834 2609 1374 \nPasscode: 074958
URL:https://troop58ashburn.camp/event-2/troop-meeting-190/
LOCATION:Ashburn Volunteer Fire and Rescue Department\,20688 Ashburn Road\,Ashburn\,VA\,20147\, United States
END:VEVENT
BEGIN:VEVENT
DTSTART;TZID=America/New_York:20221206T191500
DTEND;TZID=America/New_York:20221206T203000
DTSTAMP:20260425T083633
CREATED:20220104T225246Z
LAST-MODIFIED:20220818T084837Z
UID:7163-1670354100-1670358600@troop58ashburn.camp
SUMMARY:PLC Meeting
DESCRIPTION:Our monthly PLC meeting.  Meets the first Tuesday of each month.  
URL:https://troop58ashburn.camp/event-2/plc-meeting-45/
LOCATION:Ashburn Volunteer Fire and Rescue Department\,20688 Ashburn Road\,Ashburn\,VA\,20147\, United States
END:VEVENT
BEGIN:VEVENT
DTSTART;TZID=America/New_York:20221203T210000
DTEND;TZID=America/New_York:20221204T080000
DTSTAMP:20260425T083633
CREATED:20220104T225246Z
LAST-MODIFIED:20220818T084837Z
UID:7162-1670101200-1670140800@troop58ashburn.camp
SUMMARY:Lock-in
DESCRIPTION:Troop 58’s monthly campout; details provided as we get closer to each trip!
URL:https://troop58ashburn.camp/event-2/lock-in/
LOCATION:VA
END:VEVENT
BEGIN:VEVENT
DTSTART;TZID=America/New_York:20221129T193000
DTEND;TZID=America/New_York:20221129T210000
DTSTAMP:20260425T083633
CREATED:20220104T225246Z
LAST-MODIFIED:20220818T084837Z
UID:7161-1669750200-1669755600@troop58ashburn.camp
SUMMARY:Troop Meeting
DESCRIPTION:Weekly (except the first Tuesday of each month) meeting of Troop 58.
URL:https://troop58ashburn.camp/event-2/troop-meeting-189/
LOCATION:Ashburn Volunteer Fire and Rescue Department\,20688 Ashburn Road\,Ashburn\,VA\,20147\, United States
END:VEVENT
BEGIN:VEVENT
DTSTART;TZID=America/New_York:20221122T193000
DTEND;TZID=America/New_York:20221122T210000
DTSTAMP:20260425T083633
CREATED:20220104T225246Z
LAST-MODIFIED:20220818T084837Z
UID:7160-1669145400-1669150800@troop58ashburn.camp
SUMMARY:Troop Meeting
DESCRIPTION:Weekly (except the first Tuesday of each month) meeting of Troop 58.
URL:https://troop58ashburn.camp/event-2/troop-meeting-188/
LOCATION:Ashburn Volunteer Fire and Rescue Department\,20688 Ashburn Road\,Ashburn\,VA\,20147\, United States
END:VEVENT
BEGIN:VEVENT
DTSTART;TZID=America/New_York:20221118T173000
DTEND;TZID=America/New_York:20221120T100000
DTSTAMP:20260425T083633
CREATED:20220104T225245Z
LAST-MODIFIED:20220818T084836Z
UID:7159-1668792600-1668938400@troop58ashburn.camp
SUMMARY:Patrol Challenge Outing
DESCRIPTION:Troop 58’s monthly campout; details provided as we get closer to each trip!
URL:https://troop58ashburn.camp/event-2/patrol-challenge-outing/
LOCATION:VA
END:VEVENT
BEGIN:VEVENT
DTSTART;TZID=America/New_York:20221117T193000
DTEND;TZID=America/New_York:20221117T213000
DTSTAMP:20260425T083633
CREATED:20201118T235257Z
LAST-MODIFIED:20210119T202313Z
UID:6748-1668713400-1668720600@troop58ashburn.camp
SUMMARY:ASM meeting
DESCRIPTION:Monthly planning/coordination meeting for the Scoutmaster and ASMs; all Committee Members and other adults are welcome as well.  Location rotates each month.
URL:https://troop58ashburn.camp/event-2/asm-meeting-49/
LOCATION:TBD\, 2560 King Arthur Boulevard\, Lewisville\, TX\, 75056\, United States
END:VEVENT
BEGIN:VEVENT
DTSTART;TZID=America/New_York:20221115T193000
DTEND;TZID=America/New_York:20221115T210000
DTSTAMP:20260425T083633
CREATED:20220104T225245Z
LAST-MODIFIED:20220818T084836Z
UID:7158-1668540600-1668546000@troop58ashburn.camp
SUMMARY:Troop Meeting
DESCRIPTION:Weekly (except the first Tuesday of each month) meeting of Troop 58.
URL:https://troop58ashburn.camp/event-2/troop-meeting-187/
LOCATION:Ashburn Volunteer Fire and Rescue Department\,20688 Ashburn Road\,Ashburn\,VA\,20147\, United States
END:VEVENT
BEGIN:VEVENT
DTSTART;TZID=America/New_York:20221109T193000
DTEND;TZID=America/New_York:20221109T210000
DTSTAMP:20260425T083633
CREATED:20201110T223859Z
LAST-MODIFIED:20220818T084836Z
UID:6681-1668022200-1668027600@troop58ashburn.camp
SUMMARY:Goose Creek District Roundtable
DESCRIPTION:See https://www.ncacbsa.org/goose-creek/roundtable/ for more info.
URL:https://troop58ashburn.camp/event-2/goose-creek-district-roundtable-46/
LOCATION:Leesburg United Methodist Church\,107 W Market St\,Leesburg\,VA\,20176\, 1 W Market St\, United States
END:VEVENT
BEGIN:VEVENT
DTSTART;TZID=America/New_York:20221109T193000
DTEND;TZID=America/New_York:20221109T203000
DTSTAMP:20260425T083633
CREATED:20201110T223859Z
LAST-MODIFIED:20220818T084836Z
UID:6682-1668022200-1668025800@troop58ashburn.camp
SUMMARY:Order of the Arrow meeting
DESCRIPTION:
URL:https://troop58ashburn.camp/event-2/order-of-the-arrow-meeting-50/
LOCATION:Leesburg United Methodist Church\,107 W Market St\,Leesburg\,VA\,20176\, 1 W Market St\, United States
END:VEVENT
BEGIN:VEVENT
DTSTART;TZID=America/New_York:20221108T193000
DTEND;TZID=America/New_York:20221108T210000
DTSTAMP:20260425T083633
CREATED:20220104T225245Z
LAST-MODIFIED:20220818T084836Z
UID:7157-1667935800-1667941200@troop58ashburn.camp
SUMMARY:Troop Meeting
DESCRIPTION:Weekly (except the first Tuesday of each month) meeting of Troop 58.
URL:https://troop58ashburn.camp/event-2/troop-meeting-186/
LOCATION:Ashburn Volunteer Fire and Rescue Department\,20688 Ashburn Road\,Ashburn\,VA\,20147\, United States
END:VEVENT
BEGIN:VEVENT
DTSTART;TZID=America/New_York:20221101T193000
DTEND;TZID=America/New_York:20221101T210000
DTSTAMP:20260425T083633
CREATED:20220104T225244Z
LAST-MODIFIED:20220515T152055Z
UID:7156-1667331000-1667336400@troop58ashburn.camp
SUMMARY:Troop Meeting
DESCRIPTION:Weekly (except the first Tuesday of each month) meeting of Troop 58. \n \nTo attend virtually: \nhttps://us02web.zoom.us/j/83426091374?pwd=REIraWFpQUFBU3orV0ExcmoyRUlaUT09 \nMeeting ID: 834 2609 1374 \nPasscode: 074958
URL:https://troop58ashburn.camp/event-2/troop-meeting-185/
LOCATION:Ashburn Volunteer Fire and Rescue Department\,20688 Ashburn Road\,Ashburn\,VA\,20147\, United States
END:VEVENT
BEGIN:VEVENT
DTSTART;TZID=America/New_York:20221101T191500
DTEND;TZID=America/New_York:20221101T203000
DTSTAMP:20260425T083633
CREATED:20220104T225244Z
LAST-MODIFIED:20220818T084836Z
UID:7155-1667330100-1667334600@troop58ashburn.camp
SUMMARY:PLC Meeting
DESCRIPTION:Our monthly PLC meeting.  Meets the first Tuesday of each month.  
URL:https://troop58ashburn.camp/event-2/plc-meeting-44/
LOCATION:Ashburn Volunteer Fire and Rescue Department\,20688 Ashburn Road\,Ashburn\,VA\,20147\, United States
END:VEVENT
BEGIN:VEVENT
DTSTART;TZID=America/New_York:20221025T193000
DTEND;TZID=America/New_York:20221025T210000
DTSTAMP:20260425T083633
CREATED:20220104T225244Z
LAST-MODIFIED:20220818T084836Z
UID:7154-1666726200-1666731600@troop58ashburn.camp
SUMMARY:Troop Meeting
DESCRIPTION:Weekly (except the first Tuesday of each month) meeting of Troop 58.
URL:https://troop58ashburn.camp/event-2/troop-meeting-184/
LOCATION:Ashburn Volunteer Fire and Rescue Department\,20688 Ashburn Road\,Ashburn\,VA\,20147\, United States
END:VEVENT
BEGIN:VEVENT
DTSTART;TZID=America/New_York:20221021T173000
DTEND;TZID=America/New_York:20221023T110000
DTSTAMP:20260425T083633
CREATED:20220104T225244Z
LAST-MODIFIED:20220818T084835Z
UID:7153-1666373400-1666522800@troop58ashburn.camp
SUMMARY:Biking Campout
DESCRIPTION:Troop 58’s monthly campout; details provided as we get closer to each trip!
URL:https://troop58ashburn.camp/event-2/biking-campout/
LOCATION:VA
END:VEVENT
BEGIN:VEVENT
DTSTART;TZID=America/New_York:20221020T193000
DTEND;TZID=America/New_York:20221020T213000
DTSTAMP:20260425T083633
CREATED:20201020T043845Z
LAST-MODIFIED:20210119T202313Z
UID:6600-1666294200-1666301400@troop58ashburn.camp
SUMMARY:ASM meeting
DESCRIPTION:Monthly planning/coordination meeting for the Scoutmaster and ASMs; all Committee Members and other adults are welcome as well.  Location rotates each month.
URL:https://troop58ashburn.camp/event-2/asm-meeting-48/
LOCATION:TBD\, 2560 King Arthur Boulevard\, Lewisville\, TX\, 75056\, United States
END:VEVENT
BEGIN:VEVENT
DTSTART;TZID=America/New_York:20221018T193000
DTEND;TZID=America/New_York:20221018T210000
DTSTAMP:20260425T083633
CREATED:20220104T225244Z
LAST-MODIFIED:20220818T084835Z
UID:7152-1666121400-1666126800@troop58ashburn.camp
SUMMARY:Troop Meeting
DESCRIPTION:Weekly (except the first Tuesday of each month) meeting of Troop 58.
URL:https://troop58ashburn.camp/event-2/troop-meeting-183/
LOCATION:Ashburn Volunteer Fire and Rescue Department\,20688 Ashburn Road\,Ashburn\,VA\,20147\, United States
END:VEVENT
BEGIN:VEVENT
DTSTART;TZID=America/New_York:20221012T193000
DTEND;TZID=America/New_York:20221012T210000
DTSTAMP:20260425T083633
CREATED:20201012T025503Z
LAST-MODIFIED:20220818T084835Z
UID:6573-1665603000-1665608400@troop58ashburn.camp
SUMMARY:Goose Creek District Roundtable
DESCRIPTION:See https://www.ncacbsa.org/goose-creek/roundtable/ for more info.
URL:https://troop58ashburn.camp/event-2/goose-creek-district-roundtable-45/
LOCATION:Leesburg United Methodist Church\,107 W Market St\,Leesburg\,VA\,20176\, 1 W Market St\, United States
END:VEVENT
BEGIN:VEVENT
DTSTART;TZID=America/New_York:20221012T193000
DTEND;TZID=America/New_York:20221012T203000
DTSTAMP:20260425T083633
CREATED:20201012T025503Z
LAST-MODIFIED:20220818T084835Z
UID:6574-1665603000-1665606600@troop58ashburn.camp
SUMMARY:Order of the Arrow meeting
DESCRIPTION:
URL:https://troop58ashburn.camp/event-2/order-of-the-arrow-meeting-49/
LOCATION:Leesburg United Methodist Church\,107 W Market St\,Leesburg\,VA\,20176\, 1 W Market St\, United States
END:VEVENT
BEGIN:VEVENT
DTSTART;TZID=America/New_York:20221011T193000
DTEND;TZID=America/New_York:20221011T210000
DTSTAMP:20260425T083633
CREATED:20220104T225243Z
LAST-MODIFIED:20220818T084835Z
UID:7151-1665516600-1665522000@troop58ashburn.camp
SUMMARY:Troop Meeting
DESCRIPTION:Weekly (except the first Tuesday of each month) meeting of Troop 58.
URL:https://troop58ashburn.camp/event-2/troop-meeting-182/
LOCATION:Ashburn Volunteer Fire and Rescue Department\,20688 Ashburn Road\,Ashburn\,VA\,20147\, United States
END:VEVENT
BEGIN:VEVENT
DTSTART;TZID=America/New_York:20221009T080000
DTEND;TZID=America/New_York:20221009T140000
DTSTAMP:20260425T083633
CREATED:20220720T191751Z
LAST-MODIFIED:20220818T084835Z
UID:7954-1665302400-1665324000@troop58ashburn.camp
SUMMARY:Service Event: AVFRD’s Open House
DESCRIPTION:Volunteers needed to help support AVFRD’s Annual Open House
URL:https://troop58ashburn.camp/event-2/service-event-avfrds-open-house/
LOCATION:AVFRD\, Founders Hall
END:VEVENT
BEGIN:VEVENT
DTSTART;TZID=America/New_York:20221008T090000
DTEND;TZID=America/New_York:20221008T120000
DTSTAMP:20260425T083633
CREATED:20220720T191751Z
LAST-MODIFIED:20220818T084835Z
UID:7952-1665219600-1665230400@troop58ashburn.camp
SUMMARY:Service Event at AVFRD Founders Hall
DESCRIPTION:Prep for AVDRD’s Open House
URL:https://troop58ashburn.camp/event-2/service-event-at-avfrd-founders-hall/
LOCATION:AVFRD\, Founders Hall
END:VEVENT
BEGIN:VEVENT
DTSTART;TZID=America/New_York:20221004T193000
DTEND;TZID=America/New_York:20221004T210000
DTSTAMP:20260425T083633
CREATED:20220104T225243Z
LAST-MODIFIED:20220515T152054Z
UID:7149-1664911800-1664917200@troop58ashburn.camp
SUMMARY:Troop Meeting
DESCRIPTION:Weekly (except the first Tuesday of each month) meeting of Troop 58. \n \nTo attend virtually: \nhttps://us02web.zoom.us/j/83426091374?pwd=REIraWFpQUFBU3orV0ExcmoyRUlaUT09 \nMeeting ID: 834 2609 1374 \nPasscode: 074958
URL:https://troop58ashburn.camp/event-2/troop-meeting-181/
LOCATION:Ashburn Volunteer Fire and Rescue Department\,20688 Ashburn Road\,Ashburn\,VA\,20147\, United States
END:VEVENT
BEGIN:VEVENT
DTSTART;TZID=America/New_York:20221004T191500
DTEND;TZID=America/New_York:20221004T203000
DTSTAMP:20260425T083633
CREATED:20220104T225243Z
LAST-MODIFIED:20220818T084834Z
UID:7150-1664910900-1664915400@troop58ashburn.camp
SUMMARY:Joint ASM & Committee meeting
DESCRIPTION:Monthly planning/coordination meeting for Committee Members and ASMs.  All adults are welcome to attend as these meetings are a great way to stay updated on what’s happening with the troop.First 30 mins will be joint\, after which groups will split off to discuss more detailed items relevant to their areas.
URL:https://troop58ashburn.camp/event-2/joint-asm-committee-meeting-9/
LOCATION:Ashburn Volunteer Fire and Rescue Department\,20688 Ashburn Road\,Ashburn\,VA\,20147\, United States
END:VEVENT
END:VCALENDAR