BEGIN:VCALENDAR
VERSION:2.0
PRODID:-//Boy Scout Troop 58 - Ashburn, VA - ECPv6.15.20//NONSGML v1.0//EN
CALSCALE:GREGORIAN
METHOD:PUBLISH
X-WR-CALNAME:Boy Scout Troop 58 - Ashburn, VA
X-ORIGINAL-URL:https://troop58ashburn.camp
X-WR-CALDESC:Events for Boy Scout Troop 58 - Ashburn, VA
REFRESH-INTERVAL;VALUE=DURATION:PT1H
X-Robots-Tag:noindex
X-PUBLISHED-TTL:PT1H
BEGIN:VTIMEZONE
TZID:America/New_York
BEGIN:DAYLIGHT
TZOFFSETFROM:-0500
TZOFFSETTO:-0400
TZNAME:EDT
DTSTART:20220313T070000
END:DAYLIGHT
BEGIN:STANDARD
TZOFFSETFROM:-0400
TZOFFSETTO:-0500
TZNAME:EST
DTSTART:20221106T060000
END:STANDARD
BEGIN:DAYLIGHT
TZOFFSETFROM:-0500
TZOFFSETTO:-0400
TZNAME:EDT
DTSTART:20230312T070000
END:DAYLIGHT
BEGIN:STANDARD
TZOFFSETFROM:-0400
TZOFFSETTO:-0500
TZNAME:EST
DTSTART:20231105T060000
END:STANDARD
BEGIN:DAYLIGHT
TZOFFSETFROM:-0500
TZOFFSETTO:-0400
TZNAME:EDT
DTSTART:20240310T070000
END:DAYLIGHT
BEGIN:STANDARD
TZOFFSETFROM:-0400
TZOFFSETTO:-0500
TZNAME:EST
DTSTART:20241103T060000
END:STANDARD
BEGIN:DAYLIGHT
TZOFFSETFROM:-0500
TZOFFSETTO:-0400
TZNAME:EDT
DTSTART:20250309T070000
END:DAYLIGHT
BEGIN:STANDARD
TZOFFSETFROM:-0400
TZOFFSETTO:-0500
TZNAME:EST
DTSTART:20251102T060000
END:STANDARD
END:VTIMEZONE
BEGIN:VEVENT
DTSTART;TZID=America/New_York:20240313T193000
DTEND;TZID=America/New_York:20240313T210000
DTSTAMP:20260425T102642
CREATED:20220313T140157Z
LAST-MODIFIED:20220818T084843Z
UID:7512-1710358200-1710363600@troop58ashburn.camp
SUMMARY:Goose Creek District Roundtable
DESCRIPTION:See https://www.ncacbsa.org/goose-creek/roundtable/ for more info.
URL:https://troop58ashburn.camp/event-2/goose-creek-district-roundtable-64/
LOCATION:Leesburg United Methodist Church\,107 W Market St\,Leesburg\,VA\,20176\, 1 W Market St\, United States
END:VEVENT
BEGIN:VEVENT
DTSTART;TZID=America/New_York:20240313T193000
DTEND;TZID=America/New_York:20240313T203000
DTSTAMP:20260425T102642
CREATED:20220313T140157Z
LAST-MODIFIED:20220818T084843Z
UID:7513-1710358200-1710361800@troop58ashburn.camp
SUMMARY:Order of the Arrow meeting
DESCRIPTION:
URL:https://troop58ashburn.camp/event-2/order-of-the-arrow-meeting-66/
LOCATION:Leesburg United Methodist Church\,107 W Market St\,Leesburg\,VA\,20176\, 1 W Market St\, United States
END:VEVENT
BEGIN:VEVENT
DTSTART;TZID=America/New_York:20240214T193000
DTEND;TZID=America/New_York:20240214T210000
DTSTAMP:20260425T102642
CREATED:20220215T083023Z
LAST-MODIFIED:20220818T084843Z
UID:7432-1707939000-1707944400@troop58ashburn.camp
SUMMARY:Goose Creek District Roundtable
DESCRIPTION:See https://www.ncacbsa.org/goose-creek/roundtable/ for more info.
URL:https://troop58ashburn.camp/event-2/goose-creek-district-roundtable-63/
LOCATION:Leesburg United Methodist Church\,107 W Market St\,Leesburg\,VA\,20176\, 1 W Market St\, United States
END:VEVENT
BEGIN:VEVENT
DTSTART;TZID=America/New_York:20240214T193000
DTEND;TZID=America/New_York:20240214T203000
DTSTAMP:20260425T102642
CREATED:20220215T083023Z
LAST-MODIFIED:20220818T084843Z
UID:7433-1707939000-1707942600@troop58ashburn.camp
SUMMARY:Order of the Arrow meeting
DESCRIPTION:
URL:https://troop58ashburn.camp/event-2/order-of-the-arrow-meeting-65/
LOCATION:Leesburg United Methodist Church\,107 W Market St\,Leesburg\,VA\,20176\, 1 W Market St\, United States
END:VEVENT
BEGIN:VEVENT
DTSTART;TZID=America/New_York:20240110T193000
DTEND;TZID=America/New_York:20240110T210000
DTSTAMP:20260425T102642
CREATED:20220111T004734Z
LAST-MODIFIED:20220818T084842Z
UID:7323-1704915000-1704920400@troop58ashburn.camp
SUMMARY:Goose Creek District Roundtable
DESCRIPTION:See https://www.ncacbsa.org/goose-creek/roundtable/ for more info.
URL:https://troop58ashburn.camp/event-2/goose-creek-district-roundtable-62/
LOCATION:Leesburg United Methodist Church\,107 W Market St\,Leesburg\,VA\,20176\, 1 W Market St\, United States
END:VEVENT
BEGIN:VEVENT
DTSTART;TZID=America/New_York:20240110T193000
DTEND;TZID=America/New_York:20240110T203000
DTSTAMP:20260425T102642
CREATED:20220111T004734Z
LAST-MODIFIED:20220818T084842Z
UID:7324-1704915000-1704918600@troop58ashburn.camp
SUMMARY:Order of the Arrow meeting
DESCRIPTION:
URL:https://troop58ashburn.camp/event-2/order-of-the-arrow-meeting-64/
LOCATION:Leesburg United Methodist Church\,107 W Market St\,Leesburg\,VA\,20176\, 1 W Market St\, United States
END:VEVENT
BEGIN:VEVENT
DTSTART;TZID=America/New_York:20231213T193000
DTEND;TZID=America/New_York:20231213T210000
DTSTAMP:20260425T102642
CREATED:20220104T225252Z
LAST-MODIFIED:20220818T084842Z
UID:7187-1702495800-1702501200@troop58ashburn.camp
SUMMARY:Goose Creek District Roundtable
DESCRIPTION:See https://www.ncacbsa.org/goose-creek/roundtable/ for more info.
URL:https://troop58ashburn.camp/event-2/goose-creek-district-roundtable-61/
LOCATION:Leesburg United Methodist Church\,107 W Market St\,Leesburg\,VA\,20176\, 1 W Market St\, United States
END:VEVENT
BEGIN:VEVENT
DTSTART;TZID=America/New_York:20231213T193000
DTEND;TZID=America/New_York:20231213T203000
DTSTAMP:20260425T102642
CREATED:20220104T225252Z
LAST-MODIFIED:20220818T084842Z
UID:7188-1702495800-1702499400@troop58ashburn.camp
SUMMARY:Order of the Arrow meeting
DESCRIPTION:
URL:https://troop58ashburn.camp/event-2/order-of-the-arrow-meeting-63/
LOCATION:Leesburg United Methodist Church\,107 W Market St\,Leesburg\,VA\,20176\, 1 W Market St\, United States
END:VEVENT
BEGIN:VEVENT
DTSTART;TZID=America/New_York:20231108T193000
DTEND;TZID=America/New_York:20231108T210000
DTSTAMP:20260425T102642
CREATED:20220104T225251Z
LAST-MODIFIED:20220818T084842Z
UID:7185-1699471800-1699477200@troop58ashburn.camp
SUMMARY:Goose Creek District Roundtable
DESCRIPTION:See https://www.ncacbsa.org/goose-creek/roundtable/ for more info.
URL:https://troop58ashburn.camp/event-2/goose-creek-district-roundtable-60/
LOCATION:Leesburg United Methodist Church\,107 W Market St\,Leesburg\,VA\,20176\, 1 W Market St\, United States
END:VEVENT
BEGIN:VEVENT
DTSTART;TZID=America/New_York:20231108T193000
DTEND;TZID=America/New_York:20231108T203000
DTSTAMP:20260425T102642
CREATED:20220104T225252Z
LAST-MODIFIED:20220818T084842Z
UID:7186-1699471800-1699475400@troop58ashburn.camp
SUMMARY:Order of the Arrow meeting
DESCRIPTION:
URL:https://troop58ashburn.camp/event-2/order-of-the-arrow-meeting-62/
LOCATION:Leesburg United Methodist Church\,107 W Market St\,Leesburg\,VA\,20176\, 1 W Market St\, United States
END:VEVENT
BEGIN:VEVENT
DTSTART;TZID=America/New_York:20231011T193000
DTEND;TZID=America/New_York:20231011T210000
DTSTAMP:20260425T102642
CREATED:20220104T225251Z
LAST-MODIFIED:20220818T084841Z
UID:7183-1697052600-1697058000@troop58ashburn.camp
SUMMARY:Goose Creek District Roundtable
DESCRIPTION:See https://www.ncacbsa.org/goose-creek/roundtable/ for more info.
URL:https://troop58ashburn.camp/event-2/goose-creek-district-roundtable-59/
LOCATION:Leesburg United Methodist Church\,107 W Market St\,Leesburg\,VA\,20176\, 1 W Market St\, United States
END:VEVENT
BEGIN:VEVENT
DTSTART;TZID=America/New_York:20231011T193000
DTEND;TZID=America/New_York:20231011T203000
DTSTAMP:20260425T102642
CREATED:20220104T225251Z
LAST-MODIFIED:20220818T084841Z
UID:7184-1697052600-1697056200@troop58ashburn.camp
SUMMARY:Order of the Arrow meeting
DESCRIPTION:
URL:https://troop58ashburn.camp/event-2/order-of-the-arrow-meeting-61/
LOCATION:Leesburg United Methodist Church\,107 W Market St\,Leesburg\,VA\,20176\, 1 W Market St\, United States
END:VEVENT
BEGIN:VEVENT
DTSTART;TZID=America/New_York:20230913T193000
DTEND;TZID=America/New_York:20230913T210000
DTSTAMP:20260425T102642
CREATED:20220104T225250Z
LAST-MODIFIED:20220818T084841Z
UID:7181-1694633400-1694638800@troop58ashburn.camp
SUMMARY:Goose Creek District Roundtable
DESCRIPTION:See https://www.ncacbsa.org/goose-creek/roundtable/ for more info.
URL:https://troop58ashburn.camp/event-2/goose-creek-district-roundtable-58/
LOCATION:Leesburg United Methodist Church\,107 W Market St\,Leesburg\,VA\,20176\, 1 W Market St\, United States
END:VEVENT
BEGIN:VEVENT
DTSTART;TZID=America/New_York:20230913T193000
DTEND;TZID=America/New_York:20230913T203000
DTSTAMP:20260425T102642
CREATED:20220104T225251Z
LAST-MODIFIED:20220818T084841Z
UID:7182-1694633400-1694637000@troop58ashburn.camp
SUMMARY:Order of the Arrow meeting
DESCRIPTION:
URL:https://troop58ashburn.camp/event-2/order-of-the-arrow-meeting-60/
LOCATION:Leesburg United Methodist Church\,107 W Market St\,Leesburg\,VA\,20176\, 1 W Market St\, United States
END:VEVENT
BEGIN:VEVENT
DTSTART;TZID=America/New_York:20230809T193000
DTEND;TZID=America/New_York:20230809T210000
DTSTAMP:20260425T102642
CREATED:20220104T225250Z
LAST-MODIFIED:20220818T084840Z
UID:7180-1691609400-1691614800@troop58ashburn.camp
SUMMARY:Goose Creek District Roundtable
DESCRIPTION:See https://www.ncacbsa.org/goose-creek/roundtable/ for more info.
URL:https://troop58ashburn.camp/event-2/goose-creek-district-roundtable-57/
LOCATION:Leesburg United Methodist Church\,107 W Market St\,Leesburg\,VA\,20176\, 1 W Market St\, United States
END:VEVENT
BEGIN:VEVENT
DTSTART;TZID=America/New_York:20230809T193000
DTEND;TZID=America/New_York:20230809T203000
DTSTAMP:20260425T102642
CREATED:20220104T225250Z
LAST-MODIFIED:20220818T084841Z
UID:7179-1691609400-1691613000@troop58ashburn.camp
SUMMARY:Order of the Arrow meeting
DESCRIPTION:
URL:https://troop58ashburn.camp/event-2/order-of-the-arrow-meeting-59/
LOCATION:Leesburg United Methodist Church\,107 W Market St\,Leesburg\,VA\,20176\, 1 W Market St\, United States
END:VEVENT
BEGIN:VEVENT
DTSTART;VALUE=DATE:20230727
DTEND;VALUE=DATE:20230805
DTSTAMP:20260425T102642
CREATED:20220530T221255Z
LAST-MODIFIED:20220818T084840Z
UID:7774-1690416000-1691193599@troop58ashburn.camp
SUMMARY:Northern Tier
DESCRIPTION:More details to come
URL:https://troop58ashburn.camp/event-2/northern-tier/
LOCATION:Northern Tier\, Ely\, MN\, United States
END:VEVENT
BEGIN:VEVENT
DTSTART;TZID=America/New_York:20230712T193000
DTEND;TZID=America/New_York:20230712T210000
DTSTAMP:20260425T102642
CREATED:20220104T225250Z
LAST-MODIFIED:20220818T084840Z
UID:7177-1689190200-1689195600@troop58ashburn.camp
SUMMARY:Goose Creek District Roundtable
DESCRIPTION:See https://www.ncacbsa.org/goose-creek/roundtable/ for more info.
URL:https://troop58ashburn.camp/event-2/goose-creek-district-roundtable-56/
LOCATION:Leesburg United Methodist Church\,107 W Market St\,Leesburg\,VA\,20176\, 1 W Market St\, United States
END:VEVENT
BEGIN:VEVENT
DTSTART;TZID=America/New_York:20230712T193000
DTEND;TZID=America/New_York:20230712T203000
DTSTAMP:20260425T102642
CREATED:20220104T225250Z
LAST-MODIFIED:20220818T084840Z
UID:7178-1689190200-1689193800@troop58ashburn.camp
SUMMARY:Order of the Arrow meeting
DESCRIPTION:
URL:https://troop58ashburn.camp/event-2/order-of-the-arrow-meeting-58/
LOCATION:Leesburg United Methodist Church\,107 W Market St\,Leesburg\,VA\,20176\, 1 W Market St\, United States
END:VEVENT
BEGIN:VEVENT
DTSTART;TZID=America/New_York:20230614T193000
DTEND;TZID=America/New_York:20230614T210000
DTSTAMP:20260425T102642
CREATED:20220104T225249Z
LAST-MODIFIED:20220818T084840Z
UID:7175-1686771000-1686776400@troop58ashburn.camp
SUMMARY:Goose Creek District Roundtable
DESCRIPTION:See https://www.ncacbsa.org/goose-creek/roundtable/ for more info.
URL:https://troop58ashburn.camp/event-2/goose-creek-district-roundtable-55/
LOCATION:Leesburg United Methodist Church\,107 W Market St\,Leesburg\,VA\,20176\, 1 W Market St\, United States
END:VEVENT
BEGIN:VEVENT
DTSTART;TZID=America/New_York:20230614T193000
DTEND;TZID=America/New_York:20230614T203000
DTSTAMP:20260425T102642
CREATED:20220104T225249Z
LAST-MODIFIED:20220818T084840Z
UID:7176-1686771000-1686774600@troop58ashburn.camp
SUMMARY:Order of the Arrow meeting
DESCRIPTION:
URL:https://troop58ashburn.camp/event-2/order-of-the-arrow-meeting-57/
LOCATION:Leesburg United Methodist Church\,107 W Market St\,Leesburg\,VA\,20176\, 1 W Market St\, United States
END:VEVENT
BEGIN:VEVENT
DTSTART;TZID=America/New_York:20230510T193000
DTEND;TZID=America/New_York:20230510T210000
DTSTAMP:20260425T102642
CREATED:20220104T225249Z
LAST-MODIFIED:20220818T084839Z
UID:7173-1683747000-1683752400@troop58ashburn.camp
SUMMARY:Goose Creek District Roundtable
DESCRIPTION:See https://www.ncacbsa.org/goose-creek/roundtable/ for more info.
URL:https://troop58ashburn.camp/event-2/goose-creek-district-roundtable-54/
LOCATION:Leesburg United Methodist Church\,107 W Market St\,Leesburg\,VA\,20176\, 1 W Market St\, United States
END:VEVENT
BEGIN:VEVENT
DTSTART;TZID=America/New_York:20230510T193000
DTEND;TZID=America/New_York:20230510T203000
DTSTAMP:20260425T102642
CREATED:20220104T225249Z
LAST-MODIFIED:20220818T084839Z
UID:7174-1683747000-1683750600@troop58ashburn.camp
SUMMARY:Order of the Arrow meeting
DESCRIPTION:
URL:https://troop58ashburn.camp/event-2/order-of-the-arrow-meeting-56/
LOCATION:Leesburg United Methodist Church\,107 W Market St\,Leesburg\,VA\,20176\, 1 W Market St\, United States
END:VEVENT
BEGIN:VEVENT
DTSTART;TZID=America/New_York:20230412T193000
DTEND;TZID=America/New_York:20230412T210000
DTSTAMP:20260425T102642
CREATED:20220104T225248Z
LAST-MODIFIED:20220818T084839Z
UID:7171-1681327800-1681333200@troop58ashburn.camp
SUMMARY:Goose Creek District Roundtable
DESCRIPTION:See https://www.ncacbsa.org/goose-creek/roundtable/ for more info.
URL:https://troop58ashburn.camp/event-2/goose-creek-district-roundtable-53/
LOCATION:Leesburg United Methodist Church\,107 W Market St\,Leesburg\,VA\,20176\, 1 W Market St\, United States
END:VEVENT
BEGIN:VEVENT
DTSTART;TZID=America/New_York:20230412T193000
DTEND;TZID=America/New_York:20230412T203000
DTSTAMP:20260425T102642
CREATED:20220104T225249Z
LAST-MODIFIED:20220818T084839Z
UID:7172-1681327800-1681331400@troop58ashburn.camp
SUMMARY:Order of the Arrow meeting
DESCRIPTION:
URL:https://troop58ashburn.camp/event-2/order-of-the-arrow-meeting-55/
LOCATION:Leesburg United Methodist Church\,107 W Market St\,Leesburg\,VA\,20176\, 1 W Market St\, United States
END:VEVENT
BEGIN:VEVENT
DTSTART;TZID=America/New_York:20230308T193000
DTEND;TZID=America/New_York:20230308T210000
DTSTAMP:20260425T102642
CREATED:20220104T225248Z
LAST-MODIFIED:20220818T084838Z
UID:7169-1678303800-1678309200@troop58ashburn.camp
SUMMARY:Goose Creek District Roundtable
DESCRIPTION:See https://www.ncacbsa.org/goose-creek/roundtable/ for more info.
URL:https://troop58ashburn.camp/event-2/goose-creek-district-roundtable-52/
LOCATION:Leesburg United Methodist Church\,107 W Market St\,Leesburg\,VA\,20176\, 1 W Market St\, United States
END:VEVENT
BEGIN:VEVENT
DTSTART;TZID=America/New_York:20230308T193000
DTEND;TZID=America/New_York:20230308T203000
DTSTAMP:20260425T102642
CREATED:20220104T225248Z
LAST-MODIFIED:20220818T084839Z
UID:7170-1678303800-1678307400@troop58ashburn.camp
SUMMARY:Order of the Arrow meeting
DESCRIPTION:
URL:https://troop58ashburn.camp/event-2/order-of-the-arrow-meeting-54/
LOCATION:Leesburg United Methodist Church\,107 W Market St\,Leesburg\,VA\,20176\, 1 W Market St\, United States
END:VEVENT
BEGIN:VEVENT
DTSTART;TZID=America/New_York:20230208T193000
DTEND;TZID=America/New_York:20230208T210000
DTSTAMP:20260425T102642
CREATED:20220104T225248Z
LAST-MODIFIED:20220818T084838Z
UID:7167-1675884600-1675890000@troop58ashburn.camp
SUMMARY:Goose Creek District Roundtable
DESCRIPTION:See https://www.ncacbsa.org/goose-creek/roundtable/ for more info.
URL:https://troop58ashburn.camp/event-2/goose-creek-district-roundtable-51/
LOCATION:Leesburg United Methodist Church\,107 W Market St\,Leesburg\,VA\,20176\, 1 W Market St\, United States
END:VEVENT
BEGIN:VEVENT
DTSTART;TZID=America/New_York:20230208T193000
DTEND;TZID=America/New_York:20230208T203000
DTSTAMP:20260425T102642
CREATED:20220104T225248Z
LAST-MODIFIED:20220818T084838Z
UID:7168-1675884600-1675888200@troop58ashburn.camp
SUMMARY:Order of the Arrow meeting
DESCRIPTION:
URL:https://troop58ashburn.camp/event-2/order-of-the-arrow-meeting-53/
LOCATION:Leesburg United Methodist Church\,107 W Market St\,Leesburg\,VA\,20176\, 1 W Market St\, United States
END:VEVENT
BEGIN:VEVENT
DTSTART;TZID=America/New_York:20230111T193000
DTEND;TZID=America/New_York:20230111T210000
DTSTAMP:20260425T102642
CREATED:20210112T002208Z
LAST-MODIFIED:20220818T084838Z
UID:6932-1673465400-1673470800@troop58ashburn.camp
SUMMARY:Goose Creek District Roundtable
DESCRIPTION:See https://www.ncacbsa.org/goose-creek/roundtable/ for more info.
URL:https://troop58ashburn.camp/event-2/goose-creek-district-roundtable-50/
LOCATION:Leesburg United Methodist Church\,107 W Market St\,Leesburg\,VA\,20176\, 1 W Market St\, United States
END:VEVENT
END:VCALENDAR