BEGIN:VCALENDAR
VERSION:2.0
PRODID:-//Boy Scout Troop 58 - Ashburn, VA - ECPv6.15.20//NONSGML v1.0//EN
CALSCALE:GREGORIAN
METHOD:PUBLISH
X-WR-CALNAME:Boy Scout Troop 58 - Ashburn, VA
X-ORIGINAL-URL:https://troop58ashburn.camp
X-WR-CALDESC:Events for Boy Scout Troop 58 - Ashburn, VA
REFRESH-INTERVAL;VALUE=DURATION:PT1H
X-Robots-Tag:noindex
X-PUBLISHED-TTL:PT1H
BEGIN:VTIMEZONE
TZID:America/New_York
BEGIN:DAYLIGHT
TZOFFSETFROM:-0500
TZOFFSETTO:-0400
TZNAME:EDT
DTSTART:20230312T070000
END:DAYLIGHT
BEGIN:STANDARD
TZOFFSETFROM:-0400
TZOFFSETTO:-0500
TZNAME:EST
DTSTART:20231105T060000
END:STANDARD
BEGIN:DAYLIGHT
TZOFFSETFROM:-0500
TZOFFSETTO:-0400
TZNAME:EDT
DTSTART:20240310T070000
END:DAYLIGHT
BEGIN:STANDARD
TZOFFSETFROM:-0400
TZOFFSETTO:-0500
TZNAME:EST
DTSTART:20241103T060000
END:STANDARD
BEGIN:DAYLIGHT
TZOFFSETFROM:-0500
TZOFFSETTO:-0400
TZNAME:EDT
DTSTART:20250309T070000
END:DAYLIGHT
BEGIN:STANDARD
TZOFFSETFROM:-0400
TZOFFSETTO:-0500
TZNAME:EST
DTSTART:20251102T060000
END:STANDARD
END:VTIMEZONE
BEGIN:VEVENT
DTSTART;TZID=America/New_York:20240615T070000
DTEND;TZID=America/New_York:20240616T120000
DTSTAMP:20260425T100818
CREATED:20240506T211743Z
LAST-MODIFIED:20240615T174535Z
UID:8107-1718434800-1718539200@troop58ashburn.camp
SUMMARY:IOLS - Lorton\, VA
DESCRIPTION:IOLS – Colonial District – https://scoutingevent.com/082-81750-197082
URL:https://troop58ashburn.camp/event-2/iols-lorton-va/
LOCATION:Gunston Hall
END:VEVENT
BEGIN:VEVENT
DTSTART;TZID=America/New_York:20240612T193000
DTEND;TZID=America/New_York:20240612T210000
DTSTAMP:20260425T100818
CREATED:20220612T031314Z
LAST-MODIFIED:20240611T211605Z
UID:7798-1718220600-1718226000@troop58ashburn.camp
SUMMARY:Goose Creek District Roundtable
DESCRIPTION:See https://www.ncacbsa.org/goose-creek/roundtable/ for more info.
URL:https://troop58ashburn.camp/event-2/goose-creek-district-roundtable-67/
LOCATION:Leesburg United Methodist Church\,107 W Market St\,Leesburg\,VA\,20176\, 1 W Market St\, United States
END:VEVENT
BEGIN:VEVENT
DTSTART;TZID=America/New_York:20240612T193000
DTEND;TZID=America/New_York:20240612T203000
DTSTAMP:20260425T100818
CREATED:20220612T031315Z
LAST-MODIFIED:20240611T211605Z
UID:7799-1718220600-1718224200@troop58ashburn.camp
SUMMARY:Order of the Arrow meeting
DESCRIPTION:
URL:https://troop58ashburn.camp/event-2/order-of-the-arrow-meeting-69/
LOCATION:Leesburg United Methodist Church\,107 W Market St\,Leesburg\,VA\,20176\, 1 W Market St\, United States
END:VEVENT
BEGIN:VEVENT
DTSTART;TZID=America/New_York:20240611T193000
DTEND;TZID=America/New_York:20240611T210000
DTSTAMP:20260425T100818
CREATED:20240506T211742Z
LAST-MODIFIED:20240611T211605Z
UID:8103-1718134200-1718139600@troop58ashburn.camp
SUMMARY:Celebration:  T58 is 10 years old/ Senior Farewell / T58 Alumni Reunion
DESCRIPTION:In lieu of our weekly troop meeting\, we will celebrate the troop’s 10th year since its founding\, our departing seniors\, and we will of course welcome back any returning T58 alumni for an evening of fun filled with skits\, songs\, campfire shenanigans\, and of course cake!Please bring a lawn chair\, bug spray\, headlamp\, and water bottle.See you there! 
URL:https://troop58ashburn.camp/event-2/celebration-t58-is-10-years-old-senior-farewell-t58-alumni-reunion/
LOCATION:Mr. Hall’s Backyard\, 21226 Windmill Drive\, Ashburn\, VA\, 20147
END:VEVENT
BEGIN:VEVENT
DTSTART;TZID=America/New_York:20240611T193000
DTEND;TZID=America/New_York:20240611T210000
DTSTAMP:20260425T100818
CREATED:20240506T211742Z
LAST-MODIFIED:20240611T211605Z
UID:8104-1718134200-1718139600@troop58ashburn.camp
SUMMARY:NO Troop Meeting-Annual Celebration at Mr. Hall’s House
DESCRIPTION:No troop meeting\, but please make sure to attend the annual celebration!
URL:https://troop58ashburn.camp/event-2/no-troop-meeting-annual-celebration-at-mr-halls-house/
LOCATION:Ashburn Volunteer Fire and Rescue Department\,20688 Ashburn Road\,Ashburn\,VA\,20147\, United States
END:VEVENT
BEGIN:VEVENT
DTSTART;TZID=America/New_York:20240611T190000
DTEND;TZID=America/New_York:20240611T193000
DTSTAMP:20260425T100818
CREATED:20240606T203755Z
LAST-MODIFIED:20240611T211604Z
UID:8413-1718132400-1718134200@troop58ashburn.camp
SUMMARY:Brief meeting for adults attending summer camp
DESCRIPTION:If you are attending summer camp\, please make every attempt to attend this brief meeting. We have a few topics that we need to cover since summer camp is quickly approaching.  Also\, please RSVP so we know you have received this. The following adults are attending:Laura ButlerSean MurphyAlaric PietteChat SinsenaRobert WinterMichelle Khalili YuhasThank you very much.  
URL:https://troop58ashburn.camp/event-2/brief-meeting-for-adults-attending-summer-camp/
LOCATION:Mr. Hall’s Backyard\, 21226 Windmill Drive\, Ashburn\, VA\, 20147
END:VEVENT
BEGIN:VEVENT
DTSTART;TZID=America/New_York:20240611T183000
DTEND;TZID=America/New_York:20240611T193000
DTSTAMP:20260425T100818
CREATED:20240602T200357Z
LAST-MODIFIED:20240611T211604Z
UID:8378-1718130600-1718134200@troop58ashburn.camp
SUMMARY:Eagle Alumni Gathering
DESCRIPTION:
URL:https://troop58ashburn.camp/event-2/eagle-alumni-gathering/
LOCATION:21226 Windmill Drive
END:VEVENT
BEGIN:VEVENT
DTSTART;TZID=America/New_York:20240608T140000
DTEND;TZID=America/New_York:20240609T160000
DTSTAMP:20260425T100818
CREATED:20240506T211742Z
LAST-MODIFIED:20240608T204631Z
UID:8101-1717855200-1717948800@troop58ashburn.camp
SUMMARY:Philmont Crew Training Hike/Overnight
DESCRIPTION:For our June training hike/overnight (Saturday June 8)\, we will be hiking a portion of the AT (from Ashby Gap to the Rod Hollow Shelter area).  https://www.alltrails.com/trail/us/virginia/ashby-gap-to-rod-hollow-shelter?u=i&sh=mm6arjWe will be getting a later start that Saturday (around 2pm-ish) and hiking approximately 4 miles in before setting up camp.  Once we set up camp\, we have the option of hiking a bit further into the roller coaster portion of the AT.  You should be hiking with a full pack for this outing.  Check your Guidebook (p. 20) for an idea of what to pack.  You should also be packing between 3 and 4 liters of water.  You will need a tent buddy – with 9 scouts\, we will have one group of 3.  See Grant’s text about this.  We will provide dinner\, breakfast\, and some snacks.  
URL:https://troop58ashburn.camp/event-2/philmont-crew-training/
LOCATION:VA
END:VEVENT
BEGIN:VEVENT
DTSTART;TZID=America/New_York:20240608T090000
DTEND;TZID=America/New_York:20240608T150000
DTSTAMP:20260425T100818
CREATED:20240605T202726Z
LAST-MODIFIED:20240607T204843Z
UID:8400-1717837200-1717858800@troop58ashburn.camp
SUMMARY:Service: Cedar Lane Spring Carnival
DESCRIPTION:The Cedar Lane Spring Carnival will be held on Saturday\, June 8th from 11:00 AM – 2:00 PM. This is sure to be the biggest event of the school year!!! That being said\, the PTA cannot put on an event of this size without volunteers. The PTA is in need of volunteers to run carnival games\, supervise common areas\, and/or assist with crowd control. Responsible middle and high school students are welcome. Set up and clean up assistance is also needed. Thank you for your help in making this a successful event!More information and registration can be found here: https://www.signupgenius.com/go/10C0B4EADAE23A6FCC16-49790423-cedar#/Although this is not an official troop-organized service event\, it is approved for anyone who attends to get service hours toward rank advancement. 
URL:https://troop58ashburn.camp/event-2/service-cedar-lane-spring-carnival/
LOCATION:Cedar Lane Elementary School
END:VEVENT
BEGIN:VEVENT
DTSTART;TZID=America/New_York:20240607T180000
DTEND;TZID=America/New_York:20240607T183000
DTSTAMP:20260425T100818
CREATED:20240509T234227Z
LAST-MODIFIED:20240607T204843Z
UID:8310-1717783200-1717785000@troop58ashburn.camp
SUMMARY:Make-up Swim Test
DESCRIPTION:For anyone who missed the prior two swim tests\, there will be one last one on Friday\, 6/7 @6pm. Please RSVP and arrive 10 minutes early\, so you can pay the $5 or $7 entry fee (depending on type of resident you are) and be ready to jump in the pool promptly at 6pm.As a reminder\, this is for anyone going to Summer camp\, Lake Campout\, and/or Sea Base. Pleaae contact Peyton or Ms. Khalili with any questions. 
URL:https://troop58ashburn.camp/event-2/make-up-swim-test-2/
LOCATION:Ida Lee Rec Center Pool
END:VEVENT
BEGIN:VEVENT
DTSTART;TZID=America/New_York:20240604T210000
DTEND;TZID=America/New_York:20240604T220000
DTSTAMP:20260425T100818
CREATED:20240506T211742Z
LAST-MODIFIED:20240604T201525Z
UID:8105-1717534800-1717538400@troop58ashburn.camp
SUMMARY:Set tables & chairs for Founders Hall (2nd & 4th Tuesdays)
DESCRIPTION:Request from Ms. Christie @ Founders HallPlease set out 4 rectangular tables + 15 chairs at the end of our weekly Scout meeting for group that rents Founders Hall on 2nd & 4th WednesdaysGiving back to Founders Hall for providing space for our weekly Troop meetings
URL:https://troop58ashburn.camp/event-2/set-tables-chairs-for-founders-hall-2nd-4th-tuesdays-3/
LOCATION:Ashburn Volunteer Fire and Rescue Department\, 20688 Ashburn Rd\, Ashburn\, VA\, United States
END:VEVENT
BEGIN:VEVENT
DTSTART;TZID=America/New_York:20240604T193000
DTEND;TZID=America/New_York:20240604T210000
DTSTAMP:20260425T100818
CREATED:20240603T201507Z
LAST-MODIFIED:20240604T201525Z
UID:8383-1717529400-1717534800@troop58ashburn.camp
SUMMARY:Troop Committee Meeting
DESCRIPTION:Committee Meeting. Agenda to follow.
URL:https://troop58ashburn.camp/event-2/troop-committee-meeting/
LOCATION:Ashburn Volunteer Fire and Rescue Department\, 20688 Ashburn Rd\, Ashburn\, VA\, United States
END:VEVENT
BEGIN:VEVENT
DTSTART;TZID=America/New_York:20240604T193000
DTEND;TZID=America/New_York:20240604T210000
DTSTAMP:20260425T100818
CREATED:20240506T211742Z
LAST-MODIFIED:20240517T174531Z
UID:8100-1717529400-1717534800@troop58ashburn.camp
SUMMARY:Troop Meeting
DESCRIPTION:This is our Troop Meeting.  We meet every week except for the first Tuesday of each month\, which is when the PLC meets.  
URL:https://troop58ashburn.camp/event-2/troop-meeting-194/
LOCATION:Ashburn Volunteer Fire and Rescue Department\,20688 Ashburn Road\,Ashburn\,VA\,20147\, United States
END:VEVENT
BEGIN:VEVENT
DTSTART;TZID=America/New_York:20240604T193000
DTEND;TZID=America/New_York:20240604T203000
DTSTAMP:20260425T100818
CREATED:20240603T201507Z
LAST-MODIFIED:20240604T201525Z
UID:8382-1717529400-1717533000@troop58ashburn.camp
SUMMARY:ASM meeting
DESCRIPTION:ASM meeting during PLC to discuss the upcoming summer plan. Thank you all! 
URL:https://troop58ashburn.camp/event-2/asm-meeting-53/
LOCATION:VA
END:VEVENT
BEGIN:VEVENT
DTSTART;TZID=America/New_York:20240604T193000
DTEND;TZID=America/New_York:20240604T203000
DTSTAMP:20260425T100818
CREATED:20240506T211741Z
LAST-MODIFIED:20240604T201525Z
UID:8099-1717529400-1717533000@troop58ashburn.camp
SUMMARY:PLC meeting
DESCRIPTION:This is the monthly meeting for PLC members only.  
URL:https://troop58ashburn.camp/event-2/plc-meeting-47/
LOCATION:Ashburn Volunteer Fire and Rescue Department\,20688 Ashburn Road\,Ashburn\,VA\,20147\, United States
END:VEVENT
BEGIN:VEVENT
DTSTART;TZID=America/New_York:20240603T193000
DTEND;TZID=America/New_York:20240603T210000
DTSTAMP:20260425T100818
CREATED:20240515T174005Z
LAST-MODIFIED:20240603T201521Z
UID:8331-1717443000-1717448400@troop58ashburn.camp
SUMMARY:Eagle Board of Review - G.Khalili
DESCRIPTION:NOTE: Change of venue to Ashburn Library
URL:https://troop58ashburn.camp/event-2/eagle-board-of-review-g-khalili/
LOCATION:Ashburn Library
END:VEVENT
BEGIN:VEVENT
DTSTART;TZID=America/New_York:20240601T104500
DTEND;TZID=America/New_York:20240601T120000
DTSTAMP:20260425T100818
CREATED:20240506T211741Z
LAST-MODIFIED:20240531T193412Z
UID:8098-1717238700-1717243200@troop58ashburn.camp
SUMMARY:Service: AVFRD 5K Water Station
DESCRIPTION:Volunteer to staff a water station for the AVFRD 5k on June 1st from 10:45 am to 12:15 pm. We will need at least 3-4 scouts to help with this event. Scouts are encouraged to wear their Class As. More information and registration can be found here: https://ashburnfirerescue.org/news-events/5k/
URL:https://troop58ashburn.camp/event-2/service-avfrd-5k-water-station/
LOCATION:VA
END:VEVENT
BEGIN:VEVENT
DTSTART;TZID=America/New_York:20240601T083000
DTEND;TZID=America/New_York:20240601T113000
DTSTAMP:20260425T100818
CREATED:20240506T211741Z
LAST-MODIFIED:20240531T193412Z
UID:8097-1717230600-1717241400@troop58ashburn.camp
SUMMARY:LWC: Work Day at JK Black Oak
DESCRIPTION:Join us for habitat restoration at  JK Black Oak Wildlife Sanctuary in Lucketts. We’ll be working in the 2019 tree planting area\, making and installing cages to protect tree seedlings and saplings. In the work area\, we can expect briars\, ticks and possibly poison ivy.  20 Volunteers Needed (minimum age 16). Registration Required.More information and registration can be found here: https://loudounwildlife.org/event/work-day-jk-black-oak-june/Although this is not an official troop-organized service event\, it is approved for anyone who attends to get service hours toward rank advancement. 
URL:https://troop58ashburn.camp/event-2/lwc-work-day-at-jk-black-oak-2/
LOCATION:VA
END:VEVENT
BEGIN:VEVENT
DTSTART;TZID=America/New_York:20240529T193000
DTEND;TZID=America/New_York:20240529T210000
DTSTAMP:20260425T100818
CREATED:20240506T211741Z
LAST-MODIFIED:20240529T193023Z
UID:8096-1717011000-1717016400@troop58ashburn.camp
SUMMARY:Eagle Board of Review - B.Levine
DESCRIPTION:We will meet at St. David’s
URL:https://troop58ashburn.camp/event-2/eagle-board-of-review-b-levine/
LOCATION:St. David’s Episcopal Church\, 43600 Russel Branch Pkwy\, Ashburn\, VA\, 20147\, United States
END:VEVENT
BEGIN:VEVENT
DTSTART;TZID=America/New_York:20240528T210000
DTEND;TZID=America/New_York:20240528T220000
DTSTAMP:20260425T100818
CREATED:20240506T211741Z
LAST-MODIFIED:20240528T192100Z
UID:8095-1716930000-1716933600@troop58ashburn.camp
SUMMARY:Set tables & chairs for Founders Hall (2nd & 4th Tuesdays)
DESCRIPTION:Request from Ms. Christie @ Founders HallPlease set out 4 rectangular tables + 15 chairs at the end of our weekly Scout meeting for group that rents Founders Hall on 2nd & 4th WednesdaysGiving back to Founders Hall for providing space for our weekly Troop meetings
URL:https://troop58ashburn.camp/event-2/set-tables-chairs-for-founders-hall-2nd-4th-tuesdays-2/
LOCATION:Ashburn Volunteer Fire and Rescue Department\, 20688 Ashburn Rd\, Ashburn\, VA\, United States
END:VEVENT
BEGIN:VEVENT
DTSTART;TZID=America/New_York:20240528T200000
DTEND;TZID=America/New_York:20240528T210000
DTSTAMP:20260425T100818
CREATED:20240514T173633Z
LAST-MODIFIED:20240528T192100Z
UID:8322-1716926400-1716930000@troop58ashburn.camp
SUMMARY:Board of Review - N.Jakka - 2nd Class Rank
DESCRIPTION:
URL:https://troop58ashburn.camp/event-2/board-of-review-n-jakka-2nd-class-rank/
LOCATION:Ashburn Volunteer Fire and Rescue Department\, 20688 Ashburn Rd\, Ashburn\, VA\, United States
END:VEVENT
BEGIN:VEVENT
DTSTART;TZID=America/New_York:20240528T193000
DTEND;TZID=America/New_York:20240528T210000
DTSTAMP:20260425T100818
CREATED:20240506T211740Z
LAST-MODIFIED:20240528T192100Z
UID:8094-1716924600-1716930000@troop58ashburn.camp
SUMMARY:Troop Meeting
DESCRIPTION:This is our Troop Meeting.  We meet every week except for the first Tuesday of each month\, which is when the PLC meets.  
URL:https://troop58ashburn.camp/event-2/troop-meeting-193/
LOCATION:Ashburn Volunteer Fire and Rescue Department\,20688 Ashburn Road\,Ashburn\,VA\,20147\, United States
END:VEVENT
BEGIN:VEVENT
DTSTART;TZID=America/New_York:20240528T193000
DTEND;TZID=America/New_York:20240528T203000
DTSTAMP:20260425T100818
CREATED:20240521T180014Z
LAST-MODIFIED:20240528T192100Z
UID:8347-1716924600-1716928200@troop58ashburn.camp
SUMMARY:Board of Review - E.Kandikonda - 2nd Class rank
DESCRIPTION:
URL:https://troop58ashburn.camp/event-2/board-of-review-e-kandikonda-2nd-class-rank/
LOCATION:Ashburn Volunteer Fire and Rescue Department\, 20688 Ashburn Rd\, Ashburn\, VA\, United States
END:VEVENT
BEGIN:VEVENT
DTSTART;TZID=America/New_York:20240525T103000
DTEND;TZID=America/New_York:20240525T160000
DTSTAMP:20260425T100818
CREATED:20240506T211740Z
LAST-MODIFIED:20240525T184629Z
UID:8093-1716633000-1716652800@troop58ashburn.camp
SUMMARY:Jack Anderson Eagle Project
DESCRIPTION:Hi everyone\, I am looking for at least nine volunteers to help me build picnic benches at Camp Highroad in Middleburg.  I choose Camp Highroad for my Eagle Project\, because this was the place I attended my first campout as a Tiger Cub and experienced many adventures here since that time.  Thank you for your help.  Details below.Where: Camp Highroad21164 Steptoe Hill RoadMiddleburg\, VA 20177https://maps.app.goo.gl/zEyKPD8AUKSSi6ys9Directions from Trailside to Camp HighroadWhen: Saturday\, May 25th10:30am – 4:00pmWhat:  We will meet at Camp Highroad\, Oak Lodge\, to build six picnic tables.  Once the tables are built\, we will apply a weather seal coat to protect them from the elements.  With nine volunteers\, it should take about 4 hours to complete.  Food:  We will provide donuts in the morning and pizza for lunch.  We will have a large jug of water\, to cut down on single use plastic\, please bring your own water bottle.  
URL:https://troop58ashburn.camp/event-2/jack-anderson-eagle-project/
LOCATION:Camp Highroad
END:VEVENT
BEGIN:VEVENT
DTSTART;TZID=America/New_York:20240523T193000
DTEND;TZID=America/New_York:20240523T210000
DTSTAMP:20260425T100818
CREATED:20240506T211740Z
LAST-MODIFIED:20240523T181910Z
UID:8091-1716492600-1716498000@troop58ashburn.camp
SUMMARY:Eagle Board of Review - C.Quinn
DESCRIPTION:NOTE: Change of venue to Ashburn Library
URL:https://troop58ashburn.camp/event-2/eagle-board-of-review-c-quinn/
LOCATION:Ashburn Library
END:VEVENT
BEGIN:VEVENT
DTSTART;TZID=America/New_York:20240521T193000
DTEND;TZID=America/New_York:20240521T210000
DTSTAMP:20260425T100818
CREATED:20240506T211740Z
LAST-MODIFIED:20240521T180013Z
UID:8090-1716319800-1716325200@troop58ashburn.camp
SUMMARY:Court of Honor
DESCRIPTION:Please join us for our Spring Court of Honor to recognize Scouts who have earned a new rank or merit badge(s) since our last Court of Honor. Families are encouraged to attend to support Scouts in their advancement journeys.PLC members should arrive at 7:00pm to help set up.The ceremony will begin at 7:30pm with refreshments immediately following.(Refreshments provided by the Troop – no need to bring anything.)Please wear full Class A (including MB sash if you have one).
URL:https://troop58ashburn.camp/event-2/court-of-honor-3/
LOCATION:St. David’s Episcopal Church\, 43600 Russel Branch Pkwy\, Ashburn\, VA\, 20147\, United States
END:VEVENT
BEGIN:VEVENT
DTSTART;TZID=America/New_York:20240521T190000
DTEND;TZID=America/New_York:20240521T193000
DTSTAMP:20260425T100818
CREATED:20240519T174707Z
LAST-MODIFIED:20240521T180013Z
UID:8338-1716318000-1716319800@troop58ashburn.camp
SUMMARY:New(er) Troop Parent Brief Meeting
DESCRIPTION:We‘ll have a quick meeting before the May 21 Court of Honor\, at St. David’s Episcopal Church\, for parents of new(er) scouts to share some information and answer questions.
URL:https://troop58ashburn.camp/event-2/newer-troop-parent-brief-meeting/
LOCATION:Saint David’s Episcopal Church
END:VEVENT
BEGIN:VEVENT
DTSTART;TZID=America/New_York:20240521T190000
DTEND;TZID=America/New_York:20240521T193000
DTSTAMP:20260425T100818
CREATED:20240513T173318Z
LAST-MODIFIED:20240521T180013Z
UID:8316-1716318000-1716319800@troop58ashburn.camp
SUMMARY:Seabase Parent Meeting
DESCRIPTION:Seabase Parent Meeting to go over “big picture” logistics for our Seabase SCUBA trip next Spring Break.  We will meet at 7pm at St. David’s before the Court of Honor.
URL:https://troop58ashburn.camp/event-2/seabase-parent-meeting/
LOCATION:St. David’s Episcopal Church\, 43600 Russel Branch Pkwy\, Ashburn\, VA\, 20147\, United States
END:VEVENT
BEGIN:VEVENT
DTSTART;TZID=America/New_York:20240519T180000
DTEND;TZID=America/New_York:20240519T210000
DTSTAMP:20260425T100818
CREATED:20240514T173633Z
LAST-MODIFIED:20240519T174722Z
UID:8324-1716141600-1716152400@troop58ashburn.camp
SUMMARY:ILST - Required training for PLC members only
DESCRIPTION:PLC Members\,Please attend the mandatory training for all PLC members\, both new and old. Please wear class B and bring water\, bug spray\, water bottle\, and lawn chair.Dinner will be provided (Dominos).  Please  look at the menu and comment your order ahead of time.https://www.dominos.com/en/pages/order/menu?utm_campaign=12899820175%257Cm%257CGG&utm_source=Google&utm_medium=p_search&utm_content=kwd-294780655%257C12899820175%257C119969835485&utm_term=domino%2527s%2520pizza%2520menu&matchtype=p&gbraid=0AAAAADeMJnBhRXHnNBf_OfyRsuOopfsI6&gclid=Cj0KCQjw-daUBhCIARIsALbkjSYdvGsG6HoFxd3t3FErAGxNvuLZUlewQ1V6UdwHRPwDqKkp2y0GsAQaAoPAEALw_wcB#/menu/category/viewall/Please contact Krishnan or Mr. Grabinsi with any questions.  Please note that\, if needed\, a rain back up location will be communicated by noon on Sunday 5/19.  
URL:https://troop58ashburn.camp/event-2/ilst-required-training-for-plc-members-only/
LOCATION:Lansdowne Amphitheater\, 19049 Coton Farm Ct\, Leesburg\, VA 20176
END:VEVENT
BEGIN:VEVENT
DTSTART;TZID=America/New_York:20240517T180000
DTEND;TZID=America/New_York:20240519T110000
DTSTAMP:20260425T100818
CREATED:20240506T211740Z
LAST-MODIFIED:20240518T174609Z
UID:8089-1715968800-1716116400@troop58ashburn.camp
SUMMARY:OA - Conclave - Camp Snyder
DESCRIPTION:Order of the Arrow Spring Conclave at Camp Snyder.Registration here -https://scoutingevent.com/220-SectionE102024Conclave#
URL:https://troop58ashburn.camp/event-2/oa-conclave-camp-snyder/
LOCATION:Camp Snyder
END:VEVENT
END:VCALENDAR