BEGIN:VCALENDAR
VERSION:2.0
PRODID:-//Boy Scout Troop 58 - Ashburn, VA - ECPv6.15.20//NONSGML v1.0//EN
CALSCALE:GREGORIAN
METHOD:PUBLISH
X-WR-CALNAME:Boy Scout Troop 58 - Ashburn, VA
X-ORIGINAL-URL:https://troop58ashburn.camp
X-WR-CALDESC:Events for Boy Scout Troop 58 - Ashburn, VA
REFRESH-INTERVAL;VALUE=DURATION:PT1H
X-Robots-Tag:noindex
X-PUBLISHED-TTL:PT1H
BEGIN:VTIMEZONE
TZID:America/New_York
BEGIN:DAYLIGHT
TZOFFSETFROM:-0500
TZOFFSETTO:-0400
TZNAME:EDT
DTSTART:20230312T070000
END:DAYLIGHT
BEGIN:STANDARD
TZOFFSETFROM:-0400
TZOFFSETTO:-0500
TZNAME:EST
DTSTART:20231105T060000
END:STANDARD
BEGIN:DAYLIGHT
TZOFFSETFROM:-0500
TZOFFSETTO:-0400
TZNAME:EDT
DTSTART:20240310T070000
END:DAYLIGHT
BEGIN:STANDARD
TZOFFSETFROM:-0400
TZOFFSETTO:-0500
TZNAME:EST
DTSTART:20241103T060000
END:STANDARD
BEGIN:DAYLIGHT
TZOFFSETFROM:-0500
TZOFFSETTO:-0400
TZNAME:EDT
DTSTART:20250309T070000
END:DAYLIGHT
BEGIN:STANDARD
TZOFFSETFROM:-0400
TZOFFSETTO:-0500
TZNAME:EST
DTSTART:20251102T060000
END:STANDARD
END:VTIMEZONE
BEGIN:VEVENT
DTSTART;VALUE=DATE:20240928
DTEND;VALUE=DATE:20240929
DTSTAMP:20260425T083857
CREATED:20240506T211752Z
LAST-MODIFIED:20240920T192025Z
UID:8146-1727481600-1727567999@troop58ashburn.camp
SUMMARY:Webelos-o-ree
DESCRIPTION:
URL:https://troop58ashburn.camp/event-2/webelos-o-ree-2/
LOCATION:Camp Snyder
END:VEVENT
BEGIN:VEVENT
DTSTART;VALUE=DATE:20240928
DTEND;VALUE=DATE:20240929
DTSTAMP:20260425T083857
CREATED:20240921T192004Z
LAST-MODIFIED:20240928T193500Z
UID:8692-1727481600-1727567999@troop58ashburn.camp
SUMMARY:Webelos-o-Ree (now full troop)
DESCRIPTION:The PLC has decided the Webelos-o-Ree at Camp Snyder will now be a Troop-wide event.We will leave Trailside 7:15am sharp Saturday Sept. 28. Return is after the afternoon skills demonstrations. Come fed & bring a packed lunch.Practice your lashings. Pages 371-380 in the Tools chapter of the Scout Handbook.
URL:https://troop58ashburn.camp/event-2/webelos-o-ree-plc-only/
LOCATION:Camp Snyder
END:VEVENT
BEGIN:VEVENT
DTSTART;TZID=America/New_York:20240924T210000
DTEND;TZID=America/New_York:20240924T220000
DTSTAMP:20260425T083857
CREATED:20240506T211752Z
LAST-MODIFIED:20240924T192121Z
UID:8145-1727211600-1727215200@troop58ashburn.camp
SUMMARY:Set tables & chairs for Founders Hall (2nd & 4th Tuesdays)
DESCRIPTION:Request from Ms. Christie @ Founders HallPlease set out 4 rectangular tables + 15 chairs at the end of our weekly Scout meeting for group that rents Founders Hall on 2nd & 4th WednesdaysGiving back to Founders Hall for providing space for our weekly Troop meetings
URL:https://troop58ashburn.camp/event-2/set-tables-chairs-for-founders-hall-2nd-4th-tuesdays-9/
LOCATION:Ashburn Volunteer Fire and Rescue Department\, 20688 Ashburn Rd\, Ashburn\, VA\, United States
END:VEVENT
BEGIN:VEVENT
DTSTART;TZID=America/New_York:20240924T193000
DTEND;TZID=America/New_York:20240924T210000
DTSTAMP:20260425T083857
CREATED:20240506T211752Z
LAST-MODIFIED:20240924T192120Z
UID:8144-1727206200-1727211600@troop58ashburn.camp
SUMMARY:Troop Meeting
DESCRIPTION:This is our Troop Meeting.  We meet every week except for the first Tuesday of each month\, which is when the PLC meets.  
URL:https://troop58ashburn.camp/event-2/troop-meeting-209/
LOCATION:Ashburn Volunteer Fire and Rescue Department\, 20688 Ashburn Rd\, Ashburn\, VA\, United States
END:VEVENT
BEGIN:VEVENT
DTSTART;TZID=America/New_York:20240924T193000
DTEND;TZID=America/New_York:20240924T210000
DTSTAMP:20260425T083857
CREATED:20240506T211752Z
LAST-MODIFIED:20240924T192120Z
UID:8143-1727206200-1727211600@troop58ashburn.camp
SUMMARY:Court of Honor
DESCRIPTION:Please join us for our Fall Court of Honor to recognize Scouts who have earned a new rank or merit badge(s) since our last Court of Honor. Families are encouraged to attend to support Scouts in their advancement journeys.PLC members should arrive at 7:00pm to help set up.The ceremony will begin at 7:30pm with refreshments immediately following.(Refreshments provided by the Troop – no need to bring anything.)Please wear full Class A (including MB sash if you have one).
URL:https://troop58ashburn.camp/event-2/court-of-honor-4/
LOCATION:St. David’s Episcopal Church\, 43600 Russel Branch Pkwy\, Ashburn\, VA\, 20147\, United States
END:VEVENT
BEGIN:VEVENT
DTSTART;TZID=America/New_York:20240921T073000
DTEND;TZID=America/New_York:20240921T160000
DTSTAMP:20260425T083857
CREATED:20240519T174715Z
LAST-MODIFIED:20240921T192003Z
UID:8339-1726903800-1726934400@troop58ashburn.camp
SUMMARY:Back Country Outdoor Leadership Skills (BCOLS)
DESCRIPTION:NCAC Back Country Outdoor Leadership Skills (BCOLS) – Weekend 1 – 9/21 – Heritage Presbyterian 7:30am – 4pmWeekend 2- 10/19-10/20 – Camp Big Mac 7:30am Saturday – 2pm SundayRegistration – https://scoutingevent.com/082-82477″>https://scoutingevent.com/082-82477Back Country Outdoor Leader Skills (BCOLS)Back Country Outdoor Leader Skills (BCOLS) is an optional course offered to adult leaders who have completed the required training in their Scouting program.  This course assists Scouters working with youth in the backcountry by providing the skills necessary to conduct a safe and risk-managed high adventure program in venues outside those supported by BSA infrastructure.  It has been continuously designed to address new and emerging issues\, techniques\, and gear. BCOLS has three key goals:Provide adult leaders with an understanding of safety and risk management issues in the back country environment.Expose adult leaders to interpersonal\, small group dynamics\, and leadership models consistent with National syllabi and curricula.Familiarize adult leaders with the planning processes\, skills\, and equipment necessary to a successful back country adventure. BCOLS consists of two parts:One day-long classroom sessionWorking Together — covers needs and characteristics of the age group; discusses group dynamics and the interpersonal skills needed to build and maintain a high-performance team.Trek Planning and Preparation — covers the detailed preparation and planning that is necessary to a successful Trek and includes risk management\, Leave No Trace principles\, and discussion and displays of the personal and crew equipment used for Trekking\, as well as other Trek tools.Two-day weekend outdoor session provides a mix of skill presentations and hands-on practice.  Activities include Leave No Trace camping skills\, problem solving through initiative games\, the use of bear bags/canisters\, equipment maintenance\, stove maintenance\, water treatment\, menu planning and trail cooking (and clean-up)\, terrain awareness\, health and safety and personal hygiene issues\, hands-on land navigation\, and trail meditations.  Requirements for attending BCOLS:Be registered members of the Boy Scouts of America and age 18 or older.Have completed the basic position-specific training courses for their Scouting role.Be capable of functioning safely in an outdoor environment. All participants are required to complete the Annual Health and Medical Record. Parts A\, B\, and C are required which includes a physical. Both Session Must be Attended to get credit for the Course. Class Room Session: Saturday September 21\, 2024 at Heritage Presbyterian Church 8503 Fort Hunt Road Alexandria\, VA 22308Weekend Session : Saturday October 19 thru Sunday October 20\, 2023 at Camp Big Mac 12647 Moss Hollow Road Markham\, VA 22643 
URL:https://troop58ashburn.camp/event-2/back-country-outdoor-leadership-skills-bcols/
END:VEVENT
BEGIN:VEVENT
DTSTART;TZID=America/New_York:20240920T173000
DTEND;TZID=America/New_York:20240922T113000
DTSTAMP:20260425T083857
CREATED:20240506T211751Z
LAST-MODIFIED:20240921T192003Z
UID:8142-1726853400-1727004600@troop58ashburn.camp
SUMMARY:Patrol Challenge Campout
DESCRIPTION:This year’s theme is the Olympic Games! Each Patrol will participate in games in order to earn points. The winning Patrol will get their name on the back of Jim the Eagle.Meet at Trailside Middle School at 5:30pm on Friday\, Sept 20 for departure @ 6pmCost: $35 – please pay by Zelle to BSA Troop Fifty Eight (troop58.zelle@gmail.com)Details of the events are being finalized but Be Prepared to bring your A-Game to win bragging rights for your Patrol!Location:  Northern Virginia Lions Youth Camp\, Lions Lane\, Boyce VA. http://nvlyc.org/Contact Krish Kandimala or Ms. Khalili with questions.
URL:https://troop58ashburn.camp/event-2/patrol-challenge-campout-2/
LOCATION:Northern Virginia Lions Youth Camp\, 601 Lions Ln\, Boyce\, VA\, United States
END:VEVENT
BEGIN:VEVENT
DTSTART;TZID=America/New_York:20240917T200000
DTEND;TZID=America/New_York:20240917T210000
DTSTAMP:20260425T083857
CREATED:20240903T124307Z
LAST-MODIFIED:20240917T185737Z
UID:8657-1726603200-1726606800@troop58ashburn.camp
SUMMARY:Board of Review - R.Hargrave - Star rank
DESCRIPTION:
URL:https://troop58ashburn.camp/event-2/board-of-review-r-hargrave-star-rank/
LOCATION:Ashburn Volunteer Fire and Rescue Department\, 20688 Ashburn Rd\, Ashburn\, VA\, United States
END:VEVENT
BEGIN:VEVENT
DTSTART;TZID=America/New_York:20240917T193000
DTEND;TZID=America/New_York:20240917T210000
DTSTAMP:20260425T083857
CREATED:20240506T211751Z
LAST-MODIFIED:20240917T185737Z
UID:8141-1726601400-1726606800@troop58ashburn.camp
SUMMARY:Troop Meeting
DESCRIPTION:This is our Troop Meeting.  We meet every week except for the first Tuesday of each month\, which is when the PLC meets.  
URL:https://troop58ashburn.camp/event-2/troop-meeting-208/
LOCATION:Ashburn Volunteer Fire and Rescue Department\, 20688 Ashburn Rd\, Ashburn\, VA\, United States
END:VEVENT
BEGIN:VEVENT
DTSTART;TZID=America/New_York:20240917T193000
DTEND;TZID=America/New_York:20240917T203000
DTSTAMP:20260425T083857
CREATED:20240903T124307Z
LAST-MODIFIED:20240917T185737Z
UID:8656-1726601400-1726605000@troop58ashburn.camp
SUMMARY:Board of Review - A.Hunter - 1st Class rank
DESCRIPTION:
URL:https://troop58ashburn.camp/event-2/board-of-review-a-hunter-1st-class-rank/
LOCATION:Ashburn Volunteer Fire and Rescue Department\, 20688 Ashburn Rd\, Ashburn\, VA\, United States
END:VEVENT
BEGIN:VEVENT
DTSTART;TZID=America/New_York:20240914T180000
DTEND;TZID=America/New_York:20240914T210000
DTSTAMP:20260425T083857
CREATED:20240819T205013Z
LAST-MODIFIED:20240827T212217Z
UID:8601-1726336800-1726347600@troop58ashburn.camp
SUMMARY:Cit Society MB
DESCRIPTION:This is the placeholder for the Cit Society MB.  We will have one session from 6-9pm\, location is still TBD.***Please contact Ms. Khalili if you want to sign up bc there is mandatory pre-work.***Some other things to note: – No uniform needed- Please eat dinner beforehand but bring a water bottle- Please complete all pre-reqs or you will not be allowed to participate.- Please initiate the MB in Scoutbook and select Ms. Khalili as your counselor.   Please contact Ms. Khalili with questions (703-439-0230).
URL:https://troop58ashburn.camp/event-2/cit-society-mb/
LOCATION:TBD\, 2560 King Arthur Boulevard\, Lewisville\, TX\, 75056\, United States
END:VEVENT
BEGIN:VEVENT
DTSTART;TZID=America/New_York:20240914T080000
DTEND;TZID=America/New_York:20240915T120000
DTSTAMP:20260425T083857
CREATED:20240828T212031Z
LAST-MODIFIED:20240914T183755Z
UID:8627-1726300800-1726401600@troop58ashburn.camp
SUMMARY:IOLS
DESCRIPTION:Virtual session 9/9; in person session 9/14-9/15 at Camp SnyderRegistration – https://scoutingevent.com/082-88503
URL:https://troop58ashburn.camp/event-2/iols-2/
LOCATION:Camp Snyder
END:VEVENT
BEGIN:VEVENT
DTSTART;TZID=America/New_York:20240913T180000
DTEND;TZID=America/New_York:20240915T110000
DTSTAMP:20260425T083857
CREATED:20240810T203501Z
LAST-MODIFIED:20240914T183754Z
UID:8561-1726250400-1726398000@troop58ashburn.camp
SUMMARY:OA Fall Fellowship at Goshen
DESCRIPTION:OA Fall Fellowship at Goshen.Registration link https://scoutingevent.com/082-87256
URL:https://troop58ashburn.camp/event-2/oa-fall-fellowship-at-goshen/
LOCATION:Goshen Scout Reservation
END:VEVENT
BEGIN:VEVENT
DTSTART;TZID=America/New_York:20240911T193000
DTEND;TZID=America/New_York:20240911T210000
DTSTAMP:20260425T083857
CREATED:20240506T211751Z
LAST-MODIFIED:20240911T183509Z
UID:8140-1726083000-1726088400@troop58ashburn.camp
SUMMARY:Goose Creek District Roundtable
DESCRIPTION:See https://www.ncacbsa.org/goose-creek/roundtable/ for more info.
URL:https://troop58ashburn.camp/event-2/goose-creek-district-roundtable-70/
LOCATION:Leesburg United Methodist Church\, 107 W Market St\, Leesburg\, VA\, United States
END:VEVENT
BEGIN:VEVENT
DTSTART;TZID=America/New_York:20240911T193000
DTEND;TZID=America/New_York:20240911T203000
DTSTAMP:20260425T083857
CREATED:20240506T211750Z
LAST-MODIFIED:20240911T183509Z
UID:8139-1726083000-1726086600@troop58ashburn.camp
SUMMARY:Order of the Arrow meeting
DESCRIPTION:
URL:https://troop58ashburn.camp/event-2/order-of-the-arrow-meeting-72/
LOCATION:Belmont Ridge Middle School
END:VEVENT
BEGIN:VEVENT
DTSTART;TZID=America/New_York:20240910T210000
DTEND;TZID=America/New_York:20240910T220000
DTSTAMP:20260425T083857
CREATED:20240506T211750Z
LAST-MODIFIED:20240910T182134Z
UID:8138-1726002000-1726005600@troop58ashburn.camp
SUMMARY:Set tables & chairs for Founders Hall (2nd & 4th Tuesdays)
DESCRIPTION:Request from Ms. Christie @ Founders HallPlease set out 4 rectangular tables + 15 chairs at the end of our weekly Scout meeting for group that rents Founders Hall on 2nd & 4th WednesdaysGiving back to Founders Hall for providing space for our weekly Troop meetings
URL:https://troop58ashburn.camp/event-2/set-tables-chairs-for-founders-hall-2nd-4th-tuesdays-8/
LOCATION:Ashburn Volunteer Fire and Rescue Department\, 20688 Ashburn Rd\, Ashburn\, VA\, United States
END:VEVENT
BEGIN:VEVENT
DTSTART;TZID=America/New_York:20240910T200000
DTEND;TZID=America/New_York:20240910T210000
DTSTAMP:20260425T083857
CREATED:20240903T124305Z
LAST-MODIFIED:20240910T182134Z
UID:8655-1725998400-1726002000@troop58ashburn.camp
SUMMARY:Board of Review - M.Weitzel - 2nd Class rank
DESCRIPTION:
URL:https://troop58ashburn.camp/event-2/board-of-review-m-weitzel-2nd-class-rank/
LOCATION:Ashburn Volunteer Fire and Rescue Department\, 20688 Ashburn Rd\, Ashburn\, VA\, United States
END:VEVENT
BEGIN:VEVENT
DTSTART;TZID=America/New_York:20240910T193000
DTEND;TZID=America/New_York:20240910T210000
DTSTAMP:20260425T083857
CREATED:20240506T211750Z
LAST-MODIFIED:20240910T182134Z
UID:8137-1725996600-1726002000@troop58ashburn.camp
SUMMARY:Troop Meeting
DESCRIPTION:This is our Troop Meeting.  We meet every week except for the first Tuesday of each month\, which is when the PLC meets.  
URL:https://troop58ashburn.camp/event-2/troop-meeting-207/
LOCATION:Ashburn Volunteer Fire and Rescue Department\, 20688 Ashburn Rd\, Ashburn\, VA\, United States
END:VEVENT
BEGIN:VEVENT
DTSTART;TZID=America/New_York:20240910T193000
DTEND;TZID=America/New_York:20240910T203000
DTSTAMP:20260425T083857
CREATED:20240903T124305Z
LAST-MODIFIED:20240910T182134Z
UID:8654-1725996600-1726000200@troop58ashburn.camp
SUMMARY:Board of Review - Aarav Shah - 1st Class rank
DESCRIPTION:
URL:https://troop58ashburn.camp/event-2/board-of-review-aarav-shah-1st-class-rank/
LOCATION:Ashburn Volunteer Fire and Rescue Department\, 20688 Ashburn Rd\, Ashburn\, VA\, United States
END:VEVENT
BEGIN:VEVENT
DTSTART;TZID=America/New_York:20240905T180000
DTEND;TZID=America/New_York:20240905T193000
DTSTAMP:20260425T083857
CREATED:20240816T205000Z
LAST-MODIFIED:20240905T174222Z
UID:8596-1725559200-1725564600@troop58ashburn.camp
SUMMARY:Comm. / Cit in the Community MBs - public meeting oppty
DESCRIPTION:The Communication Merit Badge and Citizenship in the Community Merit Badge both have requirements to attend a public meeting and follow up with your MB Counselor about what you heard. I am a MB Counselor for both of these Eagle-required MBs and will work with Scouts who wish to fulfill these requirements by attending this meeting.Please RSVP in TroopTrack and I will reach out with additional details.Note: It is possible to fulfill the public meeting requirements for both the Communication MB and the Citizenship in the Community MB by attending this one meeting — however\, the requirements for each MB are different and must be distinctly fulfilled.The County encourages residents and businesses who wish to offer comment on Dominion Energy’s proposed transmission lines along Route 7 in Loudoun County to attend the State Corporation Commission (SCC) public hearing on Thursday\, September 5\, 2024\, 6:00pm-10:00pm\, at Belmont Ridge Middle School\, 19045 Upper Belmont Place in Leesburg.The SCC is considering a request by Dominion Energy to build the Aspen-Golden (Case #PUR-2024-00032) and Apollo-Twin Creeks electric transmission facilities (Case # PUR-2024-00044). The projects include a new 9.4-mile double circuit overhead transmission line (500 and 230 kilovolt) between the proposed Aspen and Golden substations and other associated infrastructure. The current application locates the proposed above-ground power lines from the area around Goose Creek and Belmont Ridge Road\, along the south side of Route 7\, and parallel to Loudoun County Parkway. Dominion has stated the projects are necessary to maintain electricity reliability for the region.The SCC asks that any member of the public who wishes to provide comment at the September 5 hearing in Leesburg arrive at least 15 minutes prior to the meeting and register with the commission’s bailiff. Each speaker will be allotted five minutes for their comments.More information on the meeting and the projects can be found here.Yours in Scouting\,Mrs. Quinn
URL:https://troop58ashburn.camp/event-2/comm-cit-in-the-community-mbs-public-meeting-oppty/
LOCATION:Belmont Ridge Middle School
END:VEVENT
BEGIN:VEVENT
DTSTART;TZID=America/New_York:20240903T210000
DTEND;TZID=America/New_York:20240903T220000
DTSTAMP:20260425T083857
CREATED:20240903T124305Z
LAST-MODIFIED:20240903T124305Z
UID:8653-1725397200-1725400800@troop58ashburn.camp
SUMMARY:Check tables / separate non-functioning ones for Founders Hall
DESCRIPTION:Request from Ms. Christie @ Founders HallWould it be possible for the scouts to take out all the rectangular tables and ensure they are in full functioning condition?I am going to order more but until I do\, I want to ensure that what we have are still worth keeping.Any tables that are in poor condition can be put outside the furniture closet and I will take care of them.
URL:https://troop58ashburn.camp/event-2/check-tables-separate-non-functioning-ones-for-founders-hall/
LOCATION:Ashburn Volunteer Fire and Rescue Department\, 20688 Ashburn Rd\, Ashburn\, VA\, United States
END:VEVENT
BEGIN:VEVENT
DTSTART;TZID=America/New_York:20240903T193000
DTEND;TZID=America/New_York:20240903T210000
DTSTAMP:20260425T083857
CREATED:20240506T211749Z
LAST-MODIFIED:20240903T124304Z
UID:8136-1725391800-1725397200@troop58ashburn.camp
SUMMARY:Troop Meeting
DESCRIPTION:This is our Troop Meeting.  We meet every week except for the first Tuesday of each month\, which is when the PLC meets.  
URL:https://troop58ashburn.camp/event-2/troop-meeting-206/
LOCATION:Ashburn Volunteer Fire and Rescue Department\, 20688 Ashburn Rd\, Ashburn\, VA\, United States
END:VEVENT
BEGIN:VEVENT
DTSTART;TZID=America/New_York:20240902T180000
DTEND;TZID=America/New_York:20240902T210000
DTSTAMP:20260425T083857
CREATED:20240820T205148Z
LAST-MODIFIED:20240829T211957Z
UID:8605-1725300000-1725310800@troop58ashburn.camp
SUMMARY:Cit Society MB
DESCRIPTION:For any scouts aged 12 and up\, if you would like to take this MB course\, please contact Ms. Khalili for pre-approval and the mandatory pre-work.Also\, please note that if you do not complete all of the pre-work\, you will not be allowed to participate.  – Uniforms not required- Please eat dinner beforehand and bring a water bottle – Please bring proof of completed pre-work- A snack will be provided\, please let Ms. Khalili know of about food allergies (703-439-0230).
URL:https://troop58ashburn.camp/event-2/cit-society-mb-2/
LOCATION:St. David’s Episcopal Church\, Adult Ed Room
END:VEVENT
BEGIN:VEVENT
DTSTART;TZID=America/New_York:20240830T180000
DTEND;TZID=America/New_York:20240830T200000
DTSTAMP:20260425T083857
CREATED:20240722T184603Z
LAST-MODIFIED:20240829T211957Z
UID:8521-1725040800-1725048000@troop58ashburn.camp
SUMMARY:Eagle Court of Honor: Jack Anderson\, Chris Currie\, Grant Khalili
DESCRIPTION:Troop 58 Scouts and Families\, You are all invited to join us for the Eagle Court of Honor for Jack Anderson\, Chris Currie\, and Grant Khalili.Scouts\, this is a great way to show your appreciation and support of the older scouts who have guided and mentored you throughout the years\, so please show up!PLC members\, and any scouts and adults participating in the ceremony\, please arrive by 5:15pm.Other scouts and family members\, please arrive by 5:45pm.Please see the attachment for details and contact Chris\, Jack\, or Grant K with any questions.ECOH invite.jpeg
URL:https://troop58ashburn.camp/event-2/eagle-court-of-honor-jack-anderson-chris-currie-grant-khalili/
LOCATION:St. David’s Episcopal Church\, 45000 Russell Branch Pkwy\, Ashburn\, VA\, United States
END:VEVENT
BEGIN:VEVENT
DTSTART;TZID=America/New_York:20240827T210000
DTEND;TZID=America/New_York:20240827T220000
DTSTAMP:20260425T083857
CREATED:20240506T211749Z
LAST-MODIFIED:20240827T212215Z
UID:8134-1724792400-1724796000@troop58ashburn.camp
SUMMARY:Set tables & chairs for Founders Hall (2nd & 4th Tuesdays)
DESCRIPTION:Request from Ms. Christie @ Founders HallPlease set out 4 rectangular tables + 15 chairs at the end of our weekly Scout meeting for group that rents Founders Hall on 2nd & 4th WednesdaysGiving back to Founders Hall for providing space for our weekly Troop meetings
URL:https://troop58ashburn.camp/event-2/set-tables-chairs-for-founders-hall-2nd-4th-tuesdays-7/
LOCATION:Ashburn Volunteer Fire and Rescue Department\, 20688 Ashburn Rd\, Ashburn\, VA\, United States
END:VEVENT
BEGIN:VEVENT
DTSTART;TZID=America/New_York:20240827T200000
DTEND;TZID=America/New_York:20240827T210000
DTSTAMP:20260425T083857
CREATED:20240821T205008Z
LAST-MODIFIED:20240827T212215Z
UID:8613-1724788800-1724792400@troop58ashburn.camp
SUMMARY:SMC: Matthew Weitzel & Liam Wong
DESCRIPTION:
URL:https://troop58ashburn.camp/event-2/smc-matthew-weitzel-liam-wong/
LOCATION:Founders Hall
END:VEVENT
BEGIN:VEVENT
DTSTART;TZID=America/New_York:20240827T193000
DTEND;TZID=America/New_York:20240827T210000
DTSTAMP:20260425T083857
CREATED:20240506T211749Z
LAST-MODIFIED:20240827T212215Z
UID:8135-1724787000-1724792400@troop58ashburn.camp
SUMMARY:Troop Meeting
DESCRIPTION:This is our Troop Meeting.  We meet every week except for the first Tuesday of each month\, which is when the PLC meets.  
URL:https://troop58ashburn.camp/event-2/troop-meeting-205/
LOCATION:Ashburn Volunteer Fire and Rescue Department\, 20688 Ashburn Rd\, Ashburn\, VA\, United States
END:VEVENT
BEGIN:VEVENT
DTSTART;TZID=America/New_York:20240827T193000
DTEND;TZID=America/New_York:20240827T203000
DTSTAMP:20260425T083857
CREATED:20240825T212034Z
LAST-MODIFIED:20240827T212215Z
UID:8619-1724787000-1724790600@troop58ashburn.camp
SUMMARY:Board of Review - Z.Laible - 1st Class rank
DESCRIPTION:
URL:https://troop58ashburn.camp/event-2/board-of-review-z-laible-1st-class-rank/
LOCATION:Ashburn Volunteer Fire and Rescue Department\, 20688 Ashburn Rd\, Ashburn\, VA\, United States
END:VEVENT
BEGIN:VEVENT
DTSTART;TZID=America/New_York:20240826T193000
DTEND;TZID=America/New_York:20240826T210000
DTSTAMP:20260425T083857
CREATED:20240813T204950Z
LAST-MODIFIED:20240826T212419Z
UID:8575-1724700600-1724706000@troop58ashburn.camp
SUMMARY:Eagle Board of Review - J.Anderson
DESCRIPTION:
URL:https://troop58ashburn.camp/event-2/eagle-board-of-review-j-anderson/
LOCATION:St. David’s Episcopal Church\, 43600 Russel Branch Pkwy\, Ashburn\, VA\, 20147\, United States
END:VEVENT
BEGIN:VEVENT
DTSTART;TZID=America/New_York:20240824T100000
DTEND;TZID=America/New_York:20240824T123000
DTSTAMP:20260425T083857
CREATED:20240605T202732Z
LAST-MODIFIED:20240823T210529Z
UID:8401-1724493600-1724502600@troop58ashburn.camp
SUMMARY:Communication MB session
DESCRIPTION:limited to 5 Scoutsdetails will sent via email
URL:https://troop58ashburn.camp/event-2/communication-mb-session/
LOCATION:To be announced
END:VEVENT
END:VCALENDAR