BEGIN:VCALENDAR
VERSION:2.0
PRODID:-//Boy Scout Troop 58 - Ashburn, VA - ECPv6.15.20//NONSGML v1.0//EN
CALSCALE:GREGORIAN
METHOD:PUBLISH
X-WR-CALNAME:Boy Scout Troop 58 - Ashburn, VA
X-ORIGINAL-URL:https://troop58ashburn.camp
X-WR-CALDESC:Events for Boy Scout Troop 58 - Ashburn, VA
REFRESH-INTERVAL;VALUE=DURATION:PT1H
X-Robots-Tag:noindex
X-PUBLISHED-TTL:PT1H
BEGIN:VTIMEZONE
TZID:America/New_York
BEGIN:DAYLIGHT
TZOFFSETFROM:-0500
TZOFFSETTO:-0400
TZNAME:EDT
DTSTART:20230312T070000
END:DAYLIGHT
BEGIN:STANDARD
TZOFFSETFROM:-0400
TZOFFSETTO:-0500
TZNAME:EST
DTSTART:20231105T060000
END:STANDARD
BEGIN:DAYLIGHT
TZOFFSETFROM:-0500
TZOFFSETTO:-0400
TZNAME:EDT
DTSTART:20240310T070000
END:DAYLIGHT
BEGIN:STANDARD
TZOFFSETFROM:-0400
TZOFFSETTO:-0500
TZNAME:EST
DTSTART:20241103T060000
END:STANDARD
BEGIN:DAYLIGHT
TZOFFSETFROM:-0500
TZOFFSETTO:-0400
TZNAME:EDT
DTSTART:20250309T070000
END:DAYLIGHT
BEGIN:STANDARD
TZOFFSETFROM:-0400
TZOFFSETTO:-0500
TZNAME:EST
DTSTART:20251102T060000
END:STANDARD
END:VTIMEZONE
BEGIN:VEVENT
DTSTART;TZID=America/New_York:20241116T143000
DTEND;TZID=America/New_York:20241116T163000
DTSTAMP:20260425T083952
CREATED:20241112T225602Z
LAST-MODIFIED:20241115T231207Z
UID:8857-1731767400-1731774600@troop58ashburn.camp
SUMMARY:POSTPONED: Cooking MB session
DESCRIPTION:Sorry Scouts\, but due to unexpected hospital detour\, we need to postpone the Cooking MB session. New date will be announced as soon as possible.———————————————————————Cooking MB session to review health & safety\, nutrition\, cooking basics and careers requirements\, and to create a plan to complete the home\, camp and trail cooking requirements.
URL:https://troop58ashburn.camp/event-2/cooking-mb-session/
LOCATION:TBD\, 2560 King Arthur Boulevard\, Lewisville\, TX\, 75056\, United States
END:VEVENT
BEGIN:VEVENT
DTSTART;TZID=America/New_York:20241116T090000
DTEND;TZID=America/New_York:20241116T120000
DTSTAMP:20260425T083952
CREATED:20241013T202307Z
LAST-MODIFIED:20241115T231207Z
UID:8763-1731747600-1731758400@troop58ashburn.camp
SUMMARY:Wyatt Blair Eagle Project Day 1
DESCRIPTION:Please join me for Day 1 of my Eagle Scout Project.  We will be removing an old footbridge on the Horsepen Run Trail Park in Sterling (Countryside) Virginia.  This will count as 3 conservation hours.  We will meet in the parking lot at the trailhead.  The address is 46020 Algonkian Parkway – Sterling\, VA  20165.  Bring a water bottle\, work gloves\, and clothes that can get dirty.  Snacks will be provided.
URL:https://troop58ashburn.camp/event-2/wyatt-blair-eagle-project-day-1/
LOCATION:46020 Algonkian Parkway – Sterling\, Sterling\, VA\, United States
END:VEVENT
BEGIN:VEVENT
DTSTART;TZID=America/New_York:20241116T080000
DTEND;TZID=America/New_York:20241116T120000
DTSTAMP:20260425T083952
CREATED:20241010T195238Z
LAST-MODIFIED:20241115T231206Z
UID:8748-1731744000-1731758400@troop58ashburn.camp
SUMMARY:IOLS @ Gunston Hall\, Fairfax Co.
DESCRIPTION:Last chance for IOLS this fall.IOLS @ Gunston Hall\, Fairfax CountyRegistration- https://scoutingevent.com/082-iolssy25
URL:https://troop58ashburn.camp/event-2/iols-gunston-hall-fairfax-co/
LOCATION:Gunston Hall
END:VEVENT
BEGIN:VEVENT
DTSTART;TZID=America/New_York:20241113T193000
DTEND;TZID=America/New_York:20241113T210000
DTSTAMP:20260425T083952
CREATED:20240506T211756Z
LAST-MODIFIED:20241113T225612Z
UID:8157-1731526200-1731531600@troop58ashburn.camp
SUMMARY:Goose Creek District Roundtable
DESCRIPTION:See https://www.ncacbsa.org/goose-creek/roundtable/ for more info.
URL:https://troop58ashburn.camp/event-2/goose-creek-district-roundtable-72/
LOCATION:Belmont Ridge Middle School
END:VEVENT
BEGIN:VEVENT
DTSTART;TZID=America/New_York:20241113T193000
DTEND;TZID=America/New_York:20241113T203000
DTSTAMP:20260425T083952
CREATED:20240506T211755Z
LAST-MODIFIED:20241113T225612Z
UID:8156-1731526200-1731529800@troop58ashburn.camp
SUMMARY:Order of the Arrow meeting
DESCRIPTION:
URL:https://troop58ashburn.camp/event-2/order-of-the-arrow-meeting-74/
LOCATION:Belmont Ridge Middle School
END:VEVENT
BEGIN:VEVENT
DTSTART;TZID=America/New_York:20241112T210000
DTEND;TZID=America/New_York:20241112T220000
DTSTAMP:20260425T083952
CREATED:20241008T194955Z
LAST-MODIFIED:20241112T225614Z
UID:8737-1731445200-1731448800@troop58ashburn.camp
SUMMARY:Set tables & chairs for Founders Hall (2nd & 4th Tuesdays)
DESCRIPTION:Request from Ms. Christie @ Founders HallPlease set out 4 rectangular tables + 15 chairs at the end of our weekly Scout meeting for group that rents Founders Hall on 2nd & 4th WednesdaysGiving back to Founders Hall for providing space for our weekly Troop meetings
URL:https://troop58ashburn.camp/event-2/set-tables-chairs-for-founders-hall-2nd-4th-tuesdays-12/
LOCATION:Ashburn Volunteer Fire and Rescue Department\, 20688 Ashburn Rd\, Ashburn\, VA\, United States
END:VEVENT
BEGIN:VEVENT
DTSTART;TZID=America/New_York:20241112T200000
DTEND;TZID=America/New_York:20241112T203000
DTSTAMP:20260425T083952
CREATED:20241110T223720Z
LAST-MODIFIED:20241112T225613Z
UID:8851-1731441600-1731443400@troop58ashburn.camp
SUMMARY:Summer Camp Chat
DESCRIPTION:Chat about status of Summer Camp planning.Summit\, WV – https://www.summitbsa.org/programs/scout-camp/Bashore\, PA –  https://padutchbsa.org/camping/bashore/T Brady Saunders\, VA – https://bradysaunders.net/camp/summercamp/Goshen\, VA- gotogoshen.org Hawk Mountain\, PA – https://hmc-bsa.org/summer-camp-2025/Kootaga\, WV – https://www.buckskin.org/camping/scoutsbsacamp/Ockanickon\, PA – https://www.ockanickon.org/scoutsbsa-summercampOnteora\, NY – https://www.onteora.org/Rodney\, MD – https://scoutingevent.com/081-rsrsummerSinoquipe\, PA – https://www.campsinoquipe.org/summercampTen Mile River\, NY – https://tenmileriver.org/Tuckahoe\, PA – https://newbirthoffreedom.org/camping/camp-tuckahoe/
URL:https://troop58ashburn.camp/event-2/summer-camp-chat/
LOCATION:Ashburn Volunteer Fire and Rescue Department\, 20688 Ashburn Rd\, Ashburn\, VA\, United States
END:VEVENT
BEGIN:VEVENT
DTSTART;TZID=America/New_York:20241112T193000
DTEND;TZID=America/New_York:20241112T203000
DTSTAMP:20260425T083952
CREATED:20241021T212103Z
LAST-MODIFIED:20241112T225613Z
UID:8817-1731439800-1731443400@troop58ashburn.camp
SUMMARY:Board of Review - K.Kandimalla - 1st Class rank
DESCRIPTION:
URL:https://troop58ashburn.camp/event-2/board-of-review-k-kandimalla-1st-class-rank/
LOCATION:St. David’s Episcopal Church\, 43600 Russel Branch Pkwy\, Ashburn\, VA\, 20147\, United States
END:VEVENT
BEGIN:VEVENT
DTSTART;TZID=America/New_York:20241112T193000
DTEND;TZID=America/New_York:20241112T203000
DTSTAMP:20260425T083952
CREATED:20241019T210608Z
LAST-MODIFIED:20241112T225613Z
UID:8785-1731439800-1731443400@troop58ashburn.camp
SUMMARY:Troop Meeting
DESCRIPTION:This is our Troop Meeting.  We meet every week except for the first Tuesday of each month\, which is when the PLC meets.  
URL:https://troop58ashburn.camp/event-2/troop-meeting-216/
LOCATION:Ashburn Volunteer Fire and Rescue Department\, 20688 Ashburn Rd\, Ashburn\, VA\, United States
END:VEVENT
BEGIN:VEVENT
DTSTART;TZID=America/New_York:20241109T090000
DTEND;TZID=America/New_York:20241109T120000
DTSTAMP:20260425T083952
CREATED:20240930T193600Z
LAST-MODIFIED:20241108T223500Z
UID:8719-1731142800-1731153600@troop58ashburn.camp
SUMMARY:Scouting for Food (Food Pickup)
DESCRIPTION:Scouts:If you are not going to the Caving Campout\, please attend Scouting for Food on Saturday. Our territory is significantly larger than in prior years. We need far more Scouts to help than are currently signed up. Do a good turn\, and come help out._____Troop 58\, join us for the Scouting for Food Food Pickup! We have TWO neighborhoods to cover this year\, Goose Creek Village and Lansdowne. Meeting time at Trailside: 9:00 amDeparture time from Trailside: 9:15 amReturn: Approximately 12:00 pm\, possibly earlierAdults: Please indicate if you can drive.If you have any questions\, please contact Mrs. Riordan or Garrett Butler.
URL:https://troop58ashburn.camp/event-2/scouting-for-food-weekend-2/
LOCATION:VA
END:VEVENT
BEGIN:VEVENT
DTSTART;TZID=America/New_York:20241108T173000
DTEND;TZID=America/New_York:20241110T110000
DTSTAMP:20260425T083952
CREATED:20240918T190652Z
LAST-MODIFIED:20241109T223533Z
UID:8686-1731087000-1731236400@troop58ashburn.camp
SUMMARY:Caving Campout
DESCRIPTION:Join us for an Awesome Caving Adventure! We will be exploring Whiting’s Neck Cave near Martinsburg\, WV. Our outfitter Go Adventures will provide instruction on basic caving safety and technical skills\, followed by a guided tour of the cave. Go Adventure will also supply us with a helmet\, headlamp\, and kneepads. The whole experience will last between 3 and 4 hours. The total cost for Caving and Camping is $115.  You can pay via Zelle to Troop58.Zelle@gmail.com This outing is limited to 14 scouts (outfitter’s caving policy)\, so the first 14 scouts to RSVP will be able to attend. All participants must sign a safety waiver.Our campsite will be at the Antietam Creek Campground which is about 20 minutes from the cave.We will meet at Trailside Middle School at 5:30pm on Friday\, November 8 for a 6pm departure.  Make sure to eat dinner prior to departing.As we get closer to the date\, a suggested packing list will be provided.
URL:https://troop58ashburn.camp/event-2/caving-campout-2/
LOCATION:VA
END:VEVENT
BEGIN:VEVENT
DTSTART;TZID=America/New_York:20241108T173000
DTEND;TZID=America/New_York:20241110T110000
DTSTAMP:20260425T083952
CREATED:20240506T211756Z
LAST-MODIFIED:20240917T185739Z
UID:8158-1731087000-1731236400@troop58ashburn.camp
SUMMARY:Caving Campout
DESCRIPTION:Caving campout placeholder
URL:https://troop58ashburn.camp/event-2/caving-campout/
LOCATION:VA
END:VEVENT
BEGIN:VEVENT
DTSTART;TZID=America/New_York:20241105T193000
DTEND;TZID=America/New_York:20241105T210000
DTSTAMP:20260425T083952
CREATED:20241027T215107Z
LAST-MODIFIED:20241105T220524Z
UID:8831-1730835000-1730840400@troop58ashburn.camp
SUMMARY:Troop Committee Meeting
DESCRIPTION:The Troop Committee will meet Tuesday\, November 5 at 7:30pm at Founders HallAgenda topics will include:- Fall Pack visits in light of the newly revised Arrow of Light Bobcat requirement- 2025 Dues & budget- Recharter planning timeline- Financial support to NYLT attendees- Service projects including supporting Scouting for Food- Eagle candidate update- New business – Scoutmaster’s Update
URL:https://troop58ashburn.camp/event-2/troop-committee-meeting-4/
LOCATION:Ashburn Volunteer Fire and Rescue Department\, 20688 Ashburn Rd\, Ashburn\, VA\, United States
END:VEVENT
BEGIN:VEVENT
DTSTART;TZID=America/New_York:20241105T193000
DTEND;TZID=America/New_York:20241105T210000
DTSTAMP:20260425T083952
CREATED:20240506T211755Z
LAST-MODIFIED:20241018T210639Z
UID:8155-1730835000-1730840400@troop58ashburn.camp
SUMMARY:Troop Meeting
DESCRIPTION:This is our Troop Meeting.  We meet every week except for the first Tuesday of each month\, which is when the PLC meets.  
URL:https://troop58ashburn.camp/event-2/troop-meeting-215/
LOCATION:Ashburn Volunteer Fire and Rescue Department\, 20688 Ashburn Rd\, Ashburn\, VA\, United States
END:VEVENT
BEGIN:VEVENT
DTSTART;TZID=America/New_York:20241105T193000
DTEND;TZID=America/New_York:20241105T203000
DTSTAMP:20260425T083952
CREATED:20241019T210608Z
LAST-MODIFIED:20241105T220524Z
UID:8784-1730835000-1730838600@troop58ashburn.camp
SUMMARY:PLC Meeting
DESCRIPTION:PLC Meeting at AVRFD
URL:https://troop58ashburn.camp/event-2/plc-meeting-51/
LOCATION:Ashburn Volunteer Rescue and Fire Dept
END:VEVENT
BEGIN:VEVENT
DTSTART;TZID=America/New_York:20241102T090000
DTEND;TZID=America/New_York:20241102T120000
DTSTAMP:20260425T083952
CREATED:20240930T193559Z
LAST-MODIFIED:20241101T215002Z
UID:8718-1730538000-1730548800@troop58ashburn.camp
SUMMARY:Scouting for Food (Flyer Distribution)
DESCRIPTION:Troop 58\, join us for the Scouting for Food Flyer Distribution! We have TWO neighborhoods to cover this year\, Goose Creek Village and Lansdowne. Meeting time at Trailside: 9:00 amDeparture time from Trailside: 9:15 amReturn: Approximately 12:00 pm\, possibly earlierAdults: Please indicate if you can drive.If you have any questions\, please contact Mrs. Riordan or Garrett Butler.
URL:https://troop58ashburn.camp/event-2/scouting-for-food-weekend-1/
LOCATION:VA
END:VEVENT
BEGIN:VEVENT
DTSTART;TZID=America/New_York:20241029T200000
DTEND;TZID=America/New_York:20241029T210000
DTSTAMP:20260425T083952
CREATED:20241021T212102Z
LAST-MODIFIED:20241029T215029Z
UID:8816-1730232000-1730235600@troop58ashburn.camp
SUMMARY:Board of Review - M.Liu - Tenderfoot rank
DESCRIPTION:
URL:https://troop58ashburn.camp/event-2/board-of-review-m-liu-tenderfoot-rank/
LOCATION:St. David’s Episcopal Church\, 43600 Russel Branch Pkwy\, Ashburn\, VA\, 20147\, United States
END:VEVENT
BEGIN:VEVENT
DTSTART;TZID=America/New_York:20241029T193000
DTEND;TZID=America/New_York:20241029T210000
DTSTAMP:20260425T083952
CREATED:20240506T211754Z
LAST-MODIFIED:20241029T215029Z
UID:8154-1730230200-1730235600@troop58ashburn.camp
SUMMARY:Troop Meeting
DESCRIPTION:This is our Troop Meeting.  We meet every week except for the first Tuesday of each month\, which is when the PLC meets.  
URL:https://troop58ashburn.camp/event-2/troop-meeting-214/
LOCATION:Ashburn Volunteer Fire and Rescue Department\, 20688 Ashburn Rd\, Ashburn\, VA\, United States
END:VEVENT
BEGIN:VEVENT
DTSTART;TZID=America/New_York:20241029T193000
DTEND;TZID=America/New_York:20241029T203000
DTSTAMP:20260425T083952
CREATED:20241021T212102Z
LAST-MODIFIED:20241029T215029Z
UID:8815-1730230200-1730233800@troop58ashburn.camp
SUMMARY:Board of Review - R.Kandikonda - 1st Class rank
DESCRIPTION:
URL:https://troop58ashburn.camp/event-2/board-of-review-r-kandikonda-1st-class-rank-2/
LOCATION:St. David’s Episcopal Church\, 43600 Russel Branch Pkwy\, Ashburn\, VA\, 20147\, United States
END:VEVENT
BEGIN:VEVENT
DTSTART;TZID=America/New_York:20241029T190000
DTEND;TZID=America/New_York:20241029T193000
DTSTAMP:20260425T083952
CREATED:20241013T202306Z
LAST-MODIFIED:20241029T215029Z
UID:8761-1730228400-1730230200@troop58ashburn.camp
SUMMARY:Seabase Parent Meeting
DESCRIPTION:Seabase Parent Meeting before our regularly schedule troop meeting to go over paperwork\, transportation\, and due dates.
URL:https://troop58ashburn.camp/event-2/seabase-parent-meeting-2/
LOCATION:Ashburn Volunteer Fire and Rescue Department\, 20688 Ashburn Rd\, Ashburn\, VA\, United States
END:VEVENT
BEGIN:VEVENT
DTSTART;TZID=America/New_York:20241022T210000
DTEND;TZID=America/New_York:20241022T220000
DTSTAMP:20260425T083952
CREATED:20241008T194954Z
LAST-MODIFIED:20241022T212032Z
UID:8736-1729630800-1729634400@troop58ashburn.camp
SUMMARY:Set tables & chairs for Founders Hall (2nd & 4th Tuesdays)
DESCRIPTION:Request from Ms. Christie @ Founders HallPlease set out 4 rectangular tables + 15 chairs at the end of our weekly Scout meeting for group that rents Founders Hall on 2nd & 4th WednesdaysGiving back to Founders Hall for providing space for our weekly Troop meetings
URL:https://troop58ashburn.camp/event-2/set-tables-chairs-for-founders-hall-2nd-4th-tuesdays-11/
LOCATION:Ashburn Volunteer Fire and Rescue Department\, 20688 Ashburn Rd\, Ashburn\, VA\, United States
END:VEVENT
BEGIN:VEVENT
DTSTART;TZID=America/New_York:20241022T200000
DTEND;TZID=America/New_York:20241022T210000
DTSTAMP:20260425T083952
CREATED:20241012T201113Z
LAST-MODIFIED:20241022T212031Z
UID:8755-1729627200-1729630800@troop58ashburn.camp
SUMMARY:Board of Review - E.Kandikonda - 1st Class rank
DESCRIPTION:
URL:https://troop58ashburn.camp/event-2/board-of-review-e-kandikonda-1st-class-rank/
LOCATION:St. David’s Episcopal Church\, 43600 Russel Branch Pkwy\, Ashburn\, VA\, 20147\, United States
END:VEVENT
BEGIN:VEVENT
DTSTART;TZID=America/New_York:20241022T193000
DTEND;TZID=America/New_York:20241022T210000
DTSTAMP:20260425T083952
CREATED:20240506T211754Z
LAST-MODIFIED:20241022T212031Z
UID:8153-1729625400-1729630800@troop58ashburn.camp
SUMMARY:Troop Meeting
DESCRIPTION:This is our Troop Meeting.  We meet every week except for the first Tuesday of each month\, which is when the PLC meets.  
URL:https://troop58ashburn.camp/event-2/troop-meeting-213/
LOCATION:Ashburn Volunteer Fire and Rescue Department\, 20688 Ashburn Rd\, Ashburn\, VA\, United States
END:VEVENT
BEGIN:VEVENT
DTSTART;TZID=America/New_York:20241022T193000
DTEND;TZID=America/New_York:20241022T203000
DTSTAMP:20260425T083952
CREATED:20241012T201113Z
LAST-MODIFIED:20241022T212031Z
UID:8756-1729625400-1729629000@troop58ashburn.camp
SUMMARY:Board of Review - S.Mann - 1st Class rank
DESCRIPTION:
URL:https://troop58ashburn.camp/event-2/board-of-review-r-kandikonda-1st-class-rank/
LOCATION:St. David’s Episcopal Church\, 43600 Russel Branch Pkwy\, Ashburn\, VA\, 20147\, United States
END:VEVENT
BEGIN:VEVENT
DTSTART;TZID=America/New_York:20241019T073000
DTEND;TZID=America/New_York:20241020T140000
DTSTAMP:20260425T083952
CREATED:20240519T174716Z
LAST-MODIFIED:20241019T210620Z
UID:8340-1729323000-1729432800@troop58ashburn.camp
SUMMARY:BCOLS - Weekend 2
DESCRIPTION:BCOLS Weekend 2
URL:https://troop58ashburn.camp/event-2/bcols-weekend-2/
LOCATION:VA
END:VEVENT
BEGIN:VEVENT
DTSTART;TZID=America/New_York:20241018T173000
DTEND;TZID=America/New_York:20241020T150000
DTSTAMP:20260425T083952
CREATED:20240506T211754Z
LAST-MODIFIED:20241019T210620Z
UID:8152-1729272600-1729436400@troop58ashburn.camp
SUMMARY:Backpacking Campout - Big & Little Schloss - Thinking about Philmont one day?
DESCRIPTION:Weather update- Be Prepared! It will get down to the low to mid30s tonight\, Friday. Bring a knit cap and gloves. Bring enough layers to stay warm but able to remove them into your pack as the temperature rises on Saturday and Sunday.As the old saying goes\, “There is no bad weather\, just bad preparation.”We will meet at Trailside Middle School at 5:30pm on Friday night to drive to the Great North Mountain Trail. We will take a 2-mile night hike to our first campsite climbing 700 feet (HARD).  Be sure to eat dinner before we leave on Friday.  Then\, on Saturday we get up early to hike to a lookout point and watch the sunrise on the top of Little Schloss.  The Saturday hike will be 7 miles to our second campsite.  Finally\, on Sunday we will hike to the summit of Big Schloss before returning to the cars. (10-mile round trip).  This campout is STRENOUS\, so make sure you have the right gear.  We will provide breakfast\, lunch and dinner for Saturday and breakfast and lunch for Sunday during the campout\, but scouts must carry the food we provide.  Additionally\, we will be utilizing the troop’s water filtration equipment and JetBoils.  THERE IS AN OPTION “B” DEPARTING ON SATURDAY MORNING FOR THE YOUNGER\, LESS EXPERIENCED SCOUTS.  THEY WILL MEET UP WITH THE PATROL DEPARTING ON FRIDAY NIGHT AND BACKPACK TO THE TOP OF BIG SCHLOSS ON SUNDAYTOGETHER.  PLEASE INDICATE YOUR REFERENCE IN THE RSVP SECTION.  In the RSVP Please indicate your backpacking menu preference – Creamy Mac N’ Cheese (Veg) or Chili Mac W/BeefPacking List BackpackSleeping pad/bag/pillow – Pack based on the weather!!!Tent (small and lightweight and ideally share weight carrying with you tent buddy)Headlight Rain gear (an emergency poncho ($1.99/Walmart) is great and can cover you and your backpack) Water Bottles (Need 1-2Lts for Friday night/Saturday AM needs then filtering in the backcountry as needed)Hiking boots/clothes and an extra pair of socks – Pack based on the weather!!!Toiletries/Toilet paper (2 ft section rolled up)Bug spray/sunscreenGroup gear that will be provided – JetBoil for cooking\, water filtration equipment & first aid kitPlastic Spork (for eating oatmeal & dinner pouch) Other 10 essentials – compass\, pocket knife\, rope\, fire starter & hand sanitizer\, ONLY BRING WHAT YOU ARE WILLING TO CARRY OVER A 19 MILE TREK!!!
URL:https://troop58ashburn.camp/event-2/hiking-campout/
LOCATION:Great Northern Mountain Trails
END:VEVENT
BEGIN:VEVENT
DTSTART;TZID=America/New_York:20241015T193000
DTEND;TZID=America/New_York:20241015T210000
DTSTAMP:20260425T083952
CREATED:20240506T211754Z
LAST-MODIFIED:20241015T205744Z
UID:8151-1729020600-1729026000@troop58ashburn.camp
SUMMARY:**LOCATION CHANGE**Troop Meeting
DESCRIPTION:This is our Troop Meeting.  We meet every week except for the first Tuesday of each month\, which is when the PLC meets.  
URL:https://troop58ashburn.camp/event-2/troop-meeting-212/
LOCATION:St. David’s Episcopal Church\, 43600 Russel Branch Pkwy\, Ashburn\, VA\, 20147\, United States
END:VEVENT
BEGIN:VEVENT
DTSTART;TZID=America/New_York:20241015T193000
DTEND;TZID=America/New_York:20241015T203000
DTSTAMP:20260425T083952
CREATED:20241012T201112Z
LAST-MODIFIED:20241015T205744Z
UID:8754-1729020600-1729024200@troop58ashburn.camp
SUMMARY:Board of Review - A.Kordish - Star rank
DESCRIPTION:
URL:https://troop58ashburn.camp/event-2/board-of-review-a-kordish-star-rank/
LOCATION:St. David’s Episcopal Church\, 43600 Russel Branch Pkwy\, Ashburn\, VA\, 20147\, United States
END:VEVENT
BEGIN:VEVENT
DTSTART;TZID=America/New_York:20241012T080000
DTEND;TZID=America/New_York:20241013T120000
DTSTAMP:20260425T083952
CREATED:20240828T212034Z
LAST-MODIFIED:20241012T201119Z
UID:8629-1728720000-1728820800@troop58ashburn.camp
SUMMARY:IOLS - Goose Creek
DESCRIPTION:Goose Creek IOLS – https://scoutingevent.com/082-86919
URL:https://troop58ashburn.camp/event-2/iols-goose-creek/
LOCATION:Camp Highroad
END:VEVENT
BEGIN:VEVENT
DTSTART;TZID=America/New_York:20241009T193000
DTEND;TZID=America/New_York:20241009T210000
DTSTAMP:20260425T083952
CREATED:20240506T211753Z
LAST-MODIFIED:20241009T195546Z
UID:8150-1728502200-1728507600@troop58ashburn.camp
SUMMARY:Goose Creek District Roundtable
DESCRIPTION:See https://www.ncacbsa.org/goose-creek/roundtable/ for more info.
URL:https://troop58ashburn.camp/event-2/goose-creek-district-roundtable-71/
LOCATION:Leesburg United Methodist Church\, 107 W Market St\, Leesburg\, VA\, United States
END:VEVENT
END:VCALENDAR