BEGIN:VCALENDAR
VERSION:2.0
PRODID:-//Boy Scout Troop 58 - Ashburn, VA - ECPv6.15.20//NONSGML v1.0//EN
CALSCALE:GREGORIAN
METHOD:PUBLISH
X-ORIGINAL-URL:https://troop58ashburn.camp
X-WR-CALDESC:Events for Boy Scout Troop 58 - Ashburn, VA
REFRESH-INTERVAL;VALUE=DURATION:PT1H
X-Robots-Tag:noindex
X-PUBLISHED-TTL:PT1H
BEGIN:VTIMEZONE
TZID:America/New_York
BEGIN:DAYLIGHT
TZOFFSETFROM:-0500
TZOFFSETTO:-0400
TZNAME:EDT
DTSTART:20250309T070000
END:DAYLIGHT
BEGIN:STANDARD
TZOFFSETFROM:-0400
TZOFFSETTO:-0500
TZNAME:EST
DTSTART:20251102T060000
END:STANDARD
BEGIN:DAYLIGHT
TZOFFSETFROM:-0500
TZOFFSETTO:-0400
TZNAME:EDT
DTSTART:20260308T070000
END:DAYLIGHT
BEGIN:STANDARD
TZOFFSETFROM:-0400
TZOFFSETTO:-0500
TZNAME:EST
DTSTART:20261101T060000
END:STANDARD
BEGIN:DAYLIGHT
TZOFFSETFROM:-0500
TZOFFSETTO:-0400
TZNAME:EDT
DTSTART:20270314T070000
END:DAYLIGHT
BEGIN:STANDARD
TZOFFSETFROM:-0400
TZOFFSETTO:-0500
TZNAME:EST
DTSTART:20271107T060000
END:STANDARD
END:VTIMEZONE
BEGIN:VEVENT
DTSTART;TZID=America/New_York:20260722T070000
DTEND;TZID=America/New_York:20260731T120000
DTSTAMP:20260423T170257
CREATED:20240722T184612Z
LAST-MODIFIED:20250902T201520Z
UID:8523-1784703600-1785499200@troop58ashburn.camp
SUMMARY:2026 National Jamboree @ Summit
DESCRIPTION:National Jamboree dates have been announced. Multiple NCAC contingent troops will be formed.Registration link – https://scoutingevent.com/082-953422026 National JamboreeJuly 22-31\, 2026Summit Bechtel Scout ReservationNew Hope\, West VirginiaJamboree is more than a destination. It’s the adventure of lifetime. There is simply nothing else like it on the planet.What’s a Jamboree? It’s not camp. National Jamboree is 360-degrees of fun\, friends and fellowship with hands-on adventure that takes you places you never thought you’d go and challenge you to try things you never thought you could.It’s the beginning of your own heroes’ journey that will challenge you to go farther than you ever thought possible. You’ll reach deeper and lift yourself higher to become the best version of yourself.The first 160 registrants will receive the 2026 National Jamboree Duffel Bag\, all registrants after 160 will receive a comparably sized duffel bag.PAYMENT SCHEDULE:Deposit:  $300\, Due March 31\, 2025$100 of the deposit is non-refundable.Payment1 $500\, Due May 15\, 2025Payment 2 $500\, Due August 14\, 2025Payment 3 $500\, Due November 30\, 2025Final Paynemt $650\, Due March 1\, 2026All cancelations must be done by 10/01/2025\, after that point refunds are only avaiable for 85% of the NCAC fees. Adult Leader applications Due June 15\, 2025 Leader applications are to be done on the Microsoft form to the right of the screenWe expect to form 6 and a half contingent troops/crews to attend.  We will need four adult leaders for each troop/crew.If you are interested\, please complete the Unit leader Application Form attachedAdults wishing to be considered must pay the Deposit (fully refundable if not selected)National Scholarship Program (round 1 due July 31\, round 2 due November 30)
URL:https://troop58ashburn.camp/event-2/national-jamboree-summit/
LOCATION:Summit Bechtel Reserve\, Glen Jean\, WV\, United States
END:VEVENT
END:VCALENDAR