BEGIN:VCALENDAR
VERSION:2.0
PRODID:-//Boy Scout Troop 58 - Ashburn, VA - ECPv6.15.20//NONSGML v1.0//EN
CALSCALE:GREGORIAN
METHOD:PUBLISH
X-WR-CALNAME:Boy Scout Troop 58 - Ashburn, VA
X-ORIGINAL-URL:https://troop58ashburn.camp
X-WR-CALDESC:Events for Boy Scout Troop 58 - Ashburn, VA
REFRESH-INTERVAL;VALUE=DURATION:PT1H
X-Robots-Tag:noindex
X-PUBLISHED-TTL:PT1H
BEGIN:VTIMEZONE
TZID:America/New_York
BEGIN:DAYLIGHT
TZOFFSETFROM:-0500
TZOFFSETTO:-0400
TZNAME:EDT
DTSTART:20240310T070000
END:DAYLIGHT
BEGIN:STANDARD
TZOFFSETFROM:-0400
TZOFFSETTO:-0500
TZNAME:EST
DTSTART:20241103T060000
END:STANDARD
BEGIN:DAYLIGHT
TZOFFSETFROM:-0500
TZOFFSETTO:-0400
TZNAME:EDT
DTSTART:20250309T070000
END:DAYLIGHT
BEGIN:STANDARD
TZOFFSETFROM:-0400
TZOFFSETTO:-0500
TZNAME:EST
DTSTART:20251102T060000
END:STANDARD
BEGIN:DAYLIGHT
TZOFFSETFROM:-0500
TZOFFSETTO:-0400
TZNAME:EDT
DTSTART:20260308T070000
END:DAYLIGHT
BEGIN:STANDARD
TZOFFSETFROM:-0400
TZOFFSETTO:-0500
TZNAME:EST
DTSTART:20261101T060000
END:STANDARD
END:VTIMEZONE
BEGIN:VEVENT
DTSTART;TZID=America/New_York:20251114T173000
DTEND;TZID=America/New_York:20251116T113000
DTSTAMP:20260425T143051
CREATED:20250208T225328Z
LAST-MODIFIED:20250902T201515Z
UID:9126-1763141400-1763292600@troop58ashburn.camp
SUMMARY:Shooting Sports Campout
DESCRIPTION:Shooting sports campout at Izaak Walton League\, Leesburg.
URL:https://troop58ashburn.camp/event-2/shooting-sports-campout/
LOCATION:Izaak Walton League\, Leesburg
END:VEVENT
BEGIN:VEVENT
DTSTART;TZID=America/New_York:20251115T070000
DTEND;TZID=America/New_York:20251115T080000
DTSTAMP:20260425T143051
CREATED:20250404T192333Z
LAST-MODIFIED:20250902T201515Z
UID:9255-1763190000-1763193600@troop58ashburn.camp
SUMMARY:Youth vs. Hunger
DESCRIPTION:Youth vs. Hunger at St. Theresa’shttps://sainttheresaparish.com/activity/youth-vs-hunger/
URL:https://troop58ashburn.camp/event-2/youth-vs-hunger-4/
LOCATION:St. Theresa’s
END:VEVENT
BEGIN:VEVENT
DTSTART;TZID=America/New_York:20251115T080000
DTEND;TZID=America/New_York:20251116T140000
DTSTAMP:20260425T143051
CREATED:20250816T195959Z
LAST-MODIFIED:20250902T201514Z
UID:9633-1763193600-1763301600@troop58ashburn.camp
SUMMARY:IOLS - Accotink Bay District
DESCRIPTION:https://scoutingevent.com/082-iolssy26WHO:  Scoutmasters\, Assistant Scoutmasters\, Crew Advisors\, Associate Crew Advisors who need to complete their program-specific training requirements\, as well as those other adult volunteers who want to help with the outdoor program activities and basic advancement skills. Order of preference:  Accotink Bay (formerly Colonial) District\, Virginia Central\, NCAC; request for deviation\, contact Al Barber.WHAT:  Instruction designed to hone outdoor skills will use the Patrol methods. It will focus on safety & risk\, unit structure\, event planning\, camping\, Scout craft skills\, Outdoor Ethics\, and outdoor cooking. Partially fulfills the training requirements for Scoutmaster\, Assistant Scoutmaster\, Venture Crew Advisor\, and Assistant Venture Crew Advisor positions.WHEN: Weekend Session starts at 8:30 am\, Saturday and runs through 3:30 pm\, Sunday.COURSE FEE:  $25.00 to cover course costs to be paid at on-line registration Note there are prerequisites for the IOLS course!All participants must have current YPT certification.For IOLS Certification you must have current certifications in:Hazardous WeatherSafety AfloatSafe Swim DefenseThese trainings are all available online at my.scouting.org under the “My Training” tab.Participants must provide documentation of completing the online courses. This can be done by presenting the certificates provided upon course completion OR providing other documentation that you have already completed the courses and hold current certifications.OTHER REQUIRED PAPERWORK:All participants must complete the BSA-Medical-Form-A&B (no physician’s signature is required). This Medical form should be brought to the campout; do not email. NO PAPERWORK = NO TRAININGQuestions may be directed to the Accotink Bay District Training Chair\, Al Barber.
URL:https://troop58ashburn.camp/event-2/iols-accotink-bay-district/
LOCATION:USCG Station
END:VEVENT
END:VCALENDAR