BEGIN:VCALENDAR
VERSION:2.0
PRODID:-//Boy Scout Troop 58 - Ashburn, VA - ECPv6.15.20//NONSGML v1.0//EN
CALSCALE:GREGORIAN
METHOD:PUBLISH
X-ORIGINAL-URL:https://troop58ashburn.camp
X-WR-CALDESC:Events for Boy Scout Troop 58 - Ashburn, VA
REFRESH-INTERVAL;VALUE=DURATION:PT1H
X-Robots-Tag:noindex
X-PUBLISHED-TTL:PT1H
BEGIN:VTIMEZONE
TZID:America/New_York
BEGIN:DAYLIGHT
TZOFFSETFROM:-0500
TZOFFSETTO:-0400
TZNAME:EDT
DTSTART:20240310T070000
END:DAYLIGHT
BEGIN:STANDARD
TZOFFSETFROM:-0400
TZOFFSETTO:-0500
TZNAME:EST
DTSTART:20241103T060000
END:STANDARD
BEGIN:DAYLIGHT
TZOFFSETFROM:-0500
TZOFFSETTO:-0400
TZNAME:EDT
DTSTART:20250309T070000
END:DAYLIGHT
BEGIN:STANDARD
TZOFFSETFROM:-0400
TZOFFSETTO:-0500
TZNAME:EST
DTSTART:20251102T060000
END:STANDARD
BEGIN:DAYLIGHT
TZOFFSETFROM:-0500
TZOFFSETTO:-0400
TZNAME:EDT
DTSTART:20260308T070000
END:DAYLIGHT
BEGIN:STANDARD
TZOFFSETFROM:-0400
TZOFFSETTO:-0500
TZNAME:EST
DTSTART:20261101T060000
END:STANDARD
END:VTIMEZONE
BEGIN:VEVENT
DTSTART;TZID=America/New_York:20250722T193000
DTEND;TZID=America/New_York:20250722T203000
DTSTAMP:20260425T212505
CREATED:20250618T224936Z
LAST-MODIFIED:20250722T180137Z
UID:9394-1753212600-1753216200@troop58ashburn.camp
SUMMARY:Board of Review - M.Liu - Star rank
DESCRIPTION:
URL:https://troop58ashburn.camp/event-2/board-of-review-m-liu-star-rank/
LOCATION:Ashburn Volunteer Fire and Rescue Department\, 20688 Ashburn Rd\, Ashburn\, VA\, United States
END:VEVENT
BEGIN:VEVENT
DTSTART;TZID=America/New_York:20250722T193000
DTEND;TZID=America/New_York:20250722T203000
DTSTAMP:20260425T212505
CREATED:20250717T174649Z
LAST-MODIFIED:20250722T180137Z
UID:9552-1753212600-1753216200@troop58ashburn.camp
SUMMARY:ASPL Election
DESCRIPTION:Our semi-annual election for ASPL scheduled for this day.  If you plan on running for ASPL\, please notify Sam Wall\, Velan Natarajan\, and SM Grabins\, and also come prepared with a speech.
URL:https://troop58ashburn.camp/event-2/aspl-election-4/
LOCATION:Ashburn Volunteer Fire and Rescue Department\, 20688 Ashburn Rd\, Ashburn\, VA\, United States
END:VEVENT
BEGIN:VEVENT
DTSTART;TZID=America/New_York:20250722T193000
DTEND;TZID=America/New_York:20250722T204500
DTSTAMP:20260425T212505
CREATED:20250702T231504Z
LAST-MODIFIED:20250722T180137Z
UID:9490-1753212600-1753217100@troop58ashburn.camp
SUMMARY:Troop Meeting
DESCRIPTION:Troop 58 regular weekly Troop meeting.We meet every week on Tuesday except for the first Tuesday of the month with is reserved for the Patrol Leader’s Council (PLC) for Scouts with elected leadership positions.
URL:https://troop58ashburn.camp/event-2/troop-meeting-239/
LOCATION:Ashburn Volunteer Fire and Rescue Department\, 20688 Ashburn Rd\, Ashburn\, VA\, United States
END:VEVENT
BEGIN:VEVENT
DTSTART;TZID=America/New_York:20250722T194500
DTEND;TZID=America/New_York:20250722T204500
DTSTAMP:20260425T212505
CREATED:20250702T231504Z
LAST-MODIFIED:20250722T180138Z
UID:9491-1753213500-1753217100@troop58ashburn.camp
SUMMARY:Emergency Simulation
DESCRIPTION:Troop 58 will be hosting an emergency simulation during our regular Tuesday Troop meeting.The simulation will be lead by a Troop 58 parent who is also an EMT with Sterling Volunteer Rescue Squad.The purpose of the emergency project required for the Emergency Preparedness merit badge is to give Scouts practical\, hands-on experience in responding to emergencies by participating in a real emergency service project.  This requirement is designed to help Scouts apply what they’ve learned about emergency preparedness in a simulated setting\, reinforcing their ability to act effectively and safely during actual emergencies.This simulation is designed to fulfill the requirement 9d of Emergency Preparedness Merit Badge.You may participate in the simulation and earn credit for requirement 9d even you have not started the merit badge at the time of the event.
URL:https://troop58ashburn.camp/event-2/emergency-simulation/
LOCATION:Ashburn Volunteer Fire and Rescue Department\, 20688 Ashburn Rd\, Ashburn\, VA\, United States
END:VEVENT
END:VCALENDAR