BEGIN:VCALENDAR
VERSION:2.0
PRODID:-//Boy Scout Troop 58 - Ashburn, VA - ECPv6.15.20//NONSGML v1.0//EN
CALSCALE:GREGORIAN
METHOD:PUBLISH
X-ORIGINAL-URL:https://troop58ashburn.camp
X-WR-CALDESC:Events for Boy Scout Troop 58 - Ashburn, VA
REFRESH-INTERVAL;VALUE=DURATION:PT1H
X-Robots-Tag:noindex
X-PUBLISHED-TTL:PT1H
BEGIN:VTIMEZONE
TZID:America/New_York
BEGIN:DAYLIGHT
TZOFFSETFROM:-0500
TZOFFSETTO:-0400
TZNAME:EDT
DTSTART:20240310T070000
END:DAYLIGHT
BEGIN:STANDARD
TZOFFSETFROM:-0400
TZOFFSETTO:-0500
TZNAME:EST
DTSTART:20241103T060000
END:STANDARD
BEGIN:DAYLIGHT
TZOFFSETFROM:-0500
TZOFFSETTO:-0400
TZNAME:EDT
DTSTART:20250309T070000
END:DAYLIGHT
BEGIN:STANDARD
TZOFFSETFROM:-0400
TZOFFSETTO:-0500
TZNAME:EST
DTSTART:20251102T060000
END:STANDARD
BEGIN:DAYLIGHT
TZOFFSETFROM:-0500
TZOFFSETTO:-0400
TZNAME:EDT
DTSTART:20260308T070000
END:DAYLIGHT
BEGIN:STANDARD
TZOFFSETFROM:-0400
TZOFFSETTO:-0500
TZNAME:EST
DTSTART:20261101T060000
END:STANDARD
END:VTIMEZONE
BEGIN:VEVENT
DTSTART;TZID=America/New_York:20250701T193000
DTEND;TZID=America/New_York:20250701T203000
DTSTAMP:20260425T212506
CREATED:20250629T231502Z
LAST-MODIFIED:20250701T231509Z
UID:9430-1751398200-1751401800@troop58ashburn.camp
SUMMARY:In-person Troop Committee Meeting
DESCRIPTION:Agenda: – Summer Camp review- Review New Scout campout @ Bears Den- Support for upcoming campouts -July – Ropes/whitewaterAugust – Lake (Codorus State Park or Pine Grove Furnace)September – Gettysburg- Support for PLC Annual Planning Meeting- High Adventure – 2026 Okpik2026 National Jamboree2027 Northern Tier?2028 Philmont?2028 World JamboreeAdvancement Report – Kathleen ranksSeptember COH & Pot LuckTreasurer’s Report – CharlesTroop Equipment –  trailer cleanup reportOA Report – Summer Ordeal- Chaplain’s  report  Service project planning New Business –Scoutmaster Report –  
URL:https://troop58ashburn.camp/event-2/in-person-troop-committee-meeting/
LOCATION:Ashburn Volunteer Fire and Rescue Department\, 20688 Ashburn Rd\, Ashburn\, VA\, United States
END:VEVENT
BEGIN:VEVENT
DTSTART;TZID=America/New_York:20250701T193000
DTEND;TZID=America/New_York:20250701T204500
DTSTAMP:20260425T212506
CREATED:20250701T231458Z
LAST-MODIFIED:20250701T231510Z
UID:9436-1751398200-1751402700@troop58ashburn.camp
SUMMARY:Patrol Leader's Council (PLC)
DESCRIPTION:Monthly meeting of the Patrol Leader’s Council (Scouts who hold elected leadership positions).Uniforms not necessary.
URL:https://troop58ashburn.camp/event-2/patrol-leaders-council-plc/
LOCATION:Ashburn Volunteer Fire and Rescue Department\, 20688 Ashburn Rd\, Ashburn\, VA\, United States
END:VEVENT
END:VCALENDAR