BEGIN:VCALENDAR
VERSION:2.0
PRODID:-//Boy Scout Troop 58 - Ashburn, VA - ECPv6.15.20//NONSGML v1.0//EN
CALSCALE:GREGORIAN
METHOD:PUBLISH
X-WR-CALNAME:Boy Scout Troop 58 - Ashburn, VA
X-ORIGINAL-URL:https://troop58ashburn.camp
X-WR-CALDESC:Events for Boy Scout Troop 58 - Ashburn, VA
REFRESH-INTERVAL;VALUE=DURATION:PT1H
X-Robots-Tag:noindex
X-PUBLISHED-TTL:PT1H
BEGIN:VTIMEZONE
TZID:America/New_York
BEGIN:DAYLIGHT
TZOFFSETFROM:-0500
TZOFFSETTO:-0400
TZNAME:EDT
DTSTART:20240310T070000
END:DAYLIGHT
BEGIN:STANDARD
TZOFFSETFROM:-0400
TZOFFSETTO:-0500
TZNAME:EST
DTSTART:20241103T060000
END:STANDARD
BEGIN:DAYLIGHT
TZOFFSETFROM:-0500
TZOFFSETTO:-0400
TZNAME:EDT
DTSTART:20250309T070000
END:DAYLIGHT
BEGIN:STANDARD
TZOFFSETFROM:-0400
TZOFFSETTO:-0500
TZNAME:EST
DTSTART:20251102T060000
END:STANDARD
BEGIN:DAYLIGHT
TZOFFSETFROM:-0500
TZOFFSETTO:-0400
TZNAME:EDT
DTSTART:20260308T070000
END:DAYLIGHT
BEGIN:STANDARD
TZOFFSETFROM:-0400
TZOFFSETTO:-0500
TZNAME:EST
DTSTART:20261101T060000
END:STANDARD
END:VTIMEZONE
BEGIN:VEVENT
DTSTART;TZID=America/New_York:20250629T000000
DTEND;TZID=America/New_York:20250629T010000
DTSTAMP:20260425T231139
CREATED:20250619T225950Z
LAST-MODIFIED:20250628T231523Z
UID:9401-1751155200-1751158800@troop58ashburn.camp
SUMMARY:Due Sunday\, 6/29\, Order & pay $10 for “musket” for Gettysburg campout by June 29th
DESCRIPTION:Sunday\, 6/29\, is the last day to order & pay for “muskets”- If you intend on going on the September campout to Gettysburg and want a simulated ‘musket’ for the Saturday activities please accept this invite and Zelle $10 (Troop58.Zelle@gmail.com) to Troop 58 by June 29th. Only paid orders will be honored. To fulfill the orders\, we must submit the orders to the New Birth of Freedom Council at that time. We will pick up the “muskets” when we arrive at the campout in September.For those with woodworking skills\, you can craft your own musket. Templates and instructions for those who wish to make their own from scratch are available at the link below:    ◦    5′ replica template (https://newbirthoffreedom.org/wp-content/uploads/2025/02/Mock-Springfield-Rifle-5-Foot-Template.pdf)Note: The campout fee is likely to be $60 in addition to this $10 order. Sign up for the campout itself is a separate invite.
URL:https://troop58ashburn.camp/event-2/order-pay-10-for-musket-for-gettysburg-campout-by-june-29th/
LOCATION:Gettysburg
END:VEVENT
END:VCALENDAR