BEGIN:VCALENDAR
VERSION:2.0
PRODID:-//Boy Scout Troop 58 - Ashburn, VA - ECPv6.15.20//NONSGML v1.0//EN
CALSCALE:GREGORIAN
METHOD:PUBLISH
X-ORIGINAL-URL:https://troop58ashburn.camp
X-WR-CALDESC:Events for Boy Scout Troop 58 - Ashburn, VA
REFRESH-INTERVAL;VALUE=DURATION:PT1H
X-Robots-Tag:noindex
X-PUBLISHED-TTL:PT1H
BEGIN:VTIMEZONE
TZID:America/New_York
BEGIN:DAYLIGHT
TZOFFSETFROM:-0500
TZOFFSETTO:-0400
TZNAME:EDT
DTSTART:20240310T070000
END:DAYLIGHT
BEGIN:STANDARD
TZOFFSETFROM:-0400
TZOFFSETTO:-0500
TZNAME:EST
DTSTART:20241103T060000
END:STANDARD
BEGIN:DAYLIGHT
TZOFFSETFROM:-0500
TZOFFSETTO:-0400
TZNAME:EDT
DTSTART:20250309T070000
END:DAYLIGHT
BEGIN:STANDARD
TZOFFSETFROM:-0400
TZOFFSETTO:-0500
TZNAME:EST
DTSTART:20251102T060000
END:STANDARD
BEGIN:DAYLIGHT
TZOFFSETFROM:-0500
TZOFFSETTO:-0400
TZNAME:EDT
DTSTART:20260308T070000
END:DAYLIGHT
BEGIN:STANDARD
TZOFFSETFROM:-0400
TZOFFSETTO:-0500
TZNAME:EST
DTSTART:20261101T060000
END:STANDARD
END:VTIMEZONE
BEGIN:VEVENT
DTSTART;TZID=America/New_York:20250622T100000
DTEND;TZID=America/New_York:20250628T110000
DTSTAMP:20260425T231313
CREATED:20250112T210503Z
LAST-MODIFIED:20250627T231508Z
UID:9032-1750586400-1751108400@troop58ashburn.camp
SUMMARY:Troop 58 Summer Camp @ T Brady Saunders Scout Camp
DESCRIPTION:We will be attending Summer Camp from June 22 to June 28 at the following location:Camp T. Brady Saunders1723 Maidens RdMaidens\, VA 231021) RSVP in Trooptrack 2) Fill out the registration form https://forms.gle/eagy2wX8j9xSx58X8 3) Pay your dues $490 per scout . You\ncan pay in one full payment or split it into two payments: ($250 now\, $240 by May 1)please complete your payment through Zelle (Troop58.Zelle@gmail.com) or by personal check.In either case put ‘Scout Name – Summer Camp 2025’ in memo line.  
URL:https://troop58ashburn.camp/event-2/hold-troop-58-summer-camp/
LOCATION:TBD\, 2560 King Arthur Boulevard\, Lewisville\, TX\, 75056\, United States
END:VEVENT
BEGIN:VEVENT
DTSTART;TZID=America/New_York:20250622T103000
DTEND;TZID=America/New_York:20250622T113000
DTSTAMP:20260425T231313
CREATED:20250617T224549Z
LAST-MODIFIED:20250621T230011Z
UID:9388-1750588200-1750591800@troop58ashburn.camp
SUMMARY:Muster for Summer Camp
DESCRIPTION:Scouts\,Please gather at Trailside Middle School at 10:30am to depart for Summer Camp.  We plan to load gear into the trailer and depart by 11:00am.Please bring either a packed lunch or money to purchase lunch on the way.  The first meal available at camp will be Dinner Sunday night.Uniforms:Remember Troop 58 always wears Class A uniforms for travel.  You will also need your Class A for morning flags and for Dinner each evening.Medication:If you need to take medication during the trip please ensure medication is clearly labelled with Scout name and dosage and (IMPORTANT) provide a separate 3×5 index card with clearly written instructions.  This card is kept separately from the medication and is used to plan and track administration.
URL:https://troop58ashburn.camp/event-2/muster-for-summer-camp/
LOCATION:Trailside Middle School\, Ashburn\, VA\, 20147\, United States
END:VEVENT
END:VCALENDAR