BEGIN:VCALENDAR
VERSION:2.0
PRODID:-//Boy Scout Troop 58 - Ashburn, VA - ECPv6.15.20//NONSGML v1.0//EN
CALSCALE:GREGORIAN
METHOD:PUBLISH
X-ORIGINAL-URL:https://troop58ashburn.camp
X-WR-CALDESC:Events for Boy Scout Troop 58 - Ashburn, VA
REFRESH-INTERVAL;VALUE=DURATION:PT1H
X-Robots-Tag:noindex
X-PUBLISHED-TTL:PT1H
BEGIN:VTIMEZONE
TZID:America/New_York
BEGIN:DAYLIGHT
TZOFFSETFROM:-0500
TZOFFSETTO:-0400
TZNAME:EDT
DTSTART:20240310T070000
END:DAYLIGHT
BEGIN:STANDARD
TZOFFSETFROM:-0400
TZOFFSETTO:-0500
TZNAME:EST
DTSTART:20241103T060000
END:STANDARD
BEGIN:DAYLIGHT
TZOFFSETFROM:-0500
TZOFFSETTO:-0400
TZNAME:EDT
DTSTART:20250309T070000
END:DAYLIGHT
BEGIN:STANDARD
TZOFFSETFROM:-0400
TZOFFSETTO:-0500
TZNAME:EST
DTSTART:20251102T060000
END:STANDARD
BEGIN:DAYLIGHT
TZOFFSETFROM:-0500
TZOFFSETTO:-0400
TZNAME:EDT
DTSTART:20260308T070000
END:DAYLIGHT
BEGIN:STANDARD
TZOFFSETFROM:-0400
TZOFFSETTO:-0500
TZNAME:EST
DTSTART:20261101T060000
END:STANDARD
END:VTIMEZONE
BEGIN:VEVENT
DTSTART;TZID=America/New_York:20250610T183000
DTEND;TZID=America/New_York:20250610T193000
DTSTAMP:20260425T231149
CREATED:20250516T214716Z
LAST-MODIFIED:20250610T224457Z
UID:9331-1749580200-1749583800@troop58ashburn.camp
SUMMARY:Eagle Alumni Gathering
DESCRIPTION:Annual gathering for our Eagle Scouts (only) – past & present.
URL:https://troop58ashburn.camp/event-2/eagle-alumni-gathering-2/
LOCATION:Mr. Hall’s deck @ 21226 Windmill Drive\, Ashburn\, VA\, United States
END:VEVENT
BEGIN:VEVENT
DTSTART;TZID=America/New_York:20250610T190000
DTEND;TZID=America/New_York:20250610T193000
DTSTAMP:20260425T231149
CREATED:20250606T221536Z
LAST-MODIFIED:20250610T224457Z
UID:9366-1749582000-1749583800@troop58ashburn.camp
SUMMARY:Summer Camp Parents' Meeting
DESCRIPTION:If you are attending summer camp\, please make every attempt to attend this brief meeting before the weekly meeting at Mr. Hall’s – we will discuss logistics and answer any open questions. We have a few topics that we need to cover since summer camp is quickly approaching\, including our transportation plan for the week. Please RSVP so we know you have received this and we look forward to seeing you there! 
URL:https://troop58ashburn.camp/event-2/summer-camp-parents-meeting/
LOCATION:Mr. Hall’s Backyard\, 21226 Windmill Dr\, Ashburn\, VA\, United States
END:VEVENT
BEGIN:VEVENT
DTSTART;TZID=America/New_York:20250610T193000
DTEND;TZID=America/New_York:20250610T203000
DTSTAMP:20260425T231149
CREATED:20250111T210539Z
LAST-MODIFIED:20250527T215958Z
UID:8989-1749583800-1749587400@troop58ashburn.camp
SUMMARY:Troop Meeting
DESCRIPTION:This is our Troop Meeting.  We meet every week except for the first Tuesday of each month\, which is when the PLC meets.  
URL:https://troop58ashburn.camp/event-2/troop-meeting-235/
LOCATION:Ashburn Volunteer Fire and Rescue Department\, 20688 Ashburn Rd\, Ashburn\, VA\, United States
END:VEVENT
BEGIN:VEVENT
DTSTART;TZID=America/New_York:20250610T193000
DTEND;TZID=America/New_York:20250610T210000
DTSTAMP:20260425T231149
CREATED:20250528T220024Z
LAST-MODIFIED:20250610T224457Z
UID:9351-1749583800-1749589200@troop58ashburn.camp
SUMMARY:Special Event for All:  Annual Senior Farewell / Sendoff
DESCRIPTION:In lieu of\, our usual troop meeting\, you are all invited to Mr. Hall’s epic backyard for a final campfire with skits\, songs\, speeches\, and cake to celebrate the accomplishments of our fine scouts who are graduating this year and to wish them well on their next great adventure in life!  Please note that we may have some special visitors from years past! Please wear your class Bs and also bring a lawn chair\, bug spray\, headlamp\, and a water bottle.  Parents – you are welcome to stay\, or drop your son off and return. If you are going to stay\, please park on Windmill Drive (not on the private drive).See you there! 
URL:https://troop58ashburn.camp/event-2/special-event-for-all-annual-senior-farewell-sendoff/
LOCATION:Hall Family Residence (Backyard of 21226 Windmill Drive\, Ashburn)
END:VEVENT
END:VCALENDAR